{"text_format":"3","workbook":"xlsx","n_sheets":1,"sheets":["Производственная программа"],"not_rendered":{"macros":1,"external_links":1,"defined_names":68},"read":"whole","date_system":"1900"}

{"sheet":"Производственная программа","index":0,"n_rows":67,"n_cols":54,"rows_kept":67,"merged":[[0,1,0,41],[6,1,6,10],[7,1,8,1],[7,3,8,3],[7,4,8,4],[7,6,7,7],[7,8,8,8],[7,9,8,9],[7,10,8,10],[7,11,7,22],[7,27,8,27],[7,28,8,28],[7,29,8,29],[7,30,7,41],[7,42,7,53],[63,1,63,3],[64,1,64,3],[65,1,65,3],[66,1,66,3]]}
[null,"ПРОИЗВОДСТВЕННАЯ ПРОГРАММА 2022-2028"]
[{"$nulls":38}," - Начало СМР"]
[{"$nulls":11},"●"," - Внутреннее согласование  архитектурно-градостроительной концепции застройки в АБД проведено;",{"$nulls":10},"▪","  - разрешения на строительство получено;",{"$nulls":13}," - СМР"]
[{"$nulls":11},"●"," -В УАиГ получено согласование архитектурной концепции с эскизом застройки ;",{"$nulls":10},"▪"," - старт продаж",{"$nulls":13}," - Производство панелей"]
[{"$nulls":11},"●"," - Эскизный проект (1 этап) согласован;",{"$nulls":10},"▪"," - получен ЗОС;",{"$nulls":13}," - Ввод объекта в эксплуатацию"]
[{"$nulls":11},"●"," - Утверждение отклонений от предельных параметров разрешенного строительства;",{"$nulls":10},"▪"," - зарегистрирована превая квартира на покупателя/раскрыты эскроу счета;",{"$nulls":12},"ДДУ"," - Передача ключей по ДДУ"]
[null,"ПРОИЗВОДСТВЕННАЯ ПРОГРАММА 2023 Слаботочные системы"]
["№ п/п","№ п/п","Код по 1C","Наименование объектов","Общая площадь здания, м2","Срок СМР (мес.)","Проектировщик",null,"Ген. Подрядчик","Срок РНС до","Передача ключей по ДДУ (обяз-ва)",2021,{"$nulls":11},"КПД 2021","ВВОД 2021","ЗАДЕЛ 2021","Проектирование 2021","Наличие проекта","Общий объем по проекту","Ед.изм.",2023,{"$nulls":11},2024]
[{"$nulls":5}," РНС - Ввод","АГК-ЭП","ЭП-Эксперт",{"$nulls":3},"янв","фев","мар","апр","май","июн","июл","авг","сен","окт","ноя","дек","м3","м2","м2","м2",{"$nulls":3},"янв","фев","мар","апр","май","июн","июл","авг","сен","окт","ноя","дек","янв","фев","мар","апр","май","июн","июл","авг","сен","окт","ноя","дек"]
["1","1","2","2",null,112,null,null,33,34,35,36,37,38,39,40,41,42,43,44,45,46,47,48,49,50,51,{"$nulls":3},68,69,70,71,72,73,74,75,76,77,78,79,68,69,70,71,72,73,74,75,76,77,78,79]
[10,"1.3","СГ00.09.0.00.0","Жилой комплекс \"Солнечный город\" ПК-9",{"$f":"E12","v":0},{"$nulls":6},{"$f":"SUM(L12:L12)","v":0},0,0,0,0,0,0,0,0,0,0,0,0,0,0,0,{"$nulls":3},{"$f":"SUM(AE12:AE12)","v":0},0,0,0,0,0,0,0,0,0,0,0,0,0,0,0,0,0,0,0,0,0,0,0]
[11,"1.3.1","СГ00.09.2.00.0","Жилой комплекс \"Солнечный город\" ПК-9 Адм здание 17-3",null,{"$f":"(#REF!-#REF!)/30","v":{"$error":"#REF!"}},{"$nulls":17},{"$f":"SUM(L12:W12)","v":0}]
[12,null,"СД00.00.0.00.0","ЖК \"Светлая долина\"",{"$f":"SUM(,#REF!,#REF!,E14,#REF!,E23)","v":{"$error":"#REF!"}}]
[30,null,"СД00.03.0.00.0","ЖК \"Светлая Долина\" ПК-3",{"$f":"SUM(E15:E21)","v":{"v":65471.65999999999,"d":"65,472 "}},{"$nulls":5},{"$f":"MAX(K15:K21)","v":"2025-06-30"},{"$f":"SUM(L15,L17,L19,L21)","v":0},{"$f":"SUM(M15,M17,M19,M21)","v":0},{"$f":"SUM(N15,N17,N19,N21)","v":0},{"$f":"SUM(O15,O17,O19,O21)","v":0},{"$f":"SUM(P15,P17,P19,P21)","v":0},{"$f":"SUM(Q15,Q17,Q19,Q21)","v":0},{"$f":"SUM(R15,R17,R19,R21)","v":0},{"$f":"SUM(S15,S17,S19,S21)","v":0},{"$f":"SUM(T15,T17,T19,T21)","v":0},{"$f":"SUM(U15,U17,U19,U21)","v":0},{"$f":"SUM(V15,V17,V19,V21)","v":0},{"$f":"SUM(W15,W17,W19,W21)","v":0},{"$f":"SUM(X15,X17,X19,X21)","v":0},{"$f":"SUM(Y15,Y17,Y19,Y21)","v":{"$error":"#REF!"}},{"$f":"SUM(Z15,Z17,Z19,Z21)","v":{"$error":"#REF!"}},{"$f":"SUM(AA15,AA17,AA19,AA21)","v":{"$error":"#REF!"}},{"$nulls":3},{"$f":"SUM(AE15,AE17,AE19,AE21)","v":0},{"$f":"SUM(AF15,AF17,AF19,AF21)","v":0},{"$f":"SUM(AG15,AG17,AG19,AG21)","v":0},{"$f":"SUM(AH15,AH17,AH19,AH21)","v":0},{"$f":"SUM(AI15,AI17,AI19,AI21)","v":0},{"$f":"SUM(AJ15,AJ17,AJ19,AJ21)","v":0},{"$f":"SUM(AK15,AK17,AK19,AK21)","v":0},{"$f":"SUM(AL15,AL17,AL19,AL21)","v":0},{"$f":"SUM(AM15,AM17,AM19,AM21)","v":0},{"$f":"SUM(AN15,AN17,AN19,AN21)","v":0},{"$f":"SUM(AO15,AO17,AO19,AO21)","v":0},{"$f":"SUM(AP15,AP17,AP19,AP21)","v":0},{"$f":"SUM(AQ15,AQ17,AQ19,AQ21)","v":0},{"$f":"SUM(AR15,AR17,AR19,AR21)","v":0},{"$f":"SUM(AS15,AS17,AS19,AS21)","v":0},{"$f":"SUM(AT15,AT17,AT19,AT21)","v":0},{"$f":"SUM(AU15,AU17,AU19,AU21)","v":0},{"$f":"SUM(AV15,AV17,AV19,AV21)","v":0},{"$f":"SUM(AW15,AW17,AW19,AW21)","v":0},{"$f":"SUM(AX15,AX17,AX19,AX21)","v":0},{"$f":"SUM(AY15,AY17,AY19,AY21)","v":0},{"$f":"SUM(AZ15,AZ17,AZ19,AZ21)","v":0},{"$f":"SUM(BA15,BA17,BA19,BA21)","v":0},{"$f":"SUM(BB15,BB17,BB19,BB21)","v":0}]
[31,null,"СД00.03.1.03.1","ЖК \"Светлая Долина\" ПК-3 ж/д 3-1",{"v":30508.82,"d":"30,509 "},{"$f":"(#REF!-#REF!)/30","v":{"$error":"#REF!"}},"АБ-1","АБ-1","Не определен",null,"2025-06-30",{"$nulls":3},"●",null,null,"●",{"$nulls":3},"●",null,{"$f":"SUM(L15:W15)","v":0},{"$f":"IF(YEAR(#REF!)=L$8,#REF!,0)","v":{"$error":"#REF!"}},{"$f":"IF(AND(YEAR(#REF!)<=L$8,YEAR(#REF!)>L$8),#REF!,0)","v":{"$error":"#REF!"}},{"$f":"#REF!","v":{"$error":"#REF!"}},"есть"]
[{"$nulls":3},"Запорная арматура",{"$nulls":24},4764,"шт"]
[32,null,"СД00.03.1.03.2","ЖК \"Светлая Долина\" ПК-3 ж/д 3-2",{"v":7459.91,"d":"7,460 "},{"$f":"(#REF!-#REF!)/30","v":{"$error":"#REF!"}},"АБ-1","АБ-1","АБСт",null,"2025-06-30",{"$nulls":3},"●",null,null,"●",{"$nulls":3},"●",null,{"$f":"SUM(L17:W17)","v":0},{"$f":"IF(YEAR(#REF!)=L$8,#REF!,0)","v":{"$error":"#REF!"}},{"$f":"IF(AND(YEAR(#REF!)<=L$8,YEAR(#REF!)>L$8),#REF!,0)","v":{"$error":"#REF!"}},{"$f":"#REF!","v":{"$error":"#REF!"}},"нет проекта"]
[{"$nulls":3},"Запорная арматура",{"$nulls":24},1432,"шт"]
[34,null,"СД00.03.1.03.3","ЖК \"Светлая Долина\" ПК-3 ж/д 3-3",{"v":17139.98,"d":"17,140 "},{"$f":"(#REF!-#REF!)/30","v":{"$error":"#REF!"}},"АБ-1","АБ-1","АБСт",null,"2025-06-30",{"$nulls":3},"●",null,null,"●",{"$nulls":3},"●",null,{"$f":"SUM(L19:W19)","v":0},{"$f":"IF(YEAR(#REF!)=L$8,#REF!,0)","v":{"$error":"#REF!"}},{"$f":"IF(AND(YEAR(#REF!)<=L$8,YEAR(#REF!)>L$8),#REF!,0)","v":{"$error":"#REF!"}},{"$f":"#REF!","v":{"$error":"#REF!"}},"нет проекта"]
[{"$nulls":3},"Запорная арматура",{"$nulls":24},2159,"шт"]
[36,null,"СД00.03.1.03.4","ЖК \"Светлая Долина\" ПК-3 ж/д 3-4",{"v":10362.95,"d":"10,363 "},{"$f":"(#REF!-#REF!)/30","v":{"$error":"#REF!"}},"АБ-1","АБ-1","АБСт",null,"2025-06-30",{"$nulls":3},"●",null,null,"●",{"$nulls":3},"●",null,{"$f":"SUM(L21:W21)","v":0},{"$f":"IF(YEAR(#REF!)=L$8,#REF!,0)","v":{"$error":"#REF!"}},{"$f":"IF(AND(YEAR(#REF!)<=L$8,YEAR(#REF!)>L$8),#REF!,0)","v":{"$error":"#REF!"}},{"$f":"#REF!","v":{"$error":"#REF!"}},"нет проекта"]
[{"$nulls":3},"Запорная арматура",{"$nulls":24},1433,"шт"]
[40,null,"СД00.03.0.00.0","ЖК \"Светлая Долина\" ПК-5",{"$f":"E24","v":{"v":16356.92,"d":"16,357 "}}]
[41,null,"СД00.05.3.05.1","ЖК \"Светлая долина\" ПК-5 паркинг 5-1 на 506 м/м ",{"v":16356.92,"d":"16,357 "},{"$f":"(#REF!-#REF!)/30","v":{"$error":"#REF!"}},"АБ-1","ООО \"СтандартПроект\"","АБСт",null,"2023-09-30",{"$nulls":11},"▪",{"$f":"SUM(L24:W24)","v":0},{"$f":"IF(YEAR(#REF!)=L$8,#REF!,0)","v":{"$error":"#REF!"}},{"$f":"IF(AND(YEAR(#REF!)<=L$8,YEAR(#REF!)>L$8),#REF!,0)","v":{"$error":"#REF!"}},{"$f":"#REF!","v":{"$error":"#REF!"}},"есть"]
[{"$nulls":3},"Запорная арматура",{"$nulls":24},164,"шт"]
[12,null,"СД00.00.0.00.0","ЖК \"Седьмое небо\" Мой ритм",{"$f":"SUM(,#REF!,#REF!,E27,#REF!,E42)","v":{"$error":"#REF!"}}]
[30,null,"СД00.03.0.00.0","\"Седьмое небо\" ПК-5  ",{"$f":"SUM(E28:E38)","v":{"$error":"#REF!"}},{"$nulls":5},{"$f":"MAX(K28:K38)","v":"2025-06-30"},{"$f":"SUM(L28,L33,#REF!,#REF!)","v":{"$error":"#REF!"}},{"$f":"SUM(M28,M33,#REF!,#REF!)","v":{"$error":"#REF!"}},{"$f":"SUM(N28,N33,#REF!,#REF!)","v":{"$error":"#REF!"}},{"$f":"SUM(O28,O33,#REF!,#REF!)","v":{"$error":"#REF!"}},{"$f":"SUM(P28,P33,#REF!,#REF!)","v":{"$error":"#REF!"}},{"$f":"SUM(Q28,Q33,#REF!,#REF!)","v":{"$error":"#REF!"}},{"$f":"SUM(R28,R33,#REF!,#REF!)","v":{"$error":"#REF!"}},{"$f":"SUM(S28,S33,#REF!,#REF!)","v":{"$error":"#REF!"}},{"$f":"SUM(T28,T33,#REF!,#REF!)","v":{"$error":"#REF!"}},{"$f":"SUM(U28,U33,#REF!,#REF!)","v":{"$error":"#REF!"}},{"$f":"SUM(V28,V33,#REF!,#REF!)","v":{"$error":"#REF!"}},{"$f":"SUM(W28,W33,#REF!,#REF!)","v":{"$error":"#REF!"}},{"$f":"SUM(X28,X33,#REF!,#REF!)","v":{"$error":"#REF!"}},{"$f":"SUM(Y28,Y33,#REF!,#REF!)","v":{"$error":"#REF!"}},{"$f":"SUM(Z28,Z33,#REF!,#REF!)","v":{"$error":"#REF!"}},{"$f":"SUM(AA28,AA33,#REF!,#REF!)","v":{"$error":"#REF!"}}]
[31,null,"СД00.03.1.03.1","жилой дом №5-1, жилой дом №5-2",{"v":30508.82,"d":"30,509 "},{"$f":"(#REF!-#REF!)/30","v":{"$error":"#REF!"}},"АБ-1","АБ-1","Не определен",null,"2025-06-30",{"$nulls":3},"●",null,null,"●",{"$nulls":3},"●",null,{"$f":"SUM(L28:W28)","v":0},{"$f":"IF(YEAR(#REF!)=L$8,#REF!,0)","v":{"$error":"#REF!"}},{"$f":"IF(AND(YEAR(#REF!)<=L$8,YEAR(#REF!)>L$8),#REF!,0)","v":{"$error":"#REF!"}},{"$f":"#REF!","v":{"$error":"#REF!"}},"нет проекта"]
[{"$nulls":3},"Запорная арматура"]
[30,null,"СД00.03.0.00.0","\"Седьмое небо\" ПК-10 ",{"$f":"SUM(E31:E42)","v":{"$error":"#REF!"}},{"$nulls":5},{"$f":"MAX(K31:K42)","v":"2025-06-30"},{"$f":"SUM(L31,L36,#REF!,#REF!)","v":{"$error":"#REF!"}},{"$f":"SUM(M31,M36,#REF!,#REF!)","v":{"$error":"#REF!"}},{"$f":"SUM(N31,N36,#REF!,#REF!)","v":{"$error":"#REF!"}},{"$f":"SUM(O31,O36,#REF!,#REF!)","v":{"$error":"#REF!"}},{"$f":"SUM(P31,P36,#REF!,#REF!)","v":{"$error":"#REF!"}},{"$f":"SUM(Q31,Q36,#REF!,#REF!)","v":{"$error":"#REF!"}},{"$f":"SUM(R31,R36,#REF!,#REF!)","v":{"$error":"#REF!"}},{"$f":"SUM(S31,S36,#REF!,#REF!)","v":{"$error":"#REF!"}},{"$f":"SUM(T31,T36,#REF!,#REF!)","v":{"$error":"#REF!"}},{"$f":"SUM(U31,U36,#REF!,#REF!)","v":{"$error":"#REF!"}},{"$f":"SUM(V31,V36,#REF!,#REF!)","v":{"$error":"#REF!"}},{"$f":"SUM(W31,W36,#REF!,#REF!)","v":{"$error":"#REF!"}},{"$f":"SUM(X31,X36,#REF!,#REF!)","v":{"$error":"#REF!"}},{"$f":"SUM(Y31,Y36,#REF!,#REF!)","v":{"$error":"#REF!"}},{"$f":"SUM(Z31,Z36,#REF!,#REF!)","v":{"$error":"#REF!"}},{"$f":"SUM(AA31,AA36,#REF!,#REF!)","v":{"$error":"#REF!"}}]
[31,null,"СД00.03.1.03.1","жилой дом №10-1, жилой дом №10-2",{"v":30508.82,"d":"30,509 "},{"$f":"(#REF!-#REF!)/30","v":{"$error":"#REF!"}},"АБ-1","АБ-1","Не определен",null,"2025-06-30",{"$nulls":3},"●",null,null,"●",{"$nulls":3},"●",null,{"$f":"SUM(L31:W31)","v":0},{"$f":"IF(YEAR(#REF!)=L$8,#REF!,0)","v":{"$error":"#REF!"}},{"$f":"IF(AND(YEAR(#REF!)<=L$8,YEAR(#REF!)>L$8),#REF!,0)","v":{"$error":"#REF!"}},{"$f":"#REF!","v":{"$error":"#REF!"}},"нет проекта"]
[{"$nulls":3},"Запорная арматура"]
[149,null,"АВ00.00.0.00.0","ЖК на Айвазовского",{"$f":"SUM(E34:E34)","v":{"v":15025.97,"d":"15,026 "}},{"$nulls":5},{"$f":"MAX(K34)","v":"2025-06-30"},{"$f":"SUM(L34:L34)","v":0},0,0,0,0,0,0,0,0,0,0,0,0,{"$error":"#REF!"},{"$error":"#REF!"},{"$error":"#REF!"}]
[150,null,"АВ00.01.0.00.0","ЖК на Айвазовского 1 очередь",{"v":15025.97,"d":"15,026 "},{"$f":"(#REF!-#REF!)/30","v":{"$error":"#REF!"}},"Архитектурный дом Тухватуллиной","Архитектурный дом Тухватуллиной","АБСт","01.03.2024\n31.12.2025","2025-06-30",{"$nulls":6},"▪",null,"▪",{"$nulls":4},{"$f":"IF(YEAR(#REF!)=L$8,#REF!,0)","v":{"$error":"#REF!"}},{"$f":"IF(AND(YEAR(#REF!)<=L$8,YEAR(#REF!)>L$8),#REF!,0)","v":{"$error":"#REF!"}},{"$f":"#REF!","v":{"$error":"#REF!"}},"есть"]
[{"$nulls":3},"Запорная арматура",{"$nulls":24},1117,"шт"]
[149,null,"АВ00.00.0.00.0","Жилой дом по ул. П.Лумумбы",{"$f":"SUM(E37:E37)","v":{"v":15025.97,"d":"15,026 "}},{"$nulls":5},{"$f":"MAX(K37)","v":"2025-06-30"},{"$f":"SUM(L37:L37)","v":0},0,0,0,0,0,0,0,0,0,0,0,0,{"$error":"#REF!"},{"$error":"#REF!"},{"$error":"#REF!"}]
[150,null,"АВ00.01.0.00.0","Ж.д. П.Лумумбы",{"v":15025.97,"d":"15,026 "},{"$f":"(#REF!-#REF!)/30","v":{"$error":"#REF!"}},"Архитектурный дом Тухватуллиной","Архитектурный дом Тухватуллиной","АБСт","01.03.2024\n31.12.2025","2025-06-30",{"$nulls":6},"▪",null,"▪",{"$nulls":4},{"$f":"IF(YEAR(#REF!)=L$8,#REF!,0)","v":{"$error":"#REF!"}},{"$f":"IF(AND(YEAR(#REF!)<=L$8,YEAR(#REF!)>L$8),#REF!,0)","v":{"$error":"#REF!"}},{"$f":"#REF!","v":{"$error":"#REF!"}},"есть",341,"шт"]
[{"$nulls":3},"Запорная арматура"]
[261,null,"ГЖФ0.00.0.00.0","Объекты ГЖФ",{"$f":"#REF!","v":{"$error":"#REF!"}},{"$nulls":6},{"$f":"#REF!","v":{"$error":"#REF!"}},{"$f":"#REF!","v":{"$error":"#REF!"}},{"$f":"#REF!","v":{"$error":"#REF!"}},{"$f":"#REF!","v":{"$error":"#REF!"}},{"$f":"#REF!","v":{"$error":"#REF!"}},{"$f":"#REF!","v":{"$error":"#REF!"}},{"$f":"#REF!","v":{"$error":"#REF!"}},{"$f":"#REF!","v":{"$error":"#REF!"}},{"$f":"#REF!","v":{"$error":"#REF!"}},{"$f":"#REF!","v":{"$error":"#REF!"}},{"$f":"#REF!","v":{"$error":"#REF!"}},{"$f":"#REF!","v":{"$error":"#REF!"}},{"$f":"#REF!","v":{"$error":"#REF!"}},{"$f":"#REF!","v":{"$error":"#REF!"}},{"$f":"#REF!","v":{"$error":"#REF!"}},{"$f":"#REF!","v":{"$error":"#REF!"}}]
[266,null,"СК00.01.0.00.0","ЖК \"Салават Купере\"  Квартал №1",{"$f":"SUM(E41:E59)","v":0},{"$nulls":6},{"$f":"SUM(L41:L59)","v":0},{"$f":"SUM(M41:M59)","v":0},{"$f":"SUM(N41:N59)","v":0},{"$f":"SUM(O41:O59)","v":0},{"$f":"SUM(P41:P59)","v":0},{"$f":"SUM(Q41:Q59)","v":0},{"$f":"SUM(R41:R59)","v":0},{"$f":"SUM(S41:S59)","v":0},{"$f":"SUM(T41:T59)","v":0},{"$f":"SUM(U41:U59)","v":0},{"$f":"SUM(V41:V59)","v":0},{"$f":"SUM(W41:W59)","v":0},{"$f":"SUM(X41:X59)","v":0},{"$f":"SUM(Y41:Y59)","v":{"$error":"#REF!"}},{"$f":"SUM(Z41:Z59)","v":{"$error":"#REF!"}},{"$f":"SUM(AA41:AA59)","v":0}]
[279,null,"СК00.01.1.05.1","ЖК \"Салават Купере\" Квартал №1 ж/д 5-1",null,{"$f":"(#REF!-#REF!)/30","v":{"$error":"#REF!"}},"АБ-1","АБ-1","АБСт",null,"-",{"$nulls":12},{"$f":"SUM(L41:W41)","v":0},{"$f":"IF(YEAR(#REF!)=L$8,#REF!,0)","v":{"$error":"#REF!"}},{"$f":"IF(AND(YEAR(#REF!)<=L$8,YEAR(#REF!)>L$8),#REF!,0)","v":{"$error":"#REF!"}},null,"нет проекта( по аналогии СД 17-1)"]
[{"$nulls":3},"Запорная арматура",{"$nulls":24},770,"шт"]
[279,null,"СК00.01.1.05.2","ЖК \"Салават Купере\" Квартал №1 ж/д 5-2",null,{"$f":"(#REF!-#REF!)/30","v":{"$error":"#REF!"}},"АБ-1","АБ-1","АБСт",null,"-",{"$nulls":12},0,{"$f":"IF(YEAR(#REF!)=L$8,#REF!,0)","v":{"$error":"#REF!"}},{"$f":"IF(AND(YEAR(#REF!)<=L$8,YEAR(#REF!)>L$8),#REF!,0)","v":{"$error":"#REF!"}},null,"нет проекта( по аналогии СД 17-1)"]
[{"$nulls":3},"Запорная арматура",{"$nulls":24},770,"шт"]
[267,null,"СК00.01.1.03.1","ЖК \"Салават Купере\" Квартал №1 ж/д 3-1",null,{"$f":"(#REF!-#REF!)/30","v":{"$error":"#REF!"}},"АБ-1","АБ-1","АБСт",null,"-",{"$nulls":12},0,{"$f":"IF(YEAR(#REF!)=L$8,#REF!,0)","v":{"$error":"#REF!"}},{"$f":"IF(AND(YEAR(#REF!)<=L$8,YEAR(#REF!)>L$8),#REF!,0)","v":{"$error":"#REF!"}},null,"нет проекта"]
[{"$nulls":3},"Запорная арматура"]
[268,null,"СК00.01.1.03.2","ЖК \"Салават Купере\" Квартал №1 ж/д 3-2",null,{"$f":"(#REF!-#REF!)/30","v":{"$error":"#REF!"}},"АБ-1","АБ-1","АБСт",null,"-",{"$nulls":12},0,{"$f":"IF(YEAR(#REF!)=L$8,#REF!,0)","v":{"$error":"#REF!"}},{"$f":"IF(AND(YEAR(#REF!)<=L$8,YEAR(#REF!)>L$8),#REF!,0)","v":{"$error":"#REF!"}},null,"нет проекта"]
[{"$nulls":3},"Запорная арматура"]
[269,null,"СК00.01.1.03.3","ЖК \"Салават Купере\" Квартал №1 ж/д 3-3",null,{"$f":"(#REF!-#REF!)/30","v":{"$error":"#REF!"}},"АБ-1","АБ-1","АБСт",null,"-",{"$nulls":12},0,{"$f":"IF(YEAR(#REF!)=L$8,#REF!,0)","v":{"$error":"#REF!"}},{"$f":"IF(AND(YEAR(#REF!)<=L$8,YEAR(#REF!)>L$8),#REF!,0)","v":{"$error":"#REF!"}},null,"нет проекта"]
[{"$nulls":3},"Запорная арматура"]
[276,null,"СК00.01.1.04.1","ЖК \"Салават Купере\" Квартал №1 ж/д 4-1",null,{"$f":"(#REF!-#REF!)/30","v":{"$error":"#REF!"}},"АБ-1","АБ-1","АБСт",null,"-",{"$nulls":12},0,{"$f":"IF(YEAR(#REF!)=L$8,#REF!,0)","v":{"$error":"#REF!"}},{"$f":"IF(AND(YEAR(#REF!)<=L$8,YEAR(#REF!)>L$8),#REF!,0)","v":{"$error":"#REF!"}},null,"нет проекта"]
[277,null,"СК00.01.1.04.2","ЖК \"Салават Купере\" Квартал №1 ж/д 4-2",null,{"$f":"(#REF!-#REF!)/30","v":{"$error":"#REF!"}},"АБ-1","АБ-1","АБСт",null,"-",{"$nulls":12},0,{"$f":"IF(YEAR(#REF!)=L$8,#REF!,0)","v":{"$error":"#REF!"}},{"$f":"IF(AND(YEAR(#REF!)<=L$8,YEAR(#REF!)>L$8),#REF!,0)","v":{"$error":"#REF!"}},null,"нет проекта"]
[278,null,"СК00.01.1.04.3","ЖК \"Салават Купере\" Квартал №1 ж/д 4-3",null,{"$f":"(#REF!-#REF!)/30","v":{"$error":"#REF!"}},"АБ-1","АБ-1","АБСт",null,"-",{"$nulls":12},0,{"$f":"IF(YEAR(#REF!)=L$8,#REF!,0)","v":{"$error":"#REF!"}},{"$f":"IF(AND(YEAR(#REF!)<=L$8,YEAR(#REF!)>L$8),#REF!,0)","v":{"$error":"#REF!"}},null,"нет проекта"]
[267,null,"СК00.01.1.01.1","ЖК \"Салават Купере\" Квартал №1 ж/д 1-1",null,{"$f":"(#REF!-#REF!)/30","v":{"$error":"#REF!"}},"АБ-1","АБ-1","АБСт",null,"-",{"$nulls":12},{"$f":"SUM(L54:W54)","v":0},{"$f":"IF(YEAR(#REF!)=L$8,#REF!,0)","v":{"$error":"#REF!"}},{"$f":"IF(AND(YEAR(#REF!)<=L$8,YEAR(#REF!)>L$8),#REF!,0)","v":{"$error":"#REF!"}},null,"нет проекта"]
[268,null,"СК00.01.1.01.2","ЖК \"Салават Купере\" Квартал №1 ж/д 1-2",null,{"$f":"(#REF!-#REF!)/30","v":{"$error":"#REF!"}},"АБ-1","АБ-1","АБСт",null,"-",{"$nulls":12},0,{"$f":"IF(YEAR(#REF!)=L$8,#REF!,0)","v":{"$error":"#REF!"}},{"$f":"IF(AND(YEAR(#REF!)<=L$8,YEAR(#REF!)>L$8),#REF!,0)","v":{"$error":"#REF!"}},null,"нет проекта"]
[269,null,"СК00.01.1.01.3","ЖК \"Салават Купере\" Квартал №1 ж/д 1-3",null,{"$f":"(#REF!-#REF!)/30","v":{"$error":"#REF!"}},"АБ-1","АБ-1","АБСт",null,"-",{"$nulls":12},0,{"$f":"IF(YEAR(#REF!)=L$8,#REF!,0)","v":{"$error":"#REF!"}},{"$f":"IF(AND(YEAR(#REF!)<=L$8,YEAR(#REF!)>L$8),#REF!,0)","v":{"$error":"#REF!"}},null,"нет проекта"]
[267,null,"СК00.01.1.02.1","ЖК \"Салават Купере\" Квартал №1 ж/д 2-1",null,{"$f":"(#REF!-#REF!)/30","v":{"$error":"#REF!"}},"АБ-1","АБ-1","АБСт",null,"-",{"$nulls":12},0,{"$f":"IF(YEAR(#REF!)=L$8,#REF!,0)","v":{"$error":"#REF!"}},{"$f":"IF(AND(YEAR(#REF!)<=L$8,YEAR(#REF!)>L$8),#REF!,0)","v":{"$error":"#REF!"}},null,"нет проекта"]
[268,null,"СК00.01.1.02.2","ЖК \"Салават Купере\" Квартал №1 ж/д 2-2",null,{"$f":"(#REF!-#REF!)/30","v":{"$error":"#REF!"}},"АБ-1","АБ-1","АБСт",null,"-",{"$nulls":12},0,{"$f":"IF(YEAR(#REF!)=L$8,#REF!,0)","v":{"$error":"#REF!"}},{"$f":"IF(AND(YEAR(#REF!)<=L$8,YEAR(#REF!)>L$8),#REF!,0)","v":{"$error":"#REF!"}},null,"нет проекта"]
[269,null,"СК00.01.1.02.3","ЖК \"Салават Купере\" Квартал №1 ж/д 2-3",null,{"$f":"(#REF!-#REF!)/30","v":{"$error":"#REF!"}},"АБ-1","АБ-1","АБСт",null,"-",{"$nulls":12},0,{"$f":"IF(YEAR(#REF!)=L$8,#REF!,0)","v":{"$error":"#REF!"}},{"$f":"IF(AND(YEAR(#REF!)<=L$8,YEAR(#REF!)>L$8),#REF!,0)","v":{"$error":"#REF!"}},null,"нет проекта"]
[{"$nulls":3},"максимальная загрузка завода панелями",{"$nulls":7},{"$f":"5745.73301587302/0.786","v":{"v":7310.092895512748,"d":"7310"}},{"$f":"5745.73301587302/0.786","v":{"v":7310.092895512748,"d":"7310"}},{"v":7310.092895512748,"d":"7310"},{"v":7310.092895512748,"d":"7310"},{"v":7310.092895512748,"d":"7310"},{"v":7310.092895512748,"d":"7310"},{"v":7310.092895512748,"d":"7310"},{"v":7310.092895512748,"d":"7310"},{"v":7310.092895512748,"d":"7310"},{"v":7310.092895512748,"d":"7310"},{"v":7310.092895512748,"d":"7310"},{"v":7310.092895512748,"d":"7310"},{"$nulls":7},7217,7217,7218,7218,7218,7218,7218,7218,7218,7218,7218,7218]
[{"$nulls":3},"Разница между итогопанели м3  и макс загрузкой завода панелями",{"$nulls":7},{"$f":"L60-#REF!","v":{"$error":"#REF!"}},{"$f":"M60-#REF!","v":{"$error":"#REF!"}},{"$f":"N60-#REF!","v":{"$error":"#REF!"}},{"$f":"O60-#REF!","v":{"$error":"#REF!"}},{"$f":"P60-#REF!","v":{"$error":"#REF!"}},{"$f":"Q60-#REF!","v":{"$error":"#REF!"}},{"$f":"R60-#REF!","v":{"$error":"#REF!"}},{"$f":"S60-#REF!","v":{"$error":"#REF!"}},{"$f":"T60-#REF!","v":{"$error":"#REF!"}},{"$f":"U60-#REF!","v":{"$error":"#REF!"}},{"$f":"V60-#REF!","v":{"$error":"#REF!"}},{"$f":"W60-#REF!","v":{"$error":"#REF!"}},{"$f":"X60-#REF!","v":{"$error":"#REF!"}},{"$f":"Y60-#REF!","v":{"$error":"#REF!"}},{"$f":"Z60-#REF!","v":{"$error":"#REF!"}},{"$f":"AA60-#REF!","v":{"$error":"#REF!"}},{"$nulls":3},{"$f":"AE60-#REF!","v":{"$error":"#REF!"}},{"$f":"AF60-#REF!","v":{"$error":"#REF!"}},{"$f":"AG60-#REF!","v":{"$error":"#REF!"}},{"$f":"AH60-#REF!","v":{"$error":"#REF!"}},{"$f":"AI60-#REF!","v":{"$error":"#REF!"}},{"$f":"AJ60-#REF!","v":{"$error":"#REF!"}},{"$f":"AK60-#REF!","v":{"$error":"#REF!"}},{"$f":"AL60-#REF!","v":{"$error":"#REF!"}},{"$f":"AM60-#REF!","v":{"$error":"#REF!"}},{"$f":"AN60-#REF!","v":{"$error":"#REF!"}},{"$f":"AO60-#REF!","v":{"$error":"#REF!"}},{"$f":"AP60-#REF!","v":{"$error":"#REF!"}}]
[null,"* Коммерческие здания:\nАдм здание 17-3 ПК-9 СГ,\nТоргово-офисное здание ПК-5 \"Мой Ритм\",\nБизнес-центр ПК-1 \"Мой Ритм\",\nБизнес-центр М-3 \"Седьмое Небо\",\nТехнопарк М-4 \"Седьмое Небо\",\nАдминистративное здание с МУПг ул.Рахматуллина,\nЗдание по ул.Сыртлановой 2,\nАдминистративно-офисное здание по ул.Шмидта 35Б"]
[]
[null,"Ввод квартир 2020-2028"]
[null," Итого АБД"]
[null," Итого ГЖФ"]
[null," Всего квартир АБД+ГЖФ",{"$nulls":3},{"$f":"F65+F66","v":0}]