{"text_format":"3","workbook":"xlsx","n_sheets":1,"sheets":["Производственная программа ВК"],"not_rendered":{"macros":1,"external_links":1,"defined_names":68},"read":"whole","date_system":"1900"}

{"sheet":"Производственная программа ВК","index":0,"n_rows":101,"n_cols":42,"rows_kept":101,"merged":[[0,1,0,41],[6,1,7,1],[6,3,7,3],[6,4,7,4],[6,6,6,7],[6,8,7,8],[6,9,7,9],[6,10,7,10],[6,11,6,22],[6,27,7,27],[6,28,7,28],[6,29,7,29],[6,30,6,41],[97,1,97,3],[98,1,98,3],[99,1,99,3],[100,1,100,3]]}
[null,"ПРОИЗВОДСТВЕННАЯ ПРОГРАММА 2022-2028"]
[{"$nulls":38}," - Начало СМР"]
[{"$nulls":11},"●"," - Внутреннее согласование  архитектурно-градостроительной концепции застройки в АБД проведено;",{"$nulls":10},"▪","  - разрешения на строительство получено;",{"$nulls":13}," - СМР"]
[{"$nulls":11},"●"," -В УАиГ получено согласование архитектурной концепции с эскизом застройки ;",{"$nulls":10},"▪"," - старт продаж",{"$nulls":13}," - Производство панелей"]
[{"$nulls":11},"●"," - Эскизный проект (1 этап) согласован;",{"$nulls":10},"▪"," - получен ЗОС;",{"$nulls":13}," - Ввод объекта в эксплуатацию"]
[{"$nulls":11},"●"," - Утверждение отклонений от предельных параметров разрешенного строительства;",{"$nulls":10},"▪"," - зарегистрирована превая квартира на покупателя/раскрыты эскроу счета;",{"$nulls":12},"ДДУ"," - Передача ключей по ДДУ"]
["№ п/п","№ п/п","Код по 1C","Наименование объектов","Общая площадь здания, м2","Срок СМР (мес.)","Проектировщик",null,"Ген. Подрядчик","Срок РНС до","Передача ключей по ДДУ (обяз-ва)",2021,{"$nulls":11},"КПД 2021","ВВОД 2021","ЗАДЕЛ 2021","Проектирование 2021","Наличие проекта","Общий объем по проекту","Ед.изм.",2023]
[{"$nulls":5}," РНС - Ввод","АГК-ЭП","ЭП-Эксперт",{"$nulls":3},"янв","фев","мар","апр","май","июн","июл","авг","сен","окт","ноя","дек","м3","м2","м2","м2",{"$nulls":3},"янв","фев","мар","апр","май","июн","июл","авг","сен","окт","ноя","дек"]
["1","1","2","2",null,112,null,null,33,34,35,36,37,38,39,40,41,42,43,44,45,46,47,48,49,50,51,{"$nulls":3},68,69,70,71,72,73,74,75,76,77,78,79]
[10,"1.3","СГ00.09.0.00.0","Жилой комплекс \"Солнечный город\" ПК-9",{"$f":"E11","v":0},{"$nulls":6},{"$f":"SUM(L11:L11)","v":0},0,0,0,0,0,0,0,0,0,0,0,0,0,0,0,{"$nulls":3},{"$f":"SUM(AE11:AE11)","v":0},0,0,0,0,0,0,0,0,0,0,0]
[11,"1.3.1","СГ00.09.2.00.0","Жилой комплекс \"Солнечный город\" ПК-9 Адм здание 17-3",null,{"$f":"(#REF!-#REF!)/30","v":{"$error":"#REF!"}},{"$nulls":17},{"$f":"SUM(L11:W11)","v":0}]
[12,null,"СД00.00.0.00.0","ЖК \"Светлая долина\"",{"$f":"SUM(,#REF!,#REF!,E13,#REF!,E42)","v":{"$error":"#REF!"}}]
[30,null,"СД00.03.0.00.0","ЖК \"Светлая Долина\" ПК-3",{"$f":"SUM(E14:E35)","v":{"v":65471.65999999999,"d":"65,472 "}},{"$nulls":5},{"$f":"MAX(K14:K35)","v":"2025-06-30"},{"$f":"SUM(L14,L21,L28,L35)","v":0},0,0,0,0,0,0,0,0,0,0,0,0,{"$error":"#REF!"},{"$error":"#REF!"},{"$error":"#REF!"},{"$nulls":3},{"$f":"SUM(AE14,AE21,AE28,AE35)","v":0},0,0,0,0,0,0,0,0,0,0,0]
[31,null,"СД00.03.1.03.1","ЖК \"Светлая Долина\" ПК-3 ж/д 3-1",{"v":30508.82,"d":"30,509 "},{"$f":"(#REF!-#REF!)/30","v":{"$error":"#REF!"}},"АБ-1","АБ-1","Не определен",null,"2025-06-30",{"$nulls":3},"●",null,null,"●",{"$nulls":3},"●",null,{"$f":"SUM(L14:W14)","v":0},{"$f":"IF(YEAR(#REF!)=L$7,#REF!,0)","v":{"$error":"#REF!"}},{"$f":"IF(AND(YEAR(#REF!)<=L$7,YEAR(#REF!)>L$7),#REF!,0)","v":{"$error":"#REF!"}},{"$f":"#REF!","v":{"$error":"#REF!"}},"есть"]
[{"$nulls":3},"Трубы полипропиленовые",{"$nulls":24},{"$f":"2942.8+4190","v":7132.8},"м"]
[{"$nulls":3},"Трубы полиэтиленовые",{"$nulls":24},456,"м"]
[{"$nulls":3},"Трубы чугунные SML",{"$nulls":24},0,"м"]
[{"$nulls":3},"Запорная арматура чугун",{"$nulls":24},63,"шт"]
[{"$nulls":3},"Запорная арматура латунь",{"$nulls":24},{"$f":"558+701","v":1259},"шт"]
[{"$nulls":3},"Противопожарное оборудование",{"$nulls":24},2,"компл"]
[32,null,"СД00.03.1.03.2","ЖК \"Светлая Долина\" ПК-3 ж/д 3-2",{"v":7459.91,"d":"7,460 "},{"$f":"(#REF!-#REF!)/30","v":{"$error":"#REF!"}},"АБ-1","АБ-1","АБСт",null,"2025-06-30",{"$nulls":3},"●",null,null,"●",{"$nulls":3},"●",null,{"$f":"SUM(L21:W21)","v":0},{"$f":"IF(YEAR(#REF!)=L$7,#REF!,0)","v":{"$error":"#REF!"}},{"$f":"IF(AND(YEAR(#REF!)<=L$7,YEAR(#REF!)>L$7),#REF!,0)","v":{"$error":"#REF!"}},{"$f":"#REF!","v":{"$error":"#REF!"}},"есть, без спец","Примерный объем"]
[{"$nulls":3},"Трубы полипропиленовые",{"$nulls":24},{"$f":"241+649+52+324+1000+130","v":2396},"м"]
[{"$nulls":3},"Трубы полиэтиленовые",{"$nulls":24},110,"м"]
[{"$nulls":3},"Трубы чугунные SML",{"$nulls":24},0,"м"]
[{"$nulls":3},"Запорная арматура чугун",{"$nulls":24},24,"шт"]
[{"$nulls":3},"Запорная арматура латунь",{"$nulls":24},{"$f":"177+12+236+370","v":795},"шт"]
[{"$nulls":3},"Противопожарное оборудование",{"$nulls":24},1,"компл"]
[34,null,"СД00.03.1.03.3","ЖК \"Светлая Долина\" ПК-3 ж/д 3-3",{"v":17139.98,"d":"17,140 "},{"$f":"(#REF!-#REF!)/30","v":{"$error":"#REF!"}},"АБ-1","АБ-1","АБСт",null,"2025-06-30",{"$nulls":3},"●",null,null,"●",{"$nulls":3},"●",null,{"$f":"SUM(L28:W28)","v":0},{"$f":"IF(YEAR(#REF!)=L$7,#REF!,0)","v":{"$error":"#REF!"}},{"$f":"IF(AND(YEAR(#REF!)<=L$7,YEAR(#REF!)>L$7),#REF!,0)","v":{"$error":"#REF!"}},{"$f":"#REF!","v":{"$error":"#REF!"}},"есть, без спец","Примерный объем"]
[{"$nulls":3},"Трубы полипропиленовые",{"$nulls":24},{"$f":"195+1086+140+44+844+1664+171","v":4144},"м"]
[{"$nulls":3},"Трубы полиэтиленовые",{"$nulls":24},207,"м"]
[{"$nulls":3},"Трубы чугунные SML",{"$nulls":24},0,"м"]
[{"$nulls":3},"Запорная арматура чугун",{"$nulls":24},32,"шт"]
[{"$nulls":3},"Запорная арматура латунь",{"$nulls":24},{"$f":"302+12+506+450","v":1270},"шт"]
[{"$nulls":3},"Противопожарное оборудование",{"$nulls":24},1,"компл"]
[36,null,"СД00.03.1.03.4","ЖК \"Светлая Долина\" ПК-3 ж/д 3-4",{"v":10362.95,"d":"10,363 "},{"$f":"(#REF!-#REF!)/30","v":{"$error":"#REF!"}},"АБ-1","АБ-1","АБСт",null,"2025-06-30",{"$nulls":3},"●",null,null,"●",{"$nulls":3},"●",null,{"$f":"SUM(L35:W35)","v":0},{"$f":"IF(YEAR(#REF!)=L$7,#REF!,0)","v":{"$error":"#REF!"}},{"$f":"IF(AND(YEAR(#REF!)<=L$7,YEAR(#REF!)>L$7),#REF!,0)","v":{"$error":"#REF!"}},{"$f":"#REF!","v":{"$error":"#REF!"}},"есть, без спец","Примерный объем"]
[{"$nulls":3},"Трубы полипропиленовые",{"$nulls":24},{"$f":"241+649+52+324+1000+130","v":2396},"м"]
[{"$nulls":3},"Трубы полиэтиленовые",{"$nulls":24},110,"м"]
[{"$nulls":3},"Трубы чугунные SML",{"$nulls":24},0,"м"]
[{"$nulls":3},"Запорная арматура чугун",{"$nulls":24},24,"шт"]
[{"$nulls":3},"Запорная арматура латунь",{"$nulls":24},{"$f":"177+12+236+370","v":795},"шт"]
[{"$nulls":3},"Противопожарное оборудование",{"$nulls":24},1,"компл"]
[40,null,"СД00.03.0.00.0","ЖК \"Светлая Долина\" ПК-5",{"$f":"E43","v":{"v":16356.92,"d":"16,357 "}}]
[41,null,"СД00.05.3.05.1","ЖК \"Светлая долина\" ПК-5 паркинг 5-1 на 506 м/м ",{"v":16356.92,"d":"16,357 "},{"$f":"(#REF!-#REF!)/30","v":{"$error":"#REF!"}},"АБ-1","ООО \"СтандартПроект\"","АБСт",null,"2023-09-30",{"$nulls":11},"▪",{"$f":"SUM(L43:W43)","v":0},{"$f":"IF(YEAR(#REF!)=L$7,#REF!,0)","v":{"$error":"#REF!"}},{"$f":"IF(AND(YEAR(#REF!)<=L$7,YEAR(#REF!)>L$7),#REF!,0)","v":{"$error":"#REF!"}},{"$f":"#REF!","v":{"$error":"#REF!"}},"Есть"]
[{"$nulls":3},"Трубы полипропиленовые",{"$nulls":24},{"$f":"86+82+79+136+28","v":411},"м"]
[{"$nulls":3},"Трубы полиэтиленовые",{"$nulls":24},0,"м"]
[{"$nulls":3},"Трубы чугунные SML",{"$nulls":24},370,"м"]
[{"$nulls":3},"Запорная арматура чугун",{"$nulls":24},23,"шт"]
[{"$nulls":3},"Запорная арматура латунь",{"$nulls":24},18,"шт"]
[{"$nulls":3},"Противопожарное оборудование",{"$nulls":24},1,"компл"]
[149,null,"АВ00.00.0.00.0","ЖК на Айвазовского",{"$f":"SUM(E51:E51)","v":0},{"$nulls":5},{"$f":"MAX(K51)","v":"00:00:00"},{"$f":"SUM(L51:L51)","v":0},0,0,0,0,0,0,0,0,0,0,0,0,0,0,0,"есть, только 1 очередь"]
[150,null,"АВ00.01.0.00.0","Трубы полипропиленовые",{"$nulls":24},{"$f":"1748+245","v":1993},"м"]
[{"$nulls":3},"Трубы полиэтиленовые",{"$nulls":25},"м"]
[{"$nulls":3},"Трубы чугунные SML",{"$nulls":24},{"$f":"460+290","v":750},"м"]
[{"$nulls":3},"Запорная арматура чугун",{"$nulls":24},12,"шт"]
[{"$nulls":3},"Запорная арматура латунь",{"$nulls":24},788,"шт"]
[{"$nulls":3},"Противопожарное оборудование",{"$nulls":24},1,"компл"]
[261,null,"ГЖФ0.00.0.00.0","Объекты ГЖФ",{"$f":"#REF!","v":{"$error":"#REF!"}},{"$nulls":6},{"$f":"#REF!","v":{"$error":"#REF!"}},{"$f":"#REF!","v":{"$error":"#REF!"}},{"$f":"#REF!","v":{"$error":"#REF!"}},{"$f":"#REF!","v":{"$error":"#REF!"}},{"$f":"#REF!","v":{"$error":"#REF!"}},{"$f":"#REF!","v":{"$error":"#REF!"}},{"$f":"#REF!","v":{"$error":"#REF!"}},{"$f":"#REF!","v":{"$error":"#REF!"}},{"$f":"#REF!","v":{"$error":"#REF!"}},{"$f":"#REF!","v":{"$error":"#REF!"}},{"$f":"#REF!","v":{"$error":"#REF!"}},{"$f":"#REF!","v":{"$error":"#REF!"}},{"$f":"#REF!","v":{"$error":"#REF!"}},{"$f":"#REF!","v":{"$error":"#REF!"}},{"$f":"#REF!","v":{"$error":"#REF!"}},{"$f":"#REF!","v":{"$error":"#REF!"}}]
[266,null,"СК00.01.0.00.0","ЖК \"Салават Купере\"  Квартал №1",{"$f":"SUM(E59:E93)","v":0},{"$nulls":6},{"$f":"SUM(L59:L93)","v":0},{"$f":"SUM(M59:M93)","v":0},{"$f":"SUM(N59:N93)","v":0},{"$f":"SUM(O59:O93)","v":0},{"$f":"SUM(P59:P93)","v":0},{"$f":"SUM(Q59:Q93)","v":0},{"$f":"SUM(R59:R93)","v":0},{"$f":"SUM(S59:S93)","v":0},{"$f":"SUM(T59:T93)","v":0},{"$f":"SUM(U59:U93)","v":0},{"$f":"SUM(V59:V93)","v":0},{"$f":"SUM(W59:W93)","v":0},{"$f":"SUM(X59:X93)","v":0},{"$f":"SUM(Y59:Y93)","v":{"$error":"#REF!"}},{"$f":"SUM(Z59:Z93)","v":{"$error":"#REF!"}},{"$f":"SUM(AA59:AA93)","v":0}]
[279,null,"СК00.01.1.05.1","ЖК \"Салават Купере\" Квартал №1 ж/д 5-1",null,{"$f":"(#REF!-#REF!)/30","v":{"$error":"#REF!"}},"АБ-1","АБ-1","АБСт",null,"-",{"$nulls":12},{"$f":"SUM(L59:W59)","v":0},{"$f":"IF(YEAR(#REF!)=L$7,#REF!,0)","v":{"$error":"#REF!"}},{"$f":"IF(AND(YEAR(#REF!)<=L$7,YEAR(#REF!)>L$7),#REF!,0)","v":{"$error":"#REF!"}},null,"нет, по 17-3 СД"]
[{"$nulls":3},"Трубы полипропиленовые",{"$nulls":24},{"$f":"270+370+43+11+420+562+31","v":1707},"м"]
[{"$nulls":3},"Трубы полиэтиленовые",{"$nulls":24},126,"м"]
[{"$nulls":3},"Трубы чугунные SML",{"$nulls":24},0,"м"]
[{"$nulls":3},"Запорная арматура чугун",{"$nulls":24},8,"шт"]
[{"$nulls":3},"Запорная арматура латунь",{"$nulls":24},{"$f":"138+2+85+10","v":235},"шт"]
[{"$nulls":3},"Противопожарное оборудование",{"$nulls":24},0,"компл"]
[279,null,"СК00.01.1.05.2","ЖК \"Салават Купере\" Квартал №1 ж/д 5-2",null,{"$f":"(#REF!-#REF!)/30","v":{"$error":"#REF!"}},"АБ-1","АБ-1","АБСт",null,"-",{"$nulls":12},0,{"$f":"IF(YEAR(#REF!)=L$7,#REF!,0)","v":{"$error":"#REF!"}},{"$f":"IF(AND(YEAR(#REF!)<=L$7,YEAR(#REF!)>L$7),#REF!,0)","v":{"$error":"#REF!"}},null,"нет, по 17-3 СД"]
[{"$nulls":3},"Трубы полипропиленовые",{"$nulls":24},{"$f":"270+370+43+11+420+562+31","v":1707},"м"]
[{"$nulls":3},"Трубы полиэтиленовые",{"$nulls":24},126,"м"]
[{"$nulls":3},"Трубы чугунные SML",{"$nulls":24},0,"м"]
[{"$nulls":3},"Запорная арматура чугун",{"$nulls":24},8,"шт"]
[{"$nulls":3},"Запорная арматура латунь",{"$nulls":24},{"$f":"138+2+85+10","v":235},"шт"]
[{"$nulls":3},"Противопожарное оборудование",{"$nulls":24},0,"компл"]
[267,null,"СК00.01.1.03.1","ЖК \"Салават Купере\" Квартал №1 ж/д 3-1",null,{"$f":"(#REF!-#REF!)/30","v":{"$error":"#REF!"}},"АБ-1","АБ-1","АБСт",null,"-",{"$nulls":12},0,{"$f":"IF(YEAR(#REF!)=L$7,#REF!,0)","v":{"$error":"#REF!"}},{"$f":"IF(AND(YEAR(#REF!)<=L$7,YEAR(#REF!)>L$7),#REF!,0)","v":{"$error":"#REF!"}},null,"нет"]
[{"$nulls":3},"Трубы полипропиленовые",{"$nulls":25},"м"]
[{"$nulls":3},"Трубы полиэтиленовые",{"$nulls":25},"м"]
[{"$nulls":3},"Трубы чугунные SML",{"$nulls":25},"м"]
[{"$nulls":3},"Запорная арматура чугун",{"$nulls":25},"шт"]
[{"$nulls":3},"Запорная арматура латунь",{"$nulls":25},"шт"]
[{"$nulls":3},"Противопожарное оборудование",{"$nulls":25},"компл"]
[268,null,"СК00.01.1.03.2","ЖК \"Салават Купере\" Квартал №1 ж/д 3-2",null,{"$f":"(#REF!-#REF!)/30","v":{"$error":"#REF!"}},"АБ-1","АБ-1","АБСт",null,"-",{"$nulls":12},0,{"$f":"IF(YEAR(#REF!)=L$7,#REF!,0)","v":{"$error":"#REF!"}},{"$f":"IF(AND(YEAR(#REF!)<=L$7,YEAR(#REF!)>L$7),#REF!,0)","v":{"$error":"#REF!"}},null,"нет"]
[{"$nulls":3},"Трубы полипропиленовые",{"$nulls":25},"м"]
[{"$nulls":3},"Трубы полиэтиленовые",{"$nulls":25},"м"]
[{"$nulls":3},"Трубы чугунные SML",{"$nulls":25},"м"]
[{"$nulls":3},"Запорная арматура чугун",{"$nulls":25},"шт"]
[{"$nulls":3},"Запорная арматура латунь",{"$nulls":25},"шт"]
[{"$nulls":3},"Противопожарное оборудование",{"$nulls":25},"компл"]
[269,null,"СК00.01.1.03.3","ЖК \"Салават Купере\" Квартал №1 ж/д 3-3",null,{"$f":"(#REF!-#REF!)/30","v":{"$error":"#REF!"}},"АБ-1","АБ-1","АБСт",null,"-",{"$nulls":12},0,{"$f":"IF(YEAR(#REF!)=L$7,#REF!,0)","v":{"$error":"#REF!"}},{"$f":"IF(AND(YEAR(#REF!)<=L$7,YEAR(#REF!)>L$7),#REF!,0)","v":{"$error":"#REF!"}},null,"нет"]
[{"$nulls":3},"Трубы полипропиленовые",{"$nulls":25},"м"]
[{"$nulls":3},"Трубы полиэтиленовые",{"$nulls":25},"м"]
[{"$nulls":3},"Трубы чугунные SML",{"$nulls":25},"м"]
[{"$nulls":3},"Запорная арматура чугун",{"$nulls":25},"шт"]
[{"$nulls":3},"Запорная арматура латунь",{"$nulls":25},"шт"]
[{"$nulls":3},"Противопожарное оборудование",{"$nulls":25},"компл"]
[{"$nulls":3},"максимальная загрузка завода панелями",{"$nulls":7},{"$f":"5745.73301587302/0.786","v":{"v":7310.092895512748,"d":"7310"}},{"$f":"5745.73301587302/0.786","v":{"v":7310.092895512748,"d":"7310"}},{"v":7310.092895512748,"d":"7310"},{"v":7310.092895512748,"d":"7310"},{"v":7310.092895512748,"d":"7310"},{"v":7310.092895512748,"d":"7310"},{"v":7310.092895512748,"d":"7310"},{"v":7310.092895512748,"d":"7310"},{"v":7310.092895512748,"d":"7310"},{"v":7310.092895512748,"d":"7310"},{"v":7310.092895512748,"d":"7310"},{"v":7310.092895512748,"d":"7310"},{"$nulls":7},7217,7217,7218,7218,7218,7218,7218,7218,7218,7218,7218,7218]
[{"$nulls":3},"Разница между итогопанели м3  и макс загрузкой завода панелями",{"$nulls":7},{"$f":"L94-#REF!","v":{"$error":"#REF!"}},{"$f":"M94-#REF!","v":{"$error":"#REF!"}},{"$f":"N94-#REF!","v":{"$error":"#REF!"}},{"$f":"O94-#REF!","v":{"$error":"#REF!"}},{"$f":"P94-#REF!","v":{"$error":"#REF!"}},{"$f":"Q94-#REF!","v":{"$error":"#REF!"}},{"$f":"R94-#REF!","v":{"$error":"#REF!"}},{"$f":"S94-#REF!","v":{"$error":"#REF!"}},{"$f":"T94-#REF!","v":{"$error":"#REF!"}},{"$f":"U94-#REF!","v":{"$error":"#REF!"}},{"$f":"V94-#REF!","v":{"$error":"#REF!"}},{"$f":"W94-#REF!","v":{"$error":"#REF!"}},{"$f":"X94-#REF!","v":{"$error":"#REF!"}},{"$f":"Y94-#REF!","v":{"$error":"#REF!"}},{"$f":"Z94-#REF!","v":{"$error":"#REF!"}},{"$f":"AA94-#REF!","v":{"$error":"#REF!"}},{"$nulls":3},{"$f":"AE94-#REF!","v":{"$error":"#REF!"}},{"$f":"AF94-#REF!","v":{"$error":"#REF!"}},{"$f":"AG94-#REF!","v":{"$error":"#REF!"}},{"$f":"AH94-#REF!","v":{"$error":"#REF!"}},{"$f":"AI94-#REF!","v":{"$error":"#REF!"}},{"$f":"AJ94-#REF!","v":{"$error":"#REF!"}},{"$f":"AK94-#REF!","v":{"$error":"#REF!"}},{"$f":"AL94-#REF!","v":{"$error":"#REF!"}},{"$f":"AM94-#REF!","v":{"$error":"#REF!"}},{"$f":"AN94-#REF!","v":{"$error":"#REF!"}},{"$f":"AO94-#REF!","v":{"$error":"#REF!"}},{"$f":"AP94-#REF!","v":{"$error":"#REF!"}}]
[null,"* Коммерческие здания:\nАдм здание 17-3 ПК-9 СГ,\nТоргово-офисное здание ПК-5 \"Мой Ритм\",\nБизнес-центр ПК-1 \"Мой Ритм\",\nБизнес-центр М-3 \"Седьмое Небо\",\nТехнопарк М-4 \"Седьмое Небо\",\nАдминистративное здание с МУПг ул.Рахматуллина,\nЗдание по ул.Сыртлановой 2,\nАдминистративно-офисное здание по ул.Шмидта 35Б"]
[]
[null,"Ввод квартир 2020-2028"]
[null," Итого АБД"]
[null," Итого ГЖФ"]
[null," Всего квартир АБД+ГЖФ",{"$nulls":3},{"$f":"F99+F100","v":0}]