{"text_format":"3","workbook":"xlsx","n_sheets":1,"sheets":["Производственная программа"],"not_rendered":{"macros":1,"external_links":1,"defined_names":68},"read":"whole","date_system":"1900"}

{"sheet":"Производственная программа","index":0,"n_rows":88,"n_cols":54,"rows_kept":88,"merged":[[0,1,0,41],[6,1,6,10],[7,1,8,1],[7,3,8,3],[7,4,8,4],[7,6,7,7],[7,8,8,8],[7,9,8,9],[7,10,8,10],[7,11,7,22],[7,27,8,27],[7,28,8,28],[7,29,8,29],[7,30,7,41],[7,42,7,53],[84,1,84,3],[85,1,85,3],[86,1,86,3],[87,1,87,3]]}
[null,"ПРОИЗВОДСТВЕННАЯ ПРОГРАММА 2022-2028"]
[{"$nulls":38}," - Начало СМР"]
[{"$nulls":11},"●"," - Внутреннее согласование  архитектурно-градостроительной концепции застройки в АБД проведено;",{"$nulls":10},"▪","  - разрешения на строительство получено;",{"$nulls":13}," - СМР"]
[{"$nulls":11},"●"," -В УАиГ получено согласование архитектурной концепции с эскизом застройки ;",{"$nulls":10},"▪"," - старт продаж",{"$nulls":13}," - Производство панелей"]
[{"$nulls":11},"●"," - Эскизный проект (1 этап) согласован;",{"$nulls":10},"▪"," - получен ЗОС;",{"$nulls":13}," - Ввод объекта в эксплуатацию"]
[{"$nulls":11},"●"," - Утверждение отклонений от предельных параметров разрешенного строительства;",{"$nulls":10},"▪"," - зарегистрирована превая квартира на покупателя/раскрыты эскроу счета;",{"$nulls":12},"ДДУ"," - Передача ключей по ДДУ"]
[null,"ПРОИЗВОДСТВЕННАЯ ПРОГРАММА 2023 Слаботочные системы"]
["№ п/п","№ п/п","Код по 1C","Наименование объектов","Общая площадь здания, м2","Срок СМР (мес.)","Проектировщик",null,"Ген. Подрядчик","Срок РНС до","Передача ключей по ДДУ (обяз-ва)",2021,{"$nulls":11},"КПД 2021","ВВОД 2021","ЗАДЕЛ 2021","Проектирование 2021","Наличие проекта","Общий объем по проекту","Ед.изм.",2023,{"$nulls":11},2024]
[{"$nulls":5}," РНС - Ввод","АГК-ЭП","ЭП-Эксперт",{"$nulls":3},"янв","фев","мар","апр","май","июн","июл","авг","сен","окт","ноя","дек","м3","м2","м2","м2",{"$nulls":3},"янв","фев","мар","апр","май","июн","июл","авг","сен","окт","ноя","дек","янв","фев","мар","апр","май","июн","июл","авг","сен","окт","ноя","дек"]
["1","1","2","2",null,112,null,null,33,34,35,36,37,38,39,40,41,42,43,44,45,46,47,48,49,50,51,{"$nulls":3},68,69,70,71,72,73,74,75,76,77,78,79,68,69,70,71,72,73,74,75,76,77,78,79]
[10,"1.3","СГ00.09.0.00.0","Жилой комплекс \"Солнечный город\" ПК-9",{"$f":"E12","v":0},{"$nulls":6},{"$f":"SUM(L12:L12)","v":0},0,0,0,0,0,0,0,0,0,0,0,0,0,0,0,{"$nulls":3},{"$f":"SUM(AE12:AE12)","v":0},0,0,0,0,0,0,0,0,0,0,0,0,0,0,0,0,0,0,0,0,0,0,0]
[11,"1.3.1","СГ00.09.2.00.0","Жилой комплекс \"Солнечный город\" ПК-9 Адм здание 17-3",null,{"$f":"(#REF!-#REF!)/30","v":{"$error":"#REF!"}},{"$nulls":17},{"$f":"SUM(L12:W12)","v":0}]
[12,null,"СД00.00.0.00.0","ЖК \"Светлая долина\"",{"$f":"SUM(,#REF!,#REF!,E14,#REF!,E35)","v":{"$error":"#REF!"}}]
[30,null,"СД00.03.0.00.0","ЖК \"Светлая Долина\" ПК-3",{"$f":"SUM(E15:E30)","v":{"v":65471.65999999999,"d":"65,472 "}},{"$nulls":5},{"$f":"MAX(K15:K30)","v":"2025-06-30"},{"$f":"SUM(L15,L20,L25,L30)","v":0},0,0,0,0,0,0,0,0,0,0,0,0,{"$error":"#REF!"},{"$error":"#REF!"},{"$error":"#REF!"},{"$nulls":3},{"$f":"SUM(AE15,AE20,AE25,AE30)","v":0},0,0,0,0,0,0,0,0,0,0,0,0,0,0,0,0,0,0,0,0,0,0,0]
[31,null,"СД00.03.1.03.1","ЖК \"Светлая Долина\" ПК-3 ж/д 3-1",{"v":30508.82,"d":"30,509 "},{"$f":"(#REF!-#REF!)/30","v":{"$error":"#REF!"}},"АБ-1","АБ-1","Не определен",null,"2025-06-30",{"$nulls":3},"●",null,null,"●",{"$nulls":3},"●",null,{"$f":"SUM(L15:W15)","v":0},{"$f":"IF(YEAR(#REF!)=L$8,#REF!,0)","v":{"$error":"#REF!"}},{"$f":"IF(AND(YEAR(#REF!)<=L$8,YEAR(#REF!)>L$8),#REF!,0)","v":{"$error":"#REF!"}},{"$f":"#REF!","v":{"$error":"#REF!"}},"нет проекта, вообще"]
[{"$nulls":3},"Кабельная продукция",{"$nulls":24},112,"км"]
[{"$nulls":3},"Кабеленесущие системы (лотки, трубы)",{"$nulls":24},15600,"м"]
[{"$nulls":3},"Оборудование (шкафы, щиты)",{"$nulls":24},792,"компл"]
[{"$nulls":3},"Установочные изделия (светильники, выключатели, розетки)",{"$nulls":24},12000,"шт"]
[32,null,"СД00.03.1.03.2","ЖК \"Светлая Долина\" ПК-3 ж/д 3-2",{"v":7459.91,"d":"7,460 "},{"$f":"(#REF!-#REF!)/30","v":{"$error":"#REF!"}},"АБ-1","АБ-1","АБСт",null,"2025-06-30",{"$nulls":3},"●",null,null,"●",{"$nulls":3},"●",null,{"$f":"SUM(L20:W20)","v":0},{"$f":"IF(YEAR(#REF!)=L$8,#REF!,0)","v":{"$error":"#REF!"}},{"$f":"IF(AND(YEAR(#REF!)<=L$8,YEAR(#REF!)>L$8),#REF!,0)","v":{"$error":"#REF!"}},{"$f":"#REF!","v":{"$error":"#REF!"}},"Есть без спец. 10эт","Приблизительный объем"]
[{"$nulls":3},"Кабельная продукция",{"$nulls":24},22,"км"]
[{"$nulls":3},"Кабеленесущие системы (лотки, трубы)",{"$nulls":24},15000,"м"]
[{"$nulls":3},"Оборудование (шкафы, щиты)",{"$nulls":24},{"$f":"11*9+2*9+16","v":133},"компл"]
[{"$nulls":3},"Установочные изделия (светильники, выключатели, розетки)",{"$nulls":24},{"$f":"80*4*9+100","v":2980},"шт"]
[34,null,"СД00.03.1.03.3","ЖК \"Светлая Долина\" ПК-3 ж/д 3-3",{"v":17139.98,"d":"17,140 "},{"$f":"(#REF!-#REF!)/30","v":{"$error":"#REF!"}},"АБ-1","АБ-1","АБСт",null,"2025-06-30",{"$nulls":3},"●",null,null,"●",{"$nulls":3},"●",null,{"$f":"SUM(L25:W25)","v":0},{"$f":"IF(YEAR(#REF!)=L$8,#REF!,0)","v":{"$error":"#REF!"}},{"$f":"IF(AND(YEAR(#REF!)<=L$8,YEAR(#REF!)>L$8),#REF!,0)","v":{"$error":"#REF!"}},{"$f":"#REF!","v":{"$error":"#REF!"}},"Есть без спец. 19эт","Приблизительный объем"]
[{"$nulls":3},"Кабельная продукция",{"$nulls":24},64,"км"]
[{"$nulls":3},"Кабеленесущие системы (лотки, трубы)",{"$nulls":24},39000,"м"]
[{"$nulls":3},"Оборудование (шкафы, щиты)",{"$nulls":24},367,"компл"]
[{"$nulls":3},"Установочные изделия (светильники, выключатели, розетки)",{"$nulls":24},7274,"шт"]
[36,null,"СД00.03.1.03.4","ЖК \"Светлая Долина\" ПК-3 ж/д 3-4",{"v":10362.95,"d":"10,363 "},{"$f":"(#REF!-#REF!)/30","v":{"$error":"#REF!"}},"АБ-1","АБ-1","АБСт",null,"2025-06-30",{"$nulls":3},"●",null,null,"●",{"$nulls":3},"●",null,{"$f":"SUM(L30:W30)","v":0},{"$f":"IF(YEAR(#REF!)=L$8,#REF!,0)","v":{"$error":"#REF!"}},{"$f":"IF(AND(YEAR(#REF!)<=L$8,YEAR(#REF!)>L$8),#REF!,0)","v":{"$error":"#REF!"}},{"$f":"#REF!","v":{"$error":"#REF!"}},"Есть без спец. 17эт","Приблизительный объем"]
[{"$nulls":3},"Кабельная продукция",{"$nulls":24},39,"км"]
[{"$nulls":3},"Кабеленесущие системы (лотки, трубы)",{"$nulls":24},23000,"м"]
[{"$nulls":3},"Оборудование (шкафы, щиты)",{"$nulls":24},268,"компл"]
[{"$nulls":3},"Установочные изделия (светильники, выключатели, розетки)",{"$nulls":24},5500,"шт"]
[40,null,"СД00.03.0.00.0","ЖК \"Светлая Долина\" ПК-5",{"$f":"E36","v":{"v":16356.92,"d":"16,357 "}}]
[41,null,"СД00.05.3.05.1","ЖК \"Светлая долина\" ПК-5 паркинг 5-1 на 506 м/м ",{"v":16356.92,"d":"16,357 "},{"$f":"(#REF!-#REF!)/30","v":{"$error":"#REF!"}},"АБ-1","ООО \"СтандартПроект\"","АБСт",null,"2023-09-30",{"$nulls":11},"▪",{"$f":"SUM(L36:W36)","v":0},{"$f":"IF(YEAR(#REF!)=L$8,#REF!,0)","v":{"$error":"#REF!"}},{"$f":"IF(AND(YEAR(#REF!)<=L$8,YEAR(#REF!)>L$8),#REF!,0)","v":{"$error":"#REF!"}},{"$f":"#REF!","v":{"$error":"#REF!"}},"Есть"]
[{"$nulls":3},"Кабельная продукция",{"$nulls":24},{"$f":"15.833+1.3","v":17.133},"км"]
[{"$nulls":3},"Кабеленесущие системы (лотки, трубы)",{"$nulls":24},{"$f":"2500+100+96+100+100+100+96+2000","v":5092},"м"]
[{"$nulls":3},"Оборудование (шкафы, щиты)",{"$nulls":24},19,"компл"]
[{"$nulls":3},"Установочные изделия (светильники, выключатели, розетки)",{"$nulls":24},{"$f":"2+516+6+12+106+37+16+56+32+32+2+60+32+13+8","v":930},"шт"]
[12,null,"СД00.00.0.00.0","ЖК \"Седьмое небо\" Мой ритм М1",{"$f":"SUM(,#REF!,#REF!,E42,#REF!,E57)","v":{"$error":"#REF!"}}]
[30,null,"СД00.03.0.00.0","\"Седьмое небо\" ПК-5  ",{"$f":"SUM(E43:E53)","v":{"v":60560.76,"d":"60,561 "}},{"$nulls":5},{"$f":"MAX(K43:K53)","v":"2025-06-30"},{"$f":"SUM(L43,L48,L53,#REF!)","v":{"$error":"#REF!"}},{"$f":"SUM(M43,M48,M53,#REF!)","v":{"$error":"#REF!"}},{"$f":"SUM(N43,N48,N53,#REF!)","v":{"$error":"#REF!"}},{"$f":"SUM(O43,O48,O53,#REF!)","v":{"$error":"#REF!"}},{"$f":"SUM(P43,P48,P53,#REF!)","v":{"$error":"#REF!"}},{"$f":"SUM(Q43,Q48,Q53,#REF!)","v":{"$error":"#REF!"}},{"$f":"SUM(R43,R48,R53,#REF!)","v":{"$error":"#REF!"}},{"$f":"SUM(S43,S48,S53,#REF!)","v":{"$error":"#REF!"}},{"$f":"SUM(T43,T48,T53,#REF!)","v":{"$error":"#REF!"}},{"$f":"SUM(U43,U48,U53,#REF!)","v":{"$error":"#REF!"}},{"$f":"SUM(V43,V48,V53,#REF!)","v":{"$error":"#REF!"}},{"$f":"SUM(W43,W48,W53,#REF!)","v":{"$error":"#REF!"}},{"$f":"SUM(X43,X48,X53,#REF!)","v":{"$error":"#REF!"}},{"$f":"SUM(Y43,Y48,Y53,#REF!)","v":{"$error":"#REF!"}},{"$f":"SUM(Z43,Z48,Z53,#REF!)","v":{"$error":"#REF!"}},{"$f":"SUM(AA43,AA48,AA53,#REF!)","v":{"$error":"#REF!"}}]
[31,null,"СД00.03.1.03.1","жилой дом №5-1, жилой дом №5-2",{"v":30508.82,"d":"30,509 "},{"$f":"(#REF!-#REF!)/30","v":{"$error":"#REF!"}},"АБ-1","АБ-1","Не определен",null,"2025-06-30",{"$nulls":3},"●",null,null,"●",{"$nulls":3},"●",null,{"$f":"SUM(L43:W43)","v":0},{"$f":"IF(YEAR(#REF!)=L$8,#REF!,0)","v":{"$error":"#REF!"}},{"$f":"IF(AND(YEAR(#REF!)<=L$8,YEAR(#REF!)>L$8),#REF!,0)","v":{"$error":"#REF!"}},{"$f":"#REF!","v":{"$error":"#REF!"}},"Есть"]
[{"$nulls":3},"Кабельная продукция",{"$nulls":24},{"$f":"12.4+33+8+83+6.6+6.3+8.5+2+1+3.5+0.5+2+0.8+0.9+0.6+0.35+9.6+1+0.4+12+33+8+83+6+6+2+8+1+2+0.6+4+2+0.9+0.9+0.6+3+1+1.5+1+0.5+2","v":359.45000000000005},"км"]
[{"$nulls":3},"Кабеленесущие системы (лотки, трубы)",{"$nulls":24},{"$f":"1180+1750+55*3+550+9500+55*3+350+1180+1750+33*3+500+8500+33*2+300+300+300+1400","v":28055},"м"]
[{"$nulls":3},"Оборудование (шкафы, щиты)",{"$nulls":24},{"$f":"15+103+216+3+21+4+108+256+2+64+256+2+4+1+6+7","v":1068},"компл"]
[{"$nulls":3},"Установочные изделия (светильники, выключатели, розетки)",{"$nulls":24},{"$f":"5+216+1+1+10+585+93+78+6+540+80+2500+103+764+585+1197+6+7+7+3+20+32+238+4+4+41+18+64+10+585+93+78+6+540+80+1850+64+764+585+1197+6+5+256+1+1+7+7+3+20+11+79+2+14+9+22+133+24+18+1+55+1+9+37+2","v":13783},"шт"]
[149,null,"АВ00.00.0.00.0","ЖК на Айвазовского",{"$f":"SUM(E49:E49)","v":{"v":15025.97,"d":"15,026 "}},{"$nulls":5},{"$f":"MAX(K49)","v":"2025-06-30"},{"$f":"SUM(L49:L49)","v":0},0,0,0,0,0,0,0,0,0,0,0,0,{"$error":"#REF!"},{"$error":"#REF!"},{"$error":"#REF!"}]
[150,null,"АВ00.01.0.00.0","ЖК на Айвазовского 1 очередь",{"v":15025.97,"d":"15,026 "},{"$f":"(#REF!-#REF!)/30","v":{"$error":"#REF!"}},"Архитектурный дом Тухватуллиной","Архитектурный дом Тухватуллиной","АБСт","01.03.2024\n31.12.2025","2025-06-30",{"$nulls":6},"▪",null,"▪",{"$nulls":4},{"$f":"IF(YEAR(#REF!)=L$8,#REF!,0)","v":{"$error":"#REF!"}},{"$f":"IF(AND(YEAR(#REF!)<=L$8,YEAR(#REF!)>L$8),#REF!,0)","v":{"$error":"#REF!"}},{"$f":"#REF!","v":{"$error":"#REF!"}},"Есть"]
[{"$nulls":3},"Кабельная продукция",{"$nulls":24},{"$f":"5.5+3+2+2+25+1+6+6.5+3.5+0.65+3","v":58.15},"км"]
[{"$nulls":3},"Кабеленесущие системы (лотки, трубы)",{"$nulls":24},{"$f":"1000+600+400+800+100+30+1700+1400","v":6030},"м"]
[{"$nulls":3},"Оборудование (шкафы, щиты)",{"$nulls":24},{"$f":"19+24+43","v":86},"компл"]
[{"$nulls":3},"Установочные изделия (светильники, выключатели, розетки)",{"$nulls":24},{"$f":"280+4+1+2+4+12+50+50+1+2+15+1+35+50+1+6+3+30+70+70+10+4+75+230+180+43+43+5+2+70+50","v":1399},"шт"]
[261,null,"ГЖФ0.00.0.00.0","Объекты ГЖФ",{"$f":"#REF!","v":{"$error":"#REF!"}},{"$nulls":6},{"$f":"#REF!","v":{"$error":"#REF!"}},{"$f":"#REF!","v":{"$error":"#REF!"}},{"$f":"#REF!","v":{"$error":"#REF!"}},{"$f":"#REF!","v":{"$error":"#REF!"}},{"$f":"#REF!","v":{"$error":"#REF!"}},{"$f":"#REF!","v":{"$error":"#REF!"}},{"$f":"#REF!","v":{"$error":"#REF!"}},{"$f":"#REF!","v":{"$error":"#REF!"}},{"$f":"#REF!","v":{"$error":"#REF!"}},{"$f":"#REF!","v":{"$error":"#REF!"}},{"$f":"#REF!","v":{"$error":"#REF!"}},{"$f":"#REF!","v":{"$error":"#REF!"}},{"$f":"#REF!","v":{"$error":"#REF!"}},{"$f":"#REF!","v":{"$error":"#REF!"}},{"$f":"#REF!","v":{"$error":"#REF!"}},{"$f":"#REF!","v":{"$error":"#REF!"}}]
[266,null,"СК00.01.0.00.0","ЖК \"Салават Купере\"  Квартал №1",{"$f":"SUM(E56:E80)","v":0},{"$nulls":6},{"$f":"SUM(L56:L80)","v":0},0,0,0,0,0,0,0,0,0,0,0,0,{"$error":"#REF!"},{"$error":"#REF!"},0]
[279,null,"СК00.01.1.05.1","ЖК \"Салават Купере\" Квартал №1 ж/д 5-1",null,{"$f":"(#REF!-#REF!)/30","v":{"$error":"#REF!"}},"АБ-1","АБ-1","АБСт",null,"-",{"$nulls":12},{"$f":"SUM(L56:W56)","v":0},{"$f":"IF(YEAR(#REF!)=L$8,#REF!,0)","v":{"$error":"#REF!"}},{"$f":"IF(AND(YEAR(#REF!)<=L$8,YEAR(#REF!)>L$8),#REF!,0)","v":{"$error":"#REF!"}},null,"Есть"]
[{"$nulls":3},"Кабельная продукция",{"$nulls":24},38.5,"км"]
[{"$nulls":3},"Кабеленесущие системы (лотки, трубы)",{"$nulls":24},18948,"м"]
[{"$nulls":3},"Оборудование (шкафы, щиты)",{"$nulls":24},{"$f":"107+5","v":112},"компл"]
[{"$nulls":3},"Установочные изделия (светильники, выключатели, розетки)",{"$nulls":24},6125,"шт"]
[279,null,"СК00.01.1.05.2","ЖК \"Салават Купере\" Квартал №1 ж/д 5-2",null,{"$f":"(#REF!-#REF!)/30","v":{"$error":"#REF!"}},"АБ-1","АБ-1","АБСт",null,"-",{"$nulls":12},0,{"$f":"IF(YEAR(#REF!)=L$8,#REF!,0)","v":{"$error":"#REF!"}},{"$f":"IF(AND(YEAR(#REF!)<=L$8,YEAR(#REF!)>L$8),#REF!,0)","v":{"$error":"#REF!"}},null,"Есть"]
[{"$nulls":3},"Кабельная продукция",{"$nulls":24},38.5,"км"]
[{"$nulls":3},"Кабеленесущие системы (лотки, трубы)",{"$nulls":24},18948,"м"]
[{"$nulls":3},"Оборудование (шкафы, щиты)",{"$nulls":24},{"$f":"107+5","v":112},"компл"]
[{"$nulls":3},"Установочные изделия (светильники, выключатели, розетки)",{"$nulls":24},6125,"шт"]
[267,null,"СК00.01.1.03.1","ЖК \"Салават Купере\" Квартал №1 ж/д 3-1",null,{"$f":"(#REF!-#REF!)/30","v":{"$error":"#REF!"}},"АБ-1","АБ-1","АБСт",null,"-",{"$nulls":12},0,{"$f":"IF(YEAR(#REF!)=L$8,#REF!,0)","v":{"$error":"#REF!"}},{"$f":"IF(AND(YEAR(#REF!)<=L$8,YEAR(#REF!)>L$8),#REF!,0)","v":{"$error":"#REF!"}},null,"Нет"]
[{"$nulls":3},"Кабельная продукция",{"$nulls":25},"км"]
[{"$nulls":3},"Кабеленесущие системы (лотки, трубы)",{"$nulls":25},"м"]
[{"$nulls":3},"Оборудование (шкафы, щиты)",{"$nulls":25},"компл"]
[{"$nulls":3},"Установочные изделия (светильники, выключатели, розетки)",{"$nulls":25},"шт"]
[268,null,"СК00.01.1.03.2","ЖК \"Салават Купере\" Квартал №1 ж/д 3-2",null,{"$f":"(#REF!-#REF!)/30","v":{"$error":"#REF!"}},"АБ-1","АБ-1","АБСт",null,"-",{"$nulls":12},0,{"$f":"IF(YEAR(#REF!)=L$8,#REF!,0)","v":{"$error":"#REF!"}},{"$f":"IF(AND(YEAR(#REF!)<=L$8,YEAR(#REF!)>L$8),#REF!,0)","v":{"$error":"#REF!"}},null,"Нет"]
[{"$nulls":3},"Кабельная продукция",{"$nulls":25},"км"]
[{"$nulls":3},"Кабеленесущие системы (лотки, трубы)",{"$nulls":25},"м"]
[{"$nulls":3},"Оборудование (шкафы, щиты)",{"$nulls":25},"компл"]
[{"$nulls":3},"Установочные изделия (светильники, выключатели, розетки)",{"$nulls":25},"шт"]
[269,null,"СК00.01.1.03.3","ЖК \"Салават Купере\" Квартал №1 ж/д 3-3",null,{"$f":"(#REF!-#REF!)/30","v":{"$error":"#REF!"}},"АБ-1","АБ-1","АБСт",null,"-",{"$nulls":12},0,{"$f":"IF(YEAR(#REF!)=L$8,#REF!,0)","v":{"$error":"#REF!"}},{"$f":"IF(AND(YEAR(#REF!)<=L$8,YEAR(#REF!)>L$8),#REF!,0)","v":{"$error":"#REF!"}},null,"Нет"]
[{"$nulls":3},"Кабельная продукция",{"$nulls":25},"км"]
[{"$nulls":3},"Кабеленесущие системы (лотки, трубы)",{"$nulls":25},"м"]
[{"$nulls":3},"Оборудование (шкафы, щиты)",{"$nulls":25},"компл"]
[{"$nulls":3},"Установочные изделия (светильники, выключатели, розетки)",{"$nulls":25},"шт"]
[{"$nulls":3},"максимальная загрузка завода панелями",{"$nulls":7},{"$f":"5745.73301587302/0.786","v":{"v":7310.092895512748,"d":"7310"}},{"$f":"5745.73301587302/0.786","v":{"v":7310.092895512748,"d":"7310"}},{"v":7310.092895512748,"d":"7310"},{"v":7310.092895512748,"d":"7310"},{"v":7310.092895512748,"d":"7310"},{"v":7310.092895512748,"d":"7310"},{"v":7310.092895512748,"d":"7310"},{"v":7310.092895512748,"d":"7310"},{"v":7310.092895512748,"d":"7310"},{"v":7310.092895512748,"d":"7310"},{"v":7310.092895512748,"d":"7310"},{"v":7310.092895512748,"d":"7310"},{"$nulls":7},7217,7217,7218,7218,7218,7218,7218,7218,7218,7218,7218,7218]
[{"$nulls":3},"Разница между итогопанели м3  и макс загрузкой завода панелями",{"$nulls":7},{"$f":"L81-#REF!","v":{"$error":"#REF!"}},{"$f":"M81-#REF!","v":{"$error":"#REF!"}},{"$f":"N81-#REF!","v":{"$error":"#REF!"}},{"$f":"O81-#REF!","v":{"$error":"#REF!"}},{"$f":"P81-#REF!","v":{"$error":"#REF!"}},{"$f":"Q81-#REF!","v":{"$error":"#REF!"}},{"$f":"R81-#REF!","v":{"$error":"#REF!"}},{"$f":"S81-#REF!","v":{"$error":"#REF!"}},{"$f":"T81-#REF!","v":{"$error":"#REF!"}},{"$f":"U81-#REF!","v":{"$error":"#REF!"}},{"$f":"V81-#REF!","v":{"$error":"#REF!"}},{"$f":"W81-#REF!","v":{"$error":"#REF!"}},{"$f":"X81-#REF!","v":{"$error":"#REF!"}},{"$f":"Y81-#REF!","v":{"$error":"#REF!"}},{"$f":"Z81-#REF!","v":{"$error":"#REF!"}},{"$f":"AA81-#REF!","v":{"$error":"#REF!"}},{"$nulls":3},{"$f":"AE81-#REF!","v":{"$error":"#REF!"}},{"$f":"AF81-#REF!","v":{"$error":"#REF!"}},{"$f":"AG81-#REF!","v":{"$error":"#REF!"}},{"$f":"AH81-#REF!","v":{"$error":"#REF!"}},{"$f":"AI81-#REF!","v":{"$error":"#REF!"}},{"$f":"AJ81-#REF!","v":{"$error":"#REF!"}},{"$f":"AK81-#REF!","v":{"$error":"#REF!"}},{"$f":"AL81-#REF!","v":{"$error":"#REF!"}},{"$f":"AM81-#REF!","v":{"$error":"#REF!"}},{"$f":"AN81-#REF!","v":{"$error":"#REF!"}},{"$f":"AO81-#REF!","v":{"$error":"#REF!"}},{"$f":"AP81-#REF!","v":{"$error":"#REF!"}}]
[null,"* Коммерческие здания:\nАдм здание 17-3 ПК-9 СГ,\nТоргово-офисное здание ПК-5 \"Мой Ритм\",\nБизнес-центр ПК-1 \"Мой Ритм\",\nБизнес-центр М-3 \"Седьмое Небо\",\nТехнопарк М-4 \"Седьмое Небо\",\nАдминистративное здание с МУПг ул.Рахматуллина,\nЗдание по ул.Сыртлановой 2,\nАдминистративно-офисное здание по ул.Шмидта 35Б"]
[]
[null,"Ввод квартир 2020-2028"]
[null," Итого АБД"]
[null," Итого ГЖФ"]
[null," Всего квартир АБД+ГЖФ",{"$nulls":3},{"$f":"F86+F87","v":0}]