{"text_format":"3","workbook":"xlsx","n_sheets":1,"sheets":["Производственная программа"],"not_rendered":{"macros":1,"external_links":2,"defined_names":68},"read":"whole","date_system":"1900"}

{"sheet":"Производственная программа","index":0,"n_rows":63,"n_cols":258,"rows_kept":63,"merged":[[0,1,0,257],[6,1,6,229],[7,1,8,1],[7,3,8,3],[7,4,8,4],[7,5,8,5],[7,6,8,6],[7,7,8,7],[7,8,8,8],[7,9,8,9],[7,10,8,10],[7,11,8,11],[7,12,8,12],[7,13,8,13],[7,32,7,43],[7,44,7,55],[7,56,7,67],[7,68,7,69],[7,70,7,71],[7,72,7,73],[7,74,7,75],[7,76,7,77],[7,78,7,79],[7,80,7,81],[7,82,7,83],[7,84,7,85],[7,86,7,87],[7,88,7,89],[7,90,7,91],[7,92,7,93],[7,94,7,95],[7,96,7,97],[7,98,7,99],[7,100,7,101],[7,102,7,103],[7,104,7,105],[7,106,7,107],[7,108,7,109],[7,110,7,111],[7,112,7,113],[7,114,7,115],[7,116,7,118],[7,119,7,121],[7,122,7,124],[7,125,7,127],[7,128,7,130],[7,131,7,133],[7,136,8,136],[7,137,8,137],[7,138,7,140],[7,141,7,143],[7,145,7,147],[7,148,7,150],[7,151,7,153],[7,154,7,156],[7,157,7,159],[7,160,7,162],[7,163,7,165],[7,166,7,168],[7,169,7,171],[7,172,7,174],[7,176,7,178],[7,179,7,181],[7,182,7,184],[7,185,7,187],[7,188,7,190],[7,191,7,193],[7,194,7,196],[7,197,7,199],[7,200,7,202],[7,203,7,205],[7,206,7,208],[7,209,7,211],[7,212,7,214],[7,215,7,217],[7,218,7,220],[7,221,7,223],[7,224,8,224],[7,225,7,226],[7,227,8,227],[7,228,8,228],[7,229,8,229],[7,230,7,241],[7,246,7,257],[42,1,42,3],[43,1,43,3],[44,1,44,3],[45,1,45,3]]}
[null,"ПРОИЗВОДСТВЕННАЯ ПРОГРАММА 2022-2028"]
[{"$nulls":254}," - Начало СМР"]
[{"$nulls":230},"●"," - Внутреннее согласование  архитектурно-градостроительной концепции застройки в АБД проведено;",{"$nulls":10},"▪","  - разрешения на строительство получено;",{"$nulls":10}," - СМР"]
[{"$nulls":230},"●"," -В УАиГ получено согласование архитектурной концепции с эскизом застройки ;",{"$nulls":10},"▪"," - старт продаж",{"$nulls":10}," - Производство панелей"]
[{"$nulls":230},"●"," - Эскизный проект (1 этап) согласован;",{"$nulls":10},"▪"," - получен ЗОС;",{"$nulls":10}," - Ввод объекта в эксплуатацию"]
[{"$nulls":230},"●"," - Утверждение отклонений от предельных параметров разрешенного строительства;",{"$nulls":10},"▪"," - зарегистрирована превая квартира на покупателя/раскрыты эскроу счета;",{"$nulls":9},"ДДУ"," - Передача ключей по ДДУ"]
[null,"Фасад 2023-Утеплитель"]
["№ п/п","№ п/п","Код по 1C","Наименование объектов","Общая площадь здания, м2","Материал","Характеристика","ед.изм","Количество","Продаваемая площадь, м2","Площадь квартир, м2","Площадь коммерции, м2","Паркинги, маш/мест","Кол-во квартир","Кол-во БС","Этажность (жилые этажи)","Кол-во домов","Конструктив","Тип панелей","Тип проектирования","Полный объем м3 панель","Полный объем шт панель","Каркасы м3","Площадь кладовых, м2","Фактический объем панелей м3","Разница панели м3","КПД м3 2020","Каркасы м3","каркасы разница м3",null,"Фаза Прединвест/ Инвест ","Комментарии","План на 24.03.2021",{"$nulls":11},"Проноз на 23.11.2021",{"$nulls":11},"Проноз на 14.03.2022",{"$nulls":11},"Программа на февраль 2020",null,"Программа на июль 2020",null,"Программа на 10.12.2020",null,"Программа на 17.12.2020",null,"Программа на 20.01.2021",null,"Программа на 10.02.2021",null,"Программа на 20.02.2021",null,"Программа на 01.03.2021",null,"Программа на 09.03.21",null,"Программа на 19.03.21",null,"Программа на 31.03.21",null,"Программа на 09.04.21",null,"Программа на 19.04.21",null,"Программа на 28.04.21",null,"Программа на 17.05.21",null,"Программа на 02.06.21",null,"Программа на 18.06.21",null,"Программа на 29.06.21",null,"Программа на 08.07.21",null,"Программа на 23.07.21",null,"Программа на 26.07.21",null,"Программа на 11.08.21",null,"Программа на 19.08.21",null,"Программа на 27.08.21",null,"Программа на 09.09.21",null,null,"Программа на 22.09.21",null,null,"Программа на 11.10.21",null,null,"Программа на 10.11.21",null,null,"Программа на 29.11.21",null,null,"Программа на 07.12.21",null,null,"Срок СМР (мес.) ","Срок СМР (мес.)","Согласов-е АГК в АБД","Согласов-е  ЭП 1 этап в УАиГ","Программа на 14.12.21",null,null,"Программа на 27.12.21",null,null,"Срок СМР (мес.)","Программа на 24.01.21",null,null,"Программа на 04.02.22",null,null,"Программа на 11.02.22",null,null,"Программа на 21.02.22",null,null,"Программа на 05.03.22",null,null,"Программа на 18.03.22",null,null,"Программа на 01.04.22",null,null,"Программа на 15.04.22",null,null,"Программа на 18.04.22",null,null,"Программа на 22.04.22\nпо ПП ДЭ",null,null,"Срок СМР (мес.) ","Программа на 29.04.22 по финплану",null,null,"Программа на 13.05.22",null,null,"Программа на 23.05.22",null,null,"Программа на 27.05.22",null,null,"Программа на 10.06.22",null,null,"Программа на 24.06.22",null,null,"Программа на 08.07.22",null,null,"Программа на 22.07.22",null,null,"Программа на 05.08.22",null,null,"Программа на 19.08.22",null,null,"Программа на 02.09.22",null,null,"Программа на 16.09.22",null,null,"Программа на 30.09.22",null,null,"Программа на 14.10.22",null,null,"Программа на 28.10.22",null,null,"Программа на 11.11.22",null,null,"Статус","Проектировщик",null,"Ген. Подрядчик","Срок РНС до","Передача ключей по ДДУ (обяз-ва)",2021,{"$nulls":11},"КПД 2021","ВВОД 2021","ЗАДЕЛ 2021","Проектирование 2021",2023]
[{"$nulls":32},"ТЗ на концепцию","Согл. конц. в АБД","Согл. конц. в УАиГ","Согласование ЭП 1 этап","Утвержение отклонений","Положительная экспертиза","Старт продаж","Выдача КЖИ","Производство панелей","Получение ЗОС","Раскрытие эскроу-счетов","Ввод по БАНКУ","ТЗ на концепцию","Согл. конц. в АБД","Согл. конц. в УАиГ","Согласование ЭП 1 этап","Утвержение отклонений","Положительная экспертиза","Старт продаж","Выдача КЖИ","Производство панелей","Получение ЗОС","Раскрытие эскроу-счетов","Ввод по БАНКУ","ТЗ на концепцию","Согл. конц. в АБД","Согл. конц. в УАиГ","Согласование ЭП 1 этап","Утвержение отклонений","Положительная экспертиза","Старт продаж","Выдача КЖИ","Производство панелей","Получение ЗОС","Раскрытие эскроу-счетов","Ввод по БАНКУ","Разрешение","Ввод объекта","Разрешение","Ввод объекта","Разрешение","Ввод объекта","Разрешение","Ввод объекта","Разрешение","Ввод объекта","Разрешение","Ввод объекта","Разрешение","Ввод объекта","Разрешение","Ввод объекта","Разрешение","Ввод объекта","Разрешение","Ввод объекта","Разрешение","Ввод объекта","Разрешение","Ввод объекта","Разрешение","Ввод объекта","Разрешение","Ввод объекта","Разрешение","Ввод объекта","Разрешение","Ввод объекта","Разрешение","Ввод объекта","Разрешение","Ввод объекта","Разрешение","Ввод объекта","Разрешение","Ввод объекта","Разрешение","Ввод объекта","Разрешение","Ввод объекта","Разрешение","Ввод объекта","Разрешение","Ввод объекта","Разрешение","Начало СМР","Ввод объекта","Разрешение","Начало СМР","Ввод объекта","Разрешение","Начало СМР","Ввод объекта","Разрешение","Начало СМР","Ввод объекта","Разрешение","Начало СМР","Ввод объекта","Разрешение","Начало СМР","Ввод объекта","Начало СМР - Ввод"," РНС - Ввод",null,null,"Разрешение","Начало СМР","Ввод объекта","Разрешение","Начало СМР","Ввод объекта"," РНС - Ввод","Разрешение","Начало СМР","Ввод объекта","Разрешение","Начало СМР","Ввод объекта","Разрешение","Начало СМР","Ввод объекта","Разрешение","Начало СМР","Ввод объекта","Разрешение","Начало СМР","Ввод объекта","Разрешение","Начало СМР","Ввод объекта","Разрешение","Начало СМР","Ввод объекта","Разрешение","Начало СМР","Ввод объекта","Разрешение","Начало СМР","Ввод объекта","Разрешение","Начало СМР","Ввод объекта","Начало СМР - Ввод","Разрешение","Начало СМР","Ввод объекта","Разрешение","Начало СМР","Ввод объекта","Разрешение","Начало СМР","Ввод объекта","Разрешение","Начало СМР","Ввод объекта","Разрешение","Начало СМР","Ввод объекта","Разрешение","Начало СМР","Ввод объекта","Разрешение","Начало СМР","Ввод объекта","Разрешение","Начало СМР","Ввод объекта","Разрешение","Начало СМР","Ввод объекта","Разрешение","Начало СМР","Ввод объекта","Разрешение","Начало СМР","Ввод объекта","Разрешение","Начало СМР","Ввод объекта","Разрешение","Начало СМР","Ввод объекта","Разрешение","Начало СМР","Ввод объекта","Разрешение","Начало СМР","Ввод объекта","Разрешение","Начало СМР","Ввод объекта",null,"АГК-ЭП","ЭП-Эксперт",{"$nulls":3},"янв","фев","мар","апр","май","июн","июл","авг","сен","окт","ноя","дек","м3","м2","м2","м2","янв","фев","мар","апр","май","июн","июл","авг","сен","окт","ноя","дек"]
["1","1","2","2",{"$nulls":5},"3",4,5,6,7,14,15,16,17,18,19,20,21,22,null,"18","19","20","21","22","23","24","25","26","27","28","29","30","31","32","33","34","35","36","37","38","39","40","41","42","43","44","45","46","47","48","49","38","39","40","41","42","43","44","45","46","47","48","49","50","51","52","53","54","55","56","57","58","59","60","61","62","63","64","65","66","67","68","69","70","71","72","73","74","75","76","77","78","79","80","81","82","83","84","85","86","87","88","89","90","91","92","93","94","95","96","97","98","99","100","101","102","103",100,101,102,"104","105","106",100,101,102,{"$nulls":3},101,102,103,104,{"$nulls":3},105,106,107,25,105,106,107,105,106,107,26,27,28,26,27,28,26,27,28,26,27,28,26,27,28,26,27,28,26,27,28,25,26,27,28,26,27,28,{"$nulls":3},29,30,31,29,30,31,29,30,31,29,30,31,29,30,31,29,30,31,29,30,31,29,30,31,29,30,31,29,30,31,29,30,31,29,30,31,29,30,31,29,30,31,32,null,null,33,34,35,36,37,38,39,40,41,42,43,44,45,46,47,48,49,50,51,68,69,70,71,72,73,74,75,76,77,78,79]
[10,"1.3","СГ00.09.0.00.0","Жилой комплекс \"Солнечный город\" ПК-9",{"$f":"E12","v":0},{"$nulls":5},{"$f":"SUM(K12:K12)","v":0},null,{"$f":"SUM(M12:M12)","v":0},{"$f":"SUM(N12:N12)","v":0},null,null,{"$f":"SUM(Q12:Q12)","v":0},{"$nulls":3},{"$f":"SUM(U12:U12)","v":0},0,null,null,{"$f":"SUM(II11,#REF!,#REF!,#REF!,#REF!,#REF!,#REF!,#REF!)","v":{"$error":"#REF!"}},{"$f":"V11-Y11","v":{"$error":"#REF!"}},{"$nulls":50},"2022-01-05","2022-12-05","2022-01-05","2022-12-05","2022-01-05","2022-12-05","2022-01-05","2022-12-05","2022-01-05","2022-12-05","2022-01-05","2022-12-05","2022-01-05","2022-12-05","2022-01-05","2022-12-05","2022-01-05","2022-12-05",{"$f":"MIN(CQ12)","v":"2021-12-01"},{"$f":"MAX(CR12)","v":"2022-12-30"},{"$f":"MIN(CS12)","v":"2021-12-01"},{"$f":"MAX(CT12)","v":"2022-12-30"},{"$f":"MIN(CU12)","v":"2021-12-01"},{"$f":"MAX(CV12)","v":"2022-12-30"},{"$f":"MIN(CW12)","v":"2021-12-01"},{"$f":"MAX(CX12)","v":"2022-12-30"},{"$f":"MIN(CY12)","v":"2021-12-01"},{"$f":"MAX(CZ12)","v":"2022-12-30"},{"$f":"MIN(DA12)","v":"2021-12-01"},{"$f":"MAX(DB12)","v":"2022-12-30"},{"$f":"MIN(DC12)","v":"2021-12-01"},{"$f":"MAX(DD12)","v":"2022-12-30"},{"$f":"MIN(DE12)","v":"2021-12-01"},{"$f":"MAX(DF12)","v":"2022-12-30"},{"$f":"MIN(DG12)","v":"2021-12-01"},{"$f":"MAX(DH12)","v":"2022-12-30"},{"$f":"MIN(DI12)","v":"2021-12-01"},{"$f":"MAX(DJ12)","v":"2022-12-30"},{"$f":"MIN(DK12)","v":"2021-12-01"},{"$f":"MAX(DL12)","v":"2022-12-30"},{"$f":"MIN(DM12)","v":"2021-12-01"},{"$f":"MIN(DN12)","v":"2021-12-01"},{"$f":"MAX(DO12)","v":"2022-12-30"},{"$f":"MIN(DP12)","v":"2021-12-01"},{"$f":"MIN(DQ12)","v":"2021-12-01"},{"$f":"MAX(DR12)","v":"2022-12-30"},{"$f":"MIN(DS12)","v":"2021-12-01"},{"$f":"MIN(DT12)","v":"2021-12-01"},{"$f":"MAX(DU12)","v":"2022-12-30"},{"$f":"MIN(DV12)","v":"2021-12-01"},{"$f":"MIN(DW12)","v":"2021-12-01"},{"$f":"MAX(DX12)","v":"2022-12-30"},{"$f":"MIN(DY12)","v":"2021-12-01"},{"$f":"MIN(DZ12)","v":"2021-12-01"},{"$f":"MAX(EA12)","v":"2022-12-30"},"2021-12-01","2021-12-01","2022-12-30",{"$nulls":4},"2021-12-01","2021-12-01","2022-12-30",{"$f":"MIN(EL12)","v":"2021-12-01"},{"$f":"MIN(EM12)","v":"2021-12-01"},{"$f":"MAX(EN12)","v":"2022-12-30"},null,{"$f":"MIN(EP12)","v":"2021-12-01"},{"$f":"MIN(EQ12)","v":"2021-12-01"},{"$f":"MAX(ER12)","v":"2022-12-30"},{"$f":"MIN(ES12)","v":"2021-12-01"},{"$f":"MIN(ET12)","v":"2021-12-01"},{"$f":"MAX(EU12)","v":"2022-12-30"},{"$f":"MIN(EV12)","v":"2021-12-01"},{"$f":"MIN(EW12)","v":"2021-12-01"},{"$f":"MAX(EX12)","v":"2022-12-30"},"2021-12-01","2021-12-01","2022-12-30",{"$f":"MIN(FB12)","v":"2021-12-01"},{"$f":"MIN(FC12)","v":"2021-12-01"},{"$f":"MAX(FD12)","v":"2022-12-30"},{"$f":"MIN(FE12)","v":"2021-12-01"},{"$f":"MIN(FF12)","v":"2021-12-01"},{"$f":"MAX(FG12)","v":"2022-12-30"},"2021-12-01","2021-12-01","2022-12-30",{"$f":"MIN(FK12)","v":"2021-12-01"},{"$f":"MIN(FL12)","v":"2021-12-01"},{"$f":"MAX(FM12)","v":"2022-12-30"},{"$f":"MIN(FN12)","v":"2021-12-01"},{"$f":"MIN(FO12)","v":"2021-12-01"},{"$f":"MAX(FP12)","v":"2022-12-30"},"2021-12-01","2021-12-01","2022-12-30",null,{"$f":"MIN(FU12)","v":"2021-12-01"},{"$f":"MIN(FV12)","v":"2021-12-01"},{"$f":"MAX(FW12)","v":"2022-12-30"},"2021-12-01","2021-12-01","2022-12-30",{"$f":"MIN(GA12)","v":"2021-12-01"},{"$f":"MIN(GB12)","v":"2021-12-01"},{"$f":"MAX(GC12)","v":"2022-12-30"},{"$f":"MIN(GD12)","v":"2021-12-01"},{"$f":"MIN(GE12)","v":"2021-12-01"},{"$f":"MAX(GF12)","v":"2022-12-30"},{"$f":"MIN(GG12)","v":"2021-12-01"},{"$f":"MIN(GH12)","v":"2021-12-01"},{"$f":"MAX(GI12)","v":"2022-12-30"},{"$f":"MIN(GJ12)","v":"2021-12-01"},{"$f":"MIN(GK12)","v":"2021-12-01"},{"$f":"MAX(GL12)","v":"2022-12-30"},{"$f":"MIN(GM12)","v":"2021-12-01"},{"$f":"MIN(GN12)","v":"2021-12-01"},{"$f":"MAX(GO12)","v":"2022-12-30"},{"$f":"MIN(GP12)","v":"2021-12-01"},{"$f":"MIN(GQ12)","v":"2021-12-01"},{"$f":"MAX(GR12)","v":"2022-12-30"},{"$f":"MIN(GS12)","v":"2021-12-01"},{"$f":"MIN(GT12)","v":"2021-12-01"},{"$f":"MAX(GU12)","v":"2022-12-30"},{"$f":"MIN(GV12)","v":"2021-12-01"},{"$f":"MIN(GW12)","v":"2021-12-01"},{"$f":"MAX(GX12)","v":"2022-12-30"},{"$f":"MIN(GY12)","v":"2021-12-01"},{"$f":"MIN(GZ12)","v":"2021-12-01"},{"$f":"MAX(HA12)","v":"2022-12-30"},{"$f":"MIN(HB12)","v":"2021-12-01"},{"$f":"MIN(HC12)","v":"2021-12-01"},{"$f":"MAX(HD12)","v":"2022-12-30"},{"$f":"MIN(HE12)","v":"2021-12-01"},{"$f":"MIN(HF12)","v":"2021-12-01"},{"$f":"MAX(HG12)","v":"2022-12-30"},{"$f":"MIN(HH12)","v":"2021-12-01"},{"$f":"MIN(HI12)","v":"2021-12-01"},{"$f":"MAX(HJ12)","v":"2022-12-30"},{"$f":"MIN(HK12)","v":"2021-12-01"},{"$f":"MIN(HL12)","v":"2021-12-01"},{"$f":"MAX(HM12)","v":"2022-12-30"},{"$f":"MIN(HN12)","v":"2021-12-01"},{"$f":"MIN(HO12)","v":"2021-12-01"},{"$f":"MAX(HP12)","v":"2022-12-30"},{"$nulls":6},{"$f":"SUM(HW12:HW12)","v":0},0,0,0,0,0,0,0,0,0,0,0,0,0,0,0,{"$f":"SUM(IM12:IM12)","v":0},0,0,0,0,0,0,0,0,0,0,0]
[11,"1.3.1","СГ00.09.2.00.0","Жилой комплекс \"Солнечный город\" ПК-9 Адм здание 17-3",{"$nulls":5},{"$f":"L12","v":2100},null,{"v":2100,"d":"2,100 "},null,null,1,3,null,"Не опред.",{"$nulls":6},{"$f":"SUM(II12,#REF!,#REF!,#REF!,#REF!,#REF!,#REF!,#REF!)","v":{"$error":"#REF!"}},{"$error":"#REF!"},{"$nulls":4},"Прединвест",{"$nulls":45},"2022-01-05","2022-12-05","2022-01-05","2022-12-05","2022-01-05","2022-12-05","2022-01-05","2022-12-05","2022-01-05","2022-12-05","2022-01-05","2022-12-05","2021-12-01","2022-12-05","2022-01-05","2022-12-05","2022-01-05","2022-12-30","2021-12-01","2022-12-30","2021-12-01","2022-12-30","2021-12-01","2022-12-30","2021-12-01","2022-12-30","2021-12-01","2022-12-30","2021-12-01","2022-12-30","2021-12-01","2022-12-30","2021-12-01","2022-12-30","2021-12-01","2022-12-30","2021-12-01","2022-12-30","2021-12-01","2022-12-30","2021-12-01","2021-12-01","2022-12-30","2021-12-01","2021-12-01","2022-12-30","2021-12-01","2021-12-01","2022-12-30","2021-12-01","2021-12-01","2022-12-30","2021-12-01","2021-12-01","2022-12-30","2021-12-01","2021-12-01","2022-12-30",{"$f":"(DO12-DN12)/30","v":{"v":13.133333333333333,"d":"13"}},{"$f":"(DO12-DM12)/30","v":{"v":13.133333333333333,"d":"13"}}," -"," -","2021-12-01","2021-12-01","2022-12-30","2021-12-01","2021-12-01","2022-12-30",{"$f":"(EB12-DZ12)/30","v":0},"2021-12-01","2021-12-01","2022-12-30","2021-12-01","2021-12-01","2022-12-30","2021-12-01","2021-12-01","2022-12-30","2021-12-01","2021-12-01","2022-12-30","2021-12-01","2021-12-01","2022-12-30","2021-12-01","2021-12-01","2022-12-30","2021-12-01","2021-12-01","2022-12-30","2021-12-01","2021-12-01","2022-12-30","2021-12-01","2021-12-01","2022-12-30","2021-12-01","2021-12-01","2022-12-30",{"$f":"(FS12-FR12)/30","v":{"v":13.133333333333333,"d":"13"}},"2021-12-01","2021-12-01","2022-12-30","2021-12-01","2021-12-01","2022-12-30","2021-12-01","2021-12-01","2022-12-30","2021-12-01","2021-12-01","2022-12-30","2021-12-01","2021-12-01","2022-12-30","2021-12-01","2021-12-01","2022-12-30","2021-12-01","2021-12-01","2022-12-30","2021-12-01","2021-12-01","2022-12-30","2021-12-01","2021-12-01","2022-12-30","2021-12-01","2021-12-01","2022-12-30","2021-12-01","2021-12-01","2022-12-30","2021-12-01","2021-12-01","2022-12-30","2021-12-01","2021-12-01","2022-12-30","2021-12-01","2021-12-01","2022-12-30","2021-12-01","2021-12-01","2022-12-30","2021-12-01","2021-12-01","2022-12-30",{"$nulls":18},{"$f":"SUM(HW12:IH12)","v":0}]
[30,"2.3","СД00.03.0.00.0","ЖК \"Светлая Долина\" ПК-3",{"$f":"SUM(E14:E18)","v":{"v":95980.48,"d":"95,980 "}},{"$nulls":4},{"$f":"SUM(J14,J16,J17,J18)","v":{"v":45952.8,"d":"45,953 "}},{"$f":"SUM(K14:K18)","v":{"v":62208.91,"d":"62,209 "}},{"$f":"SUM(L14:L18)","v":{"v":4473.610000000001,"d":"4,474 "}},{"$f":"SUM(M14:M18)","v":0},{"$f":"SUM(N14:N18)","v":{"v":1469,"d":"1,469 "}},null,null,{"$f":"SUM(Q14:Q18)","v":5},{"$nulls":3},{"$f":"SUM(U14:U18)","v":{"v":14871.62454,"d":"14,872 "}},{"$f":"SUM(V14:V18)","v":{"v":11689.09688844,"d":"11,689 "}},{"$f":"SUM(W14:W18)","v":{"v":1075.3046,"d":"1,075 "}},null,{"$f":"SUM(II13,#REF!,#REF!,#REF!,#REF!,#REF!,#REF!,#REF!)","v":{"$error":"#REF!"}},{"$f":"U13-Y13-AA13","v":{"$error":"#REF!"}},{"$nulls":5},"1) Идет процедура получения отклонений. Есть информация, что Нигматзянов отправляет наш проект в прокуратуру, и не будет согласовывать нам отклонения. В срок до 30.11.21г. будет подготовлен новый ПМТ, на котором будут иные красные линии, после чего у нас отпадет необходимость в получении отклонений. Также будет изменен ГПЗУ, следовательно, выдать проект невозможно.\n2) Обнаружена проблема с водопонижением (аналогично ПК-17). АБ-1 вносит изменения в проект, принято наиболее экономически целесообразное решение - дополнительная гидроизоляция. \nВ связи с вышесказанным, имеются риски сдвига получения РНС на 1 месяц",{"$nulls":36},"2022-06-01","2024-07-30","2022-06-01","2024-07-30","2022-06-01","2024-07-01","2022-06-01","2024-07-01","2021-12-01","2024-01-01","2021-12-01","2024-08-01","2021-12-01","2024-08-01","2021-12-01","2024-08-01","2021-12-01","2024-08-01","2021-12-01","2024-08-01","2021-12-01","2024-08-01","2021-12-01","2024-08-01","2021-12-01","2024-08-01",{"$f":"MIN(CQ14:CQ18)","v":"2021-12-01"},{"$f":"MAX(CR14:CR18)","v":"2024-08-01"},{"$f":"MIN(CS14:CS18)","v":"2021-12-01"},{"$f":"MAX(CT14:CT18)","v":"2024-08-01"},{"$f":"MIN(CU14:CU18)","v":"2021-12-01"},{"$f":"MAX(CV14:CV18)","v":"2024-08-01"},{"$f":"MIN(CW14:CW18)","v":"2021-12-01"},{"$f":"MAX(CX14:CX18)","v":"2024-08-01"},{"$f":"MIN(CY14:CY18)","v":"2021-12-01"},{"$f":"MAX(CZ14:CZ18)","v":"2024-08-01"},{"$f":"MIN(DA14:DA18)","v":"2021-12-01"},{"$f":"MAX(DB14:DB18)","v":"2024-08-01"},{"$f":"MIN(DC14:DC18)","v":"2021-12-01"},{"$f":"MAX(DD14:DD18)","v":"2024-08-01"},{"$f":"MIN(DE14:DE18)","v":"2021-12-30"},{"$f":"MAX(DF14:DF18)","v":"2024-08-01"},{"$f":"MIN(DG14:DG18)","v":"2021-12-01"},{"$f":"MAX(DH14:DH18)","v":"2024-08-01"},{"$f":"MIN(DI14:DI18)","v":"2021-12-30"},{"$f":"MAX(DJ14:DJ18)","v":"2024-08-01"},{"$f":"MIN(DK14:DK18)","v":"2021-12-30"},{"$f":"MAX(DL14:DL18)","v":"2024-08-01"},{"$f":"MIN(DM14:DM18)","v":"2021-12-30"},{"$f":"MIN(DN14:DN18)","v":"2022-01-30"},{"$f":"MAX(DO14:DO18)","v":"2024-08-01"},{"$f":"MIN(DP14:DP18)","v":"2021-12-30"},{"$f":"MIN(DQ14:DQ18)","v":"2022-01-30"},{"$f":"MAX(DR14:DR18)","v":"2024-08-01"},{"$f":"MIN(DS14:DS18)","v":"2021-12-30"},{"$f":"MIN(DT14:DT18)","v":"2022-01-30"},{"$f":"MAX(DU14:DU18)","v":"2024-08-01"},{"$f":"MIN(DV14:DV18)","v":"2021-12-30"},{"$f":"MIN(DW14:DW18)","v":"2022-01-30"},{"$f":"MAX(DX14:DX18)","v":"2024-08-01"},{"$f":"MIN(DY14:DY18)","v":"2022-02-28"},{"$f":"MIN(DZ14,DZ16,DZ17,DZ18)","v":"2022-03-14"},{"$f":"MAX(EA14:EA18)","v":"2024-08-01"},"2022-03-30","2022-04-13","2024-09-30",{"$nulls":4},"2022-03-30","2022-04-13","2024-09-30",{"$f":"MIN(EL14:EL18)","v":"2022-02-28"},{"$f":"MIN(EM14,EM16,EM17,EM18)","v":"2022-03-14"},{"$f":"MAX(EN14:EN18)","v":"2024-09-30"},null,{"$f":"MIN(EP14:EP18)","v":"2022-03-15"},{"$f":"MIN(EQ14,EQ16,EQ17,EQ18)","v":"2022-03-29"},{"$f":"MAX(ER14:ER18)","v":"2024-09-30"},{"$f":"MIN(ES14:ES18)","v":"2022-03-15"},{"$f":"MIN(ET14,ET16,ET17,ET18)","v":"2022-03-29"},{"$f":"MAX(EU14:EU18)","v":"2024-09-30"},{"$f":"MIN(EV14:EV18)","v":"2022-03-15"},{"$f":"MIN(EW14,EW16,EW17,EW18)","v":"2022-03-29"},{"$f":"MAX(EX14:EX18)","v":"2024-09-30"},"2022-03-20","2022-04-03","2024-09-30",{"$f":"MIN(FB14:FB18)","v":"2022-03-20"},{"$f":"MIN(FC14,FC16,FC17,FC18)","v":"2022-04-03"},{"$f":"MAX(FD14:FD18)","v":"2024-09-30"},{"$f":"MIN(FE14:FE18)","v":"2022-05-15"},{"$f":"MIN(FF14,FF16,FF17,FF18)","v":"2022-05-30"},{"$f":"MAX(FG14:FG18)","v":"2024-09-30"},"2022-07-30","2022-07-30","2024-09-30",{"$f":"MIN(FK14:FK18)","v":"2022-07-30"},{"$f":"MIN(FL14,FL16,FL17,FL18)","v":"2022-07-30"},{"$f":"MAX(FM14:FM18)","v":"2024-09-30"},{"$f":"MIN(FN14:FN18)","v":"2022-07-30"},{"$f":"MIN(FO14,FO16,FO17,FO18)","v":"2022-07-30"},{"$f":"MAX(FP14:FP18)","v":"2024-09-30"},"2022-07-30","2022-09-01","2024-11-30",null,{"$f":"MIN(FU14:FU18)","v":"2022-07-30"},{"$f":"MIN(FV14,FV16,FV17,FV18)","v":"2022-09-01"},{"$f":"MAX(FW14:FW18)","v":"2024-11-30"},"2022-07-15","2022-08-29","2024-11-30",{"$f":"MIN(GA14:GA18)","v":"2022-07-15"},{"$f":"MIN(GB14,GB16,GB17,GB18)","v":"2022-08-29"},{"$f":"MAX(GC14:GC18)","v":"2024-11-30"},{"$f":"MIN(GD14:GD18)","v":"2022-07-15"},{"$f":"MIN(GE14,GE16,GE17,GE18)","v":"2022-08-29"},{"$f":"MAX(GF14:GF18)","v":"2024-11-30"},{"$f":"MIN(GG14:GG18)","v":"2022-08-15"},{"$f":"MIN(GH14,GH16,GH17,GH18)","v":"2022-08-29"},{"$f":"MAX(GI14:GI18)","v":"2024-11-30"},{"$f":"MIN(GJ14:GJ18)","v":"2022-08-15"},{"$f":"MIN(GK14,GK16,GK17,GK18)","v":"2022-08-29"},{"$f":"MAX(GL14:GL18)","v":"2024-11-30"},{"$f":"MIN(GM14:GM18)","v":"2022-08-31"},{"$f":"MIN(GN14,GN16,GN17,GN18)","v":"2022-08-31"},{"$f":"MAX(GO14:GO18)","v":"2024-11-30"},{"$f":"MIN(GP14:GP18)","v":"2022-09-30"},{"$f":"MIN(GQ14,GQ16,GQ17,GQ18)","v":"2022-09-30"},{"$f":"MAX(GR14:GR18)","v":"2024-11-30"},{"$f":"MIN(GS14:GS18)","v":"2022-09-30"},{"$f":"MIN(GT14,GT16,GT17,GT18)","v":"2022-09-30"},{"$f":"MAX(GU14:GU18)","v":"2024-11-30"},{"$f":"MIN(GV14:GV18)","v":"2022-09-30"},{"$f":"MIN(GW14,GW16,GW17,GW18)","v":"2022-09-30"},{"$f":"MAX(GX14:GX18)","v":"2024-11-30"},{"$f":"MIN(GY14:GY18)","v":"2022-09-30"},{"$f":"MIN(GZ14,GZ16,GZ17,GZ18)","v":"2022-09-30"},{"$f":"MAX(HA14:HA18)","v":"2024-11-30"},{"$f":"MIN(HB14:HB18)","v":"2022-10-24"},{"$f":"MIN(HC14,HC16,HC17,HC18)","v":"2022-10-24"},{"$f":"MAX(HD14:HD18)","v":"2024-11-30"},{"$f":"MIN(HE14:HE18)","v":"2022-10-24"},{"$f":"MIN(HF14,HF16,HF17,HF18)","v":"2022-10-24"},{"$f":"MAX(HG14:HG18)","v":"2024-11-30"},{"$f":"MIN(HH14:HH18)","v":"2022-10-27"},{"$f":"MIN(HI14,HI16,HI17,HI18)","v":"2022-10-27"},{"$f":"MAX(HJ14:HJ18)","v":"2024-11-30"},{"$f":"MIN(HK14:HK18)","v":"2022-11-10"},{"$f":"MIN(HL14,HL16,HL17,HL18)","v":"2022-11-10"},{"$f":"MAX(HM14:HM18)","v":"2024-11-30"},{"$f":"MIN(HN14:HN18)","v":"2022-11-10"},{"$f":"MIN(HO14,HO16,HO17,HO18)","v":"2022-11-10"},{"$f":"MAX(HP14:HP18)","v":"2024-11-30"},{"$nulls":5},{"$f":"MAX(HV14:HV18)","v":"2025-06-30"},{"$f":"SUM(HW14,HW16,HW17,HW18)","v":0},0,0,0,0,0,0,0,0,0,0,0,0,{"$error":"#REF!"},{"$error":"#REF!"},{"v":45952.8,"d":"45,953"}]
[31,"2.3.1","СД00.03.1.03.1","ЖК \"Светлая Долина\" ПК-3 ж/д 3-1",{"v":30508.82,"d":"30,509 "},"Утеплитель минераловатный t=150 мм\n","λ=0,038-0,041 Вт/м*К \nt=150мм\np=131-159кг/м3\nГорючесть НГ \nКаменная вата","м3",{"v":2577,"d":"2,577 "},{"$f":"K14+L14","v":{"v":20729.72,"d":"20,730 "}},{"v":19262.82,"d":"19,263 "},{"v":1466.9,"d":"1,467 "},null,{"v":480,"d":"480 "},2,"26 (24)",1,"Монолит",null,"Перепривязка",{"$nulls":4},{"$f":"SUM(II14,#REF!,#REF!,#REF!,#REF!,#REF!,#REF!,#REF!)","v":{"$error":"#REF!"}},{"$error":"#REF!"},{"$nulls":4},"Прединвест","Первоначально в ПП закладывался срок строительства для панельного дома - 2 года. \nДалее было принято решение о возведении монолитного дома, срок строительства которого 2,5 года.","2020-11-25","2020-12-25","2021-04-15","2021-04-30","2021-09-30","2021-10-31","2022-01-31",null,null,"2024-04-30","2024-10-31","2024-12-30","2020-11-25","2020-12-25","2021-04-15","2021-07-05","2021-11-01","2022-01-31","2022-01-31","нет","нет","2024-07-01","2024-10-31","2024-12-30","2020-11-25","2020-12-25","2021-04-15","2021-07-05","2021-11-30","2022-03-09","2022-03-20","нет","нет","2024-08-30","2024-10-30","2025-06-30","2022-06-01","2024-07-30","2022-06-01","2024-07-01","2022-06-01","2024-07-01","2022-06-01","2024-07-01","2021-12-30","2024-01-01","2021-12-01","2024-08-01","2021-12-01","2024-08-01","2021-12-01","2024-08-01","2021-12-01","2024-08-01","2021-12-01","2024-08-01","2021-12-01","2024-08-01","2021-12-01","2024-08-01","2021-12-01","2024-08-01","2021-12-01","2024-08-01","2021-12-01","2024-08-01","2021-12-01","2024-08-01","2021-12-01","2024-08-01","2021-12-01","2024-08-01","2021-12-01","2024-08-01","2021-12-01","2024-08-01","2021-12-30","2024-08-01","2021-12-01","2024-08-01","2021-12-30","2024-08-01","2021-12-30","2024-08-01","2021-12-30","2022-01-30","2024-08-01","2021-12-30","2022-01-30","2024-08-01","2021-12-30","2022-01-30","2024-08-01","2021-12-30","2022-01-30","2024-08-01","2022-02-28",{"$f":"DY14+14","v":"2022-03-14"},"2024-08-01","2022-03-30","2022-04-13","2024-09-30",{"$f":"(DO14-DN14)/30","v":{"v":30.466666666666665,"d":"30"}},{"$f":"(DO14-DM14)/30","v":{"v":31.5,"d":"32"}},"2020-12-25","2021-07-05","2022-03-30","2022-04-13","2024-09-30","2022-02-28",{"$f":"EL14+14","v":"2022-03-14"},"2024-09-30",{"$f":"(#REF!-#REF!)/30","v":{"$error":"#REF!"}},"2022-03-15",{"$f":"EP14+14","v":"2022-03-29"},"2024-09-30","2022-03-15",{"$f":"ES14+14","v":"2022-03-29"},"2024-09-30","2022-03-15",{"$f":"EV14+14","v":"2022-03-29"},"2024-09-30","2022-03-20","2022-04-03","2024-09-30","2022-03-20",{"$f":"FB14+14","v":"2022-04-03"},"2024-09-30","2022-05-15","2022-05-30","2024-09-30","2022-07-30","2022-07-30","2024-09-30","2022-07-30","2022-07-30","2024-09-30","2022-07-30","2022-07-30","2024-09-30","2022-07-30","2022-09-01","2024-11-30",{"$f":"(FS14-FR14)/30","v":{"v":27.366666666666667,"d":"27"}},"2022-07-30","2022-09-01","2024-11-30","2022-07-15","2022-08-29","2024-11-30","2022-07-15","2022-08-29","2024-11-30","2022-07-15","2022-08-29","2024-11-30","2022-08-15","2022-08-29","2024-11-30","2022-08-15","2022-08-29","2024-11-30","2022-08-31","2022-08-31","2024-11-30","2022-09-30","2022-09-30","2024-11-30","2022-09-30","2022-09-30","2024-11-30","2022-09-30","2022-09-30","2024-11-30","2022-10-17","2022-10-17","2024-11-30","2022-11-07","2022-11-07","2024-11-30","2022-11-07","2022-11-07","2024-11-30","2022-11-07","2022-11-07","2024-11-30","2022-12-08","2022-12-08","2024-11-30","2022-12-08","2022-12-08","2024-11-30",null,"АБ-1","АБ-1","Не определен",null,"2025-06-30",{"$nulls":3},"●",null,null,"●",{"$nulls":3},"●",null,{"$f":"SUM(HW14:IH14)","v":0},{"$f":"IF(YEAR(#REF!)=HW$8,$J14,0)","v":{"$error":"#REF!"}},{"$f":"IF(AND(YEAR(#REF!)<=HW$8,YEAR(#REF!)>HW$8),$J14,0)","v":{"$error":"#REF!"}},{"$f":"J14","v":{"v":20729.72,"d":"20,730"}}]
[31,"2.3.1","СД00.03.1.03.1","ЖК \"Светлая Долина\" ПК-3 ж/д 3-1",{"v":30508.82,"d":"30,509 "},"Утеплитель минераловатный t=50мм","λ=0,038-0,041 Вт/м*К \nt=50мм\np=131-159кг/м3\nГорючесть НГ \nКаменная вата","м3",{"v":447.832,"d":"448 "},{"$f":"K15+L15","v":{"v":20729.72,"d":"20,730 "}},{"v":19262.82,"d":"19,263 "},{"v":1466.9,"d":"1,467 "},null,{"v":480,"d":"480 "},2,"26 (24)",1,"Монолит",null,"Перепривязка",{"$nulls":4},{"$f":"SUM(II15,#REF!,#REF!,#REF!,#REF!,#REF!,#REF!,#REF!)","v":{"$error":"#REF!"}},{"$f":"U15-Y15-AA15","v":{"$error":"#REF!"}},{"$nulls":4},"Прединвест","Первоначально в ПП закладывался срок строительства для панельного дома - 2 года. \nДалее было принято решение о возведении монолитного дома, срок строительства которого 2,5 года.","2020-11-25","2020-12-25","2021-04-15","2021-04-30","2021-09-30","2021-10-31","2022-01-31",null,null,"2024-04-30","2024-10-31","2024-12-30","2020-11-25","2020-12-25","2021-04-15","2021-07-05","2021-11-01","2022-01-31","2022-01-31","нет","нет","2024-07-01","2024-10-31","2024-12-30","2020-11-25","2020-12-25","2021-04-15","2021-07-05","2021-11-30","2022-03-09","2022-03-20","нет","нет","2024-08-30","2024-10-30","2025-06-30","2022-06-01","2024-07-30","2022-06-01","2024-07-01","2022-06-01","2024-07-01","2022-06-01","2024-07-01","2021-12-30","2024-01-01","2021-12-01","2024-08-01","2021-12-01","2024-08-01","2021-12-01","2024-08-01","2021-12-01","2024-08-01","2021-12-01","2024-08-01","2021-12-01","2024-08-01","2021-12-01","2024-08-01","2021-12-01","2024-08-01","2021-12-01","2024-08-01","2021-12-01","2024-08-01","2021-12-01","2024-08-01","2021-12-01","2024-08-01","2021-12-01","2024-08-01","2021-12-01","2024-08-01","2021-12-01","2024-08-01","2021-12-30","2024-08-01","2021-12-01","2024-08-01","2021-12-30","2024-08-01","2021-12-30","2024-08-01","2021-12-30","2022-01-30","2024-08-01","2021-12-30","2022-01-30","2024-08-01","2021-12-30","2022-01-30","2024-08-01","2021-12-30","2022-01-30","2024-08-01","2022-02-28",{"$f":"DY15+14","v":"2022-03-14"},"2024-08-01","2022-03-30","2022-04-13","2024-09-30",{"$f":"(DO15-DN15)/30","v":{"v":30.466666666666665,"d":"30"}},{"$f":"(DO15-DM15)/30","v":{"v":31.5,"d":"32"}},"2020-12-25","2021-07-05","2022-03-30","2022-04-13","2024-09-30","2022-02-28",{"$f":"EL15+14","v":"2022-03-14"},"2024-09-30",{"$f":"(#REF!-#REF!)/30","v":{"$error":"#REF!"}},"2022-03-15",{"$f":"EP15+14","v":"2022-03-29"},"2024-09-30","2022-03-15",{"$f":"ES15+14","v":"2022-03-29"},"2024-09-30","2022-03-15",{"$f":"EV15+14","v":"2022-03-29"},"2024-09-30","2022-03-20","2022-04-03","2024-09-30","2022-03-20",{"$f":"FB15+14","v":"2022-04-03"},"2024-09-30","2022-05-15","2022-05-30","2024-09-30","2022-07-30","2022-07-30","2024-09-30","2022-07-30","2022-07-30","2024-09-30","2022-07-30","2022-07-30","2024-09-30","2022-07-30","2022-09-01","2024-11-30",{"$f":"(FS15-FR15)/30","v":{"v":27.366666666666667,"d":"27"}},"2022-07-30","2022-09-01","2024-11-30","2022-07-15","2022-08-29","2024-11-30","2022-07-15","2022-08-29","2024-11-30","2022-07-15","2022-08-29","2024-11-30","2022-08-15","2022-08-29","2024-11-30","2022-08-15","2022-08-29","2024-11-30","2022-08-31","2022-08-31","2024-11-30","2022-09-30","2022-09-30","2024-11-30","2022-09-30","2022-09-30","2024-11-30","2022-09-30","2022-09-30","2024-11-30","2022-10-17","2022-10-17","2024-11-30","2022-11-07","2022-11-07","2024-11-30","2022-11-07","2022-11-07","2024-11-30","2022-11-07","2022-11-07","2024-11-30","2022-12-08","2022-12-08","2024-11-30","2022-12-08","2022-12-08","2024-11-30",null,"АБ-1","АБ-1","Не определен",null,"2025-06-30",{"$nulls":3},"●",null,null,"●",{"$nulls":3},"●",null,{"$f":"SUM(HW15:IH15)","v":0},{"$f":"IF(YEAR(#REF!)=HW$8,$J15,0)","v":{"$error":"#REF!"}},{"$f":"IF(AND(YEAR(#REF!)<=HW$8,YEAR(#REF!)>HW$8),$J15,0)","v":{"$error":"#REF!"}},{"$f":"J15","v":{"v":20729.72,"d":"20,730"}}]
[32,"2.3.2","СД00.03.1.03.2","ЖК \"Светлая Долина\" ПК-3 ж/д 3-2",{"v":7459.91,"d":"7,460 "},"Утеплитель минераловатный t=150 мм\n","λ=0,038-0,041 Вт/м*К \nt=150мм\np=131-159кг/м3\nГорючесть НГ \nКаменная вата","м3",{"v":560.8163474178405,"d":"561 "},{"$f":"K16+L16","v":{"v":5285.570000000001,"d":"5,286 "}},{"v":4887.27,"d":"4,887 "},{"v":398.3,"d":"398 "},null,{"v":99,"d":"99 "},2,"11 (9)",1,"КПД, 1 Каркас","Тип 20","Перепривязка",{"$f":"J16*0.622","v":{"v":3287.6245400000003,"d":"3,288 "}},{"$f":"U16*0.786","v":{"v":2584.0728884400005,"d":"2,584 "}},{"v":264.3046,"d":"264 "},null,{"$f":"SUM(II16,#REF!,#REF!,#REF!,#REF!,#REF!,#REF!,#REF!)","v":{"$error":"#REF!"}},{"$error":"#REF!"},{"$nulls":4},"Прединвест",null,"2020-11-25","2020-12-25","2021-04-15","2021-04-30","2021-09-30","2021-10-31","2022-01-31",null,null,"2024-04-30","2024-10-31","2024-12-30","2020-11-25","2020-12-25","2021-04-15","2021-07-05","2021-11-02","2021-03-31","2022-01-31","2022-03-31","2022-05-31","2023-11-30","2024-01-31","2024-03-30","2020-11-25","2020-12-25","2021-04-15","2021-07-05","2021-11-30","2022-04-20","2022-05-30","2022-04-30","2022-06-30","2023-10-30","2023-12-30","2024-06-30","2022-06-01","2024-06-30","2022-06-01","2024-06-01","2022-06-01","2024-06-01","2022-06-01","2024-07-01","2021-12-30","2023-12-01","2021-12-02","2023-12-01","2021-12-02","2023-12-01","2021-12-02","2023-12-01","2021-12-02","2023-12-01","2021-12-02","2023-12-01","2021-12-02","2023-12-01","2021-12-02","2023-12-01","2021-12-02","2023-12-01","2021-12-02","2023-12-01","2021-12-02","2023-12-01","2021-12-02","2023-12-01","2021-12-02","2023-12-01","2021-12-02","2023-12-01","2021-12-02","2023-12-01","2021-12-02","2023-12-01","2021-12-30","2023-12-01","2021-12-02","2023-12-01","2021-12-30","2023-12-01","2021-12-30","2023-12-01","2021-12-30","2022-01-31","2023-12-31","2021-12-30","2022-01-31","2023-11-30","2021-12-30","2022-01-31","2023-11-30","2021-12-30","2022-01-31","2023-11-30","2022-05-05",{"$f":"DY16+14","v":"2022-05-19"},"2023-11-30","2022-05-05","2022-05-19","2023-11-30",{"$f":"(DO16-DN16)/30","v":{"v":23.3,"d":"23"}},{"$f":"(DO16-DM16)/30","v":{"v":24.366666666666667,"d":"24"}},"2020-12-25","2021-07-05","2022-04-30","2022-05-14","2023-11-30","2022-05-15",{"$f":"EL16+14","v":"2022-05-29"},"2023-11-30",{"$f":"(#REF!-#REF!)/30","v":{"$error":"#REF!"}},"2022-05-15",{"$f":"EP16+14","v":"2022-05-29"},"2023-11-30","2022-05-15",{"$f":"ES16+14","v":"2022-05-29"},"2023-11-30","2022-05-15",{"$f":"EV16+14","v":"2022-05-29"},"2023-11-30","2022-05-15","2022-05-29","2023-11-30","2022-05-15",{"$f":"FB16+14","v":"2022-05-29"},"2023-11-30","2022-05-15","2022-05-30","2023-11-30","2022-07-30","2022-07-30","2023-11-30","2022-07-30","2022-07-30","2023-11-30","2022-07-30","2022-07-30","2023-12-10","2022-07-30","2022-09-01","2024-11-30",{"$f":"(FS16-FR16)/30","v":{"v":27.366666666666667,"d":"27"}},"2022-07-30","2022-09-01","2024-11-30","2022-08-15","2022-08-29","2023-12-10","2022-08-15",{"$f":"GA16+14","v":"2022-08-29"},"2023-12-10","2022-08-15",{"$f":"GD16+14","v":"2022-08-29"},"2023-12-10","2022-08-15",{"$f":"GG16+14","v":"2022-08-29"},"2023-12-10","2022-08-15",{"$f":"GJ16+14","v":"2022-08-29"},"2023-12-10","2022-08-31","2022-08-31","2023-12-10","2022-09-30","2022-09-30","2023-12-10","2022-09-30","2022-09-30","2023-12-10","2022-09-30","2022-09-30","2023-12-10","2022-09-30","2022-09-30","2023-12-10","2022-10-24","2022-10-24","2023-12-10","2022-10-24","2022-10-24","2023-12-10","2022-10-27","2022-10-27","2023-12-10","2022-11-10","2022-11-10","2023-12-10","2022-11-10","2022-11-10","2023-12-10",null,"АБ-1","АБ-1","АБСт",null,"2025-06-30",{"$nulls":3},"●",null,null,"●",{"$nulls":3},"●",null,{"$f":"SUM(HW16:IH16)","v":0},{"$f":"IF(YEAR(#REF!)=HW$8,$J16,0)","v":{"$error":"#REF!"}},{"$f":"IF(AND(YEAR(#REF!)<=HW$8,YEAR(#REF!)>HW$8),$J16,0)","v":{"$error":"#REF!"}},{"$f":"J16","v":{"v":5285.570000000001,"d":"5,286"}}]
[34,"2.3.4","СД00.03.1.03.3","ЖК \"Светлая Долина\" ПК-3 ж/д 3-3",{"v":17139.98,"d":"17,140 "},"Утеплитель минераловатный t=150 мм\n","λ=0,038-0,041 Вт/м*К \nt=150мм\np=131-159кг/м3\nГорючесть НГ \nКаменная вата","м3",{"v":1317.6065258215963,"d":"1,318 "},{"$f":"K17+L17","v":{"v":12418.15,"d":"12,418 "}},{"v":11714.56,"d":"11,715 "},{"v":703.59,"d":"704 "},null,{"v":250,"d":"250 "},2,"18-20 (16-18)",1,"КПД, 1 Каркас","Тип 2.3","Перепривязка",{"v":7104,"d":"7,104 "},{"$f":"U17*0.786","v":{"v":5583.744000000001,"d":"5,584 "}},{"v":500,"d":"500 "},null,{"$f":"SUM(II17,#REF!,#REF!,#REF!,#REF!,#REF!,#REF!,#REF!)","v":{"$error":"#REF!"}},{"$error":"#REF!"},{"$nulls":4},"Прединвест",null,"2020-11-25","2020-12-25","2021-04-15","2021-04-30","2021-09-30","2021-10-31","2022-01-31",null,null,"2024-04-30","2024-10-31","2024-12-30","2020-11-25","2020-12-25","2021-04-15","2021-07-05","2021-11-04","2021-03-31","2022-01-31","2022-05-31","2022-07-31","2023-11-30","2024-01-31","2024-03-30","2020-11-25","2020-12-25","2021-04-15","2021-07-05","2021-11-30","2022-04-20","2022-05-30","2022-04-30","2022-06-30","2023-10-30","2023-12-30","2024-06-30","2022-06-01","2024-06-30","2022-06-01","2024-06-01","2022-06-01","2024-06-01","2022-06-01","2024-07-01","2021-12-30","2023-12-02","2021-12-03","2023-12-02","2021-12-03","2023-12-02","2021-12-03","2023-12-02","2021-12-03","2023-12-02","2021-12-03","2023-12-02","2021-12-03","2023-12-02","2021-12-03","2023-12-02","2021-12-03","2023-12-02","2021-12-03","2023-12-02","2021-12-03","2023-12-02","2021-12-03","2023-12-02","2021-12-03","2023-12-02","2021-12-03","2023-12-02","2021-12-03","2023-12-02","2021-12-03","2023-12-02","2021-12-30","2023-12-02","2021-12-03","2023-12-02","2021-12-30","2023-12-02","2021-12-30","2023-12-02","2021-12-30","2022-02-02","2023-12-31","2021-12-30","2022-02-02","2023-11-30","2021-12-30","2022-01-31","2023-11-30","2021-12-30","2022-01-31","2023-11-30","2022-05-05",{"$f":"DY17+14","v":"2022-05-19"},"2023-11-30","2022-05-05","2022-05-19","2023-11-30",{"$f":"(DO17-DN17)/30","v":{"v":23.233333333333334,"d":"23"}},{"$f":"(DO17-DM17)/30","v":{"v":24.366666666666667,"d":"24"}},"2020-12-25","2021-07-05","2022-04-30","2022-05-14","2023-11-30","2022-05-15",{"$f":"EL17+14","v":"2022-05-29"},"2023-11-30",{"$f":"(#REF!-#REF!)/30","v":{"$error":"#REF!"}},"2022-05-15",{"$f":"EP17+14","v":"2022-05-29"},"2023-11-30","2022-05-15",{"$f":"ES17+14","v":"2022-05-29"},"2023-11-30","2022-05-15",{"$f":"EV17+14","v":"2022-05-29"},"2023-11-30","2022-05-15","2022-05-29","2023-11-30","2022-05-15",{"$f":"FB17+14","v":"2022-05-29"},"2023-11-30","2022-05-15","2022-05-30","2023-11-30","2022-07-30","2022-07-30","2023-11-30","2022-07-30","2022-07-30","2023-11-30","2022-07-30","2022-07-30","2023-12-10","2022-07-30","2022-09-01","2024-11-30",{"$f":"(FS17-FR17)/30","v":{"v":27.366666666666667,"d":"27"}},"2022-07-30","2022-09-01","2024-11-30","2022-08-15","2022-08-29","2023-12-10","2022-08-15",{"$f":"GA17+14","v":"2022-08-29"},"2023-12-10","2022-08-15",{"$f":"GD17+14","v":"2022-08-29"},"2023-12-10","2022-08-15",{"$f":"GG17+14","v":"2022-08-29"},"2023-12-10","2022-08-15",{"$f":"GJ17+14","v":"2022-08-29"},"2023-12-10","2022-08-31","2022-08-31","2023-12-10","2022-09-30","2022-09-30","2023-12-10","2022-09-30","2022-09-30","2023-12-10","2022-09-30","2022-09-30","2023-12-10","2022-09-30","2022-09-30","2023-12-10","2022-10-24","2022-10-24","2023-12-10","2022-10-24","2022-10-24","2023-12-10","2022-10-27","2022-10-27","2023-12-10","2022-11-10","2022-11-10","2023-12-10","2022-11-10","2022-11-10","2023-12-10",null,"АБ-1","АБ-1","АБСт",null,"2025-06-30",{"$nulls":3},"●",null,null,"●",{"$nulls":3},"●",null,{"$f":"SUM(HW17:IH17)","v":0},{"$f":"IF(YEAR(#REF!)=HW$8,$J17,0)","v":{"$error":"#REF!"}},{"$f":"IF(AND(YEAR(#REF!)<=HW$8,YEAR(#REF!)>HW$8),$J17,0)","v":{"$error":"#REF!"}},{"$f":"J17","v":{"v":12418.15,"d":"12,418"}}]
[36,"2.3.6","СД00.03.1.03.4","ЖК \"Светлая Долина\" ПК-3 ж/д 3-4",{"v":10362.95,"d":"10,363 "},"Утеплитель минераловатный t=150 мм\n","λ=0,038-0,041 Вт/м*К \nt=150мм\np=131-159кг/м3\nГорючесть НГ \nКаменная вата","м3",{"v":797.8288075117371,"d":"798 "},{"$f":"K18+L18","v":{"v":7519.36,"d":"7,519 "}},{"v":7081.44,"d":"7,081 "},{"v":437.92,"d":"438 "},null,{"v":160,"d":"160 "},1,"18 (16)",1,"КПД, 1 Каркас","Тип 2.4","Перепривязка",{"v":4480,"d":"4,480 "},{"$f":"U18*0.786","v":{"v":3521.28,"d":"3,521 "}},{"v":311,"d":"311 "},null,{"$f":"SUM(II18,#REF!,#REF!,#REF!,#REF!,#REF!,#REF!,#REF!)","v":{"$error":"#REF!"}},{"$error":"#REF!"},{"$nulls":4},"Прединвест",null,"2020-11-25","2020-12-25","2021-04-15","2021-04-30","2021-09-30","2021-10-31","2022-01-31",null,null,"2024-04-30","2024-10-31","2024-12-30","2020-11-25","2020-12-25","2021-04-15","2021-07-05","2021-11-06","2021-03-31","2022-01-31","2022-07-31","2022-09-30","2023-11-30","2024-01-31","2024-03-30","2020-11-25","2020-12-25","2021-04-15","2021-07-05","2021-11-30","2022-04-20","2022-05-30","2022-04-30","2022-07-31","2023-10-30","2023-12-30","2024-06-30","2022-06-01","2024-06-30","2022-06-01","2024-06-01","2022-06-01","2024-06-01","2022-06-01","2024-07-01","2021-12-30","2023-12-03","2021-12-04","2023-12-03","2021-12-04","2023-12-03","2021-12-04","2023-12-03","2021-12-04","2023-12-03","2021-12-04","2023-12-03","2021-12-04","2023-12-03","2021-12-04","2023-12-03","2021-12-04","2023-12-03","2021-12-04","2023-12-03","2021-12-04","2023-12-03","2021-12-04","2023-12-03","2021-12-04","2023-12-03","2021-12-04","2023-12-03","2021-12-04","2023-12-03","2021-12-04","2023-12-03","2021-12-30","2023-12-03","2021-12-04","2023-12-03","2021-12-30","2023-12-03","2021-12-30","2023-12-03","2021-12-30","2022-02-04","2023-12-31","2021-12-30","2022-02-04","2023-11-30","2021-12-30","2022-01-31","2023-11-30","2021-12-30","2022-01-31","2023-11-30","2022-05-05",{"$f":"DY18+14","v":"2022-05-19"},"2023-11-30","2022-05-05","2022-05-19","2023-11-30",{"$f":"(DO18-DN18)/30","v":{"v":23.166666666666668,"d":"23"}},{"$f":"(DO18-DM18)/30","v":{"v":24.366666666666667,"d":"24"}},"2020-12-25","2021-07-05","2022-04-30","2022-05-14","2023-11-30","2022-05-15",{"$f":"EL18+14","v":"2022-05-29"},"2023-11-30",{"$f":"(#REF!-#REF!)/30","v":{"$error":"#REF!"}},"2022-05-15",{"$f":"EP18+14","v":"2022-05-29"},"2023-11-30","2022-05-15",{"$f":"ES18+14","v":"2022-05-29"},"2023-11-30","2022-05-15",{"$f":"EV18+14","v":"2022-05-29"},"2023-11-30","2022-05-15","2022-05-29","2023-11-30","2022-05-15",{"$f":"FB18+14","v":"2022-05-29"},"2023-11-30","2022-05-15","2022-05-30","2023-11-30","2022-07-30","2022-07-30","2023-11-30","2022-07-30","2022-07-30","2023-11-30","2022-07-30","2022-07-30","2023-12-10","2022-07-30","2022-09-01","2024-11-30",{"$f":"(FS18-FR18)/30","v":{"v":27.366666666666667,"d":"27"}},"2022-07-30","2022-09-01","2024-11-30","2022-08-15","2022-08-29","2023-12-10","2022-08-15",{"$f":"GA18+14","v":"2022-08-29"},"2023-12-10","2022-08-15",{"$f":"GD18+14","v":"2022-08-29"},"2023-12-10","2022-08-15",{"$f":"GG18+14","v":"2022-08-29"},"2023-12-10","2022-08-15",{"$f":"GJ18+14","v":"2022-08-29"},"2023-12-10","2022-08-31","2022-08-31","2023-12-10","2022-09-30","2022-09-30","2023-12-10","2022-09-30","2022-09-30","2023-12-10","2022-09-30","2022-09-30","2023-12-10","2022-09-30","2022-09-30","2023-12-10","2022-10-24","2022-10-24","2023-12-10","2022-10-24","2022-10-24","2023-12-10","2022-10-27","2022-10-27","2023-12-10","2022-11-10","2022-11-10","2023-12-10","2022-11-10","2022-11-10","2023-12-10",null,"АБ-1","АБ-1","АБСт",null,"2025-06-30",{"$nulls":3},"●",null,null,"●",{"$nulls":3},"●",null,{"$f":"SUM(HW18:IH18)","v":0},{"$f":"IF(YEAR(#REF!)=HW$8,$J18,0)","v":{"$error":"#REF!"}},{"$f":"IF(AND(YEAR(#REF!)<=HW$8,YEAR(#REF!)>HW$8),$J18,0)","v":{"$error":"#REF!"}},{"$f":"J18","v":{"v":7519.36,"d":"7,519"}}]
[null,"2.5","СД00.03.0.00.0","ЖК \"Светлая Долина\" ПК-5",{"$f":"E20","v":{"v":16356.92,"d":"16,357 "}}]
[null,"2.5.1","СД00.05.3.05.1","ЖК \"Светлая долина\" ПК-5 паркинг 5-1 на 506 м/м ",{"v":16356.92,"d":"16,357 "},"Утеплитель минераловатный t=100мм","λб= не более 0,041 Вт/м*К, p=32-44кг/м3, горючесть НГ, каменная вата","м3",{"v":70.886,"d":"71 "},{"v":1267.62,"d":"1,268 "},null,{"v":1267.62,"d":"1,268 "},{"v":506,"d":"506 "},null,null,9,null,"Каркас","Тип 5.1","Перепривязка"]
[null,"2.5.1","СД00.05.3.05.1","ЖК \"Светлая долина\" ПК-5 паркинг 5-1 на 506 м/м ",{"v":16356.92,"d":"16,357 "},"Утеплитель минераловатный t=50мм","λ= не более 0,039 Вт/м*К \np=72-100кг/м3\nгорючесть НГ, каменная вата","м3",{"v":35.443,"d":"35 "},{"v":1267.62,"d":"1,268 "},null,{"v":1267.62,"d":"1,268 "},{"v":506,"d":"506 "},null,null,9,null,"Каркас","Тип 5.1","Перепривязка"]
[null,"2.5.2",null,"ЖК \"Светлая долина\" ПК-5 паркинг 5-2 на 506 м/м ",null,"Утеплитель минераловатный t=100мм","λб= не более 0,041 Вт/м*К, p=32-44кг/м3, горючесть НГ, каменная вата","м3",{"v":70.886,"d":"71 "},{"$f":"L22+K22","v":{"v":1267.62,"d":"1,268 "}},null,{"v":1267.62,"d":"1,268 "},{"v":506,"d":"506 "},null,null,9,null,"Каркас","Тип 5.1","Перепривязка"]
[null,"2.5.2",null,"ЖК \"Светлая долина\" ПК-5 паркинг 5-2 на 506 м/м ",null,"Утеплитель минераловатный t=50мм","λ= не более 0,039 Вт/м*К \np=72-100кг/м3\nгорючесть НГ, каменная вата","м3",{"v":35.443,"d":"35 "},{"$f":"L23+K23","v":{"v":1267.62,"d":"1,268 "}},null,{"v":1267.62,"d":"1,268 "},{"v":506,"d":"506 "},null,null,9,null,"Каркас","Тип 5.1","Перепривязка"]
[71,"3.4.1","СНМ1.01.0.00.0","ЖР \"Седьмое Небо\" ЖК \"Мой ритм\" Микрорайон М-1 ПК-1",{"$f":"SUM(E25:E27)","v":0},{"$nulls":4},{"v":87610.2,"d":"87,610 "},{"v":76210.87,"d":"76,211 "},{"v":11399.330000000002,"d":"11,399 "},{"v":630,"d":"630 "},{"v":1651,"d":"1,651 "},null,null,{"$f":"SUM(Q25:Q27)","v":3},{"$nulls":3},{"$f":"SUM(U25:U27)","v":0},{"$f":"SUM(V25:V27)","v":0},null,null,{"$f":"SUM(II24,#REF!,#REF!,#REF!,#REF!,#REF!,#REF!,#REF!)","v":{"$error":"#REF!"}},{"$f":"U24-Y24-AA24","v":{"$error":"#REF!"}},{"$nulls":42},"2020-08-01","2022-08-30","2021-03-01","2023-03-30","2021-08-01","2023-09-30","2021-07-01","2023-12-30","2021-07-01","2023-12-30","2021-07-01","2023-12-30","2021-07-01","2023-12-30","2021-09-01","2023-12-30","2021-09-01","2023-12-30","2021-09-01","2023-12-30","2021-10-01","2023-12-30","2021-09-01","2023-12-30","2021-09-01","2023-12-30",{"$f":"MIN(CQ25:CQ27)","v":"2021-11-02"},{"$f":"MAX(CR25:CR27)","v":"2023-12-30"},{"$f":"MIN(CS25:CS27)","v":"2021-12-01"},{"$f":"MAX(CT25:CT27)","v":"2024-09-30"},{"$f":"MIN(CU25:CU27)","v":"2021-12-01"},{"$f":"MAX(CV25:CV27)","v":"2024-09-30"},{"$f":"MIN(CW25:CW27)","v":"2021-12-01"},{"$f":"MAX(CX25:CX27)","v":"2024-09-30"},{"$f":"MIN(CY25:CY27)","v":"2022-04-25"},{"$f":"MAX(CZ25:CZ27)","v":"2025-04-05"},{"$f":"MIN(DA25:DA27)","v":"2022-05-21"},{"$f":"MAX(DB25:DB27)","v":"2025-04-05"},{"$f":"MIN(DC25:DC27)","v":"2022-05-21"},{"$f":"MAX(DD25:DD27)","v":"2025-04-05"},{"$f":"MIN(DE25:DE27)","v":"2022-05-21"},{"$f":"MAX(DF25:DF27)","v":"2025-04-05"},{"$f":"MIN(DG25:DG27)","v":"2022-05-21"},{"$f":"MAX(DH25:DH27)","v":"2025-04-05"},{"$f":"MIN(DI25:DI27)","v":"2022-05-21"},{"$f":"MAX(DJ25:DJ27)","v":"2025-04-05"},{"$f":"MIN(DK25:DK27)","v":"2022-05-21"},{"$f":"MAX(DL25:DL27)","v":"2025-04-05"},{"$f":"MIN(DM25:DM27)","v":"2022-05-21"},{"$f":"MIN(DN25:DN27)","v":"2022-06-04"},{"$f":"MAX(DO25:DO27)","v":"2025-04-05"},{"$f":"MIN(DP25:DP27)","v":"2022-05-21"},{"$f":"MIN(DQ25:DQ27)","v":"2022-06-04"},{"$f":"MAX(DR25:DR27)","v":"2025-10-30"},{"$f":"MIN(DS25:DS27)","v":"2022-05-21"},{"$f":"MIN(DT25:DT27)","v":"2022-06-04"},{"$f":"MAX(DU25:DU27)","v":"2025-10-30"},{"$f":"MIN(DV25:DV27)","v":"2022-05-21"},{"$f":"MIN(DW25:DW27)","v":"2022-06-04"},{"$f":"MAX(DX25:DX27)","v":"2025-10-30"},{"$f":"MIN(DY25:DY27)","v":"2022-05-21"},{"$f":"MIN(DZ25:DZ27)","v":"2022-06-04"},{"$f":"MAX(EA25:EA27)","v":"2024-11-30"},"2022-05-21","2022-06-04","2024-11-30",{"$nulls":4},"2022-05-21","2022-06-04","2024-11-30",{"$f":"MIN(EL25:EL27)","v":"2022-06-10"},{"$f":"MIN(EM25:EM27)","v":"2022-06-24"},{"$f":"MAX(EN25:EN27)","v":"2024-11-30"},null,{"$f":"MIN(EP25:EP27)","v":"2022-06-10"},{"$f":"MIN(EQ25:EQ27)","v":"2022-06-24"},{"$f":"MAX(ER25:ER27)","v":"2025-08-30"},{"$f":"MIN(ES25:ES27)","v":"2022-06-10"},{"$f":"MIN(ET25:ET27)","v":"2022-06-24"},{"$f":"MAX(EU25:EU27)","v":"2025-08-30"},{"$f":"MIN(EV25:EV27)","v":"2022-06-10"},{"$f":"MIN(EW25:EW27)","v":"2022-06-24"},{"$f":"MAX(EX25:EX27)","v":"2025-08-30"},"2022-06-10","2022-06-24","2025-08-30",{"$f":"MIN(FB25:FB27)","v":"2022-08-26"},{"$f":"MIN(FC25:FC27)","v":"2022-09-09"},{"$f":"MAX(FD25:FD27)","v":"2025-11-30"},{"$f":"MIN(FE25:FE27)","v":"2022-08-26"},{"$f":"MIN(FF25:FF27)","v":"2022-09-15"},{"$f":"MAX(FG25:FG27)","v":"2025-11-30"},"2022-08-26","2022-09-15","2025-11-30",{"$f":"MIN(FK25:FK27)","v":"2022-08-26"},{"$f":"MIN(FL25:FL27)","v":"2022-09-15"},{"$f":"MAX(FM25:FM27)","v":"2025-11-30"},{"$f":"MIN(FN25:FN27)","v":"2022-09-15"},{"$f":"MIN(FO25:FO27)","v":"2022-09-29"},{"$f":"MAX(FP25:FP27)","v":"2025-11-30"},"2022-09-15","2022-11-01","2025-11-01",null,{"$f":"MIN(FU25:FU27)","v":"2022-09-15"},{"$f":"MIN(FV25:FV27)","v":"2022-11-01"},{"$f":"MAX(FW25:FW27)","v":"2025-11-30"},"2022-09-15","2022-11-01","2025-11-30",{"$f":"MIN(GA25:GA27)","v":"2022-09-15"},{"$f":"MIN(GB25:GB27)","v":"2022-11-01"},{"$f":"MAX(GC25:GC27)","v":"2025-11-30"},{"$f":"MIN(GD25:GD27)","v":"2022-09-30"},{"$f":"MIN(GE25:GE27)","v":"2022-11-01"},{"$f":"MAX(GF25:GF27)","v":"2025-11-30"},{"$f":"MIN(GG25:GG27)","v":"2022-10-31"},{"$f":"MIN(GH25:GH27)","v":"2022-11-14"},{"$f":"MAX(GI25:GI27)","v":"2025-11-30"},{"$f":"MIN(GJ25:GJ27)","v":"2022-10-31"},{"$f":"MIN(GK25:GK27)","v":"2022-11-14"},{"$f":"MAX(GL25:GL27)","v":"2025-11-30"},{"$f":"MIN(GM25:GM27)","v":"2022-11-25"},{"$f":"MIN(GN25:GN27)","v":"2022-12-09"},{"$f":"MAX(GO25:GO27)","v":"2025-11-30"},{"$f":"MIN(GP25:GP27)","v":"2022-11-25"},{"$f":"MIN(GQ25:GQ27)","v":"2022-12-09"},{"$f":"MAX(GR25:GR27)","v":"2025-11-30"},{"$f":"MIN(GS25:GS27)","v":"2022-11-25"},{"$f":"MIN(GT25:GT27)","v":"2022-12-09"},{"$f":"MAX(GU25:GU27)","v":"2025-11-30"},{"$f":"MIN(GV25:GV27)","v":"2022-11-25"},{"$f":"MIN(GW25:GW27)","v":"2022-12-09"},{"$f":"MAX(GX25:GX27)","v":"2025-11-30"},{"$f":"MIN(GY25:GY27)","v":"2022-11-30"},{"$f":"MIN(GZ25:GZ27)","v":"2022-12-14"},{"$f":"MAX(HA25:HA27)","v":"2025-11-30"},{"$f":"MIN(HB25:HB27)","v":"2022-11-30"},{"$f":"MIN(HC25:HC27)","v":"2022-12-14"},{"$f":"MAX(HD25:HD27)","v":"2025-11-30"},{"$f":"MIN(HE25:HE27)","v":"2022-12-10"},{"$f":"MIN(HF25:HF27)","v":"2022-12-24"},{"$f":"MAX(HG25:HG27)","v":"2025-11-30"},{"$f":"MIN(HH25:HH27)","v":"2022-12-10"},{"$f":"MIN(HI25:HI27)","v":"2022-12-24"},{"$f":"MAX(HJ25:HJ27)","v":"2025-11-30"},{"$f":"MIN(HK25:HK27)","v":"2022-12-20"},{"$f":"MIN(HL25:HL27)","v":"2023-01-13"},{"$f":"MAX(HM25:HM27)","v":"2025-11-30"},{"$f":"MIN(HN25:HN27)","v":"2022-12-20"},{"$f":"MIN(HO25:HO27)","v":"2023-01-13"},{"$f":"MAX(HP25:HP27)","v":"2025-11-30"},{"$nulls":5},{"$f":"MAX(HV25:HV27)","v":"2026-06-30"},{"$f":"SUM(HW25:HW27)","v":0},0,0,0,0,0,{"$f":"SUM(IC25:IC27)","v":0},0,0,0,0,0,0,{"$error":"#REF!"},{"$error":"#REF!"},{"v":87610.2,"d":"87,610"}]
[72,"3.4.1.1","СНМ1.01.1.01.1","ЖР \"Седьмое Небо\" ЖК \"Мой ритм\" Микрорайон М-1 ПК-1 ж/д 1-1",null,"Утеплитель минераловатный t=100мм","λб= не более 0,041 Вт/м*К \np=32-44кг/м3\nгорючесть НГ, каменная вата","м3",{"v":2139.3619780907666,"d":"2,139 "},{"$f":"K25+L25","v":{"v":30244.519999999997,"d":"30,245 "}},{"v":25747.42,"d":"25,747 "},{"v":4497.1,"d":"4,497 "},{"v":315,"d":"315 "},{"v":590,"d":"590 "},3,"21-26",1,"Монолит",null,"Новое ",{"$nulls":4},{"$f":"SUM(II25,#REF!,#REF!,#REF!,#REF!,#REF!,#REF!,#REF!)","v":{"$error":"#REF!"}},{"$error":"#REF!"},{"$nulls":4},"Прединвест",{"$nulls":13},"нет","2019-08-10","2019-09-12","2020-05-13","2021-10-30","2022-05-01","2022-06-04","Не требуется","Не требуется","2025-09-30","2025-11-29","2025-12-31","нет","2019-08-10","2019-09-12","2020-05-13","2021-10-30","2022-08-15","2022-09-26","Не требуется","Не требуется","2025-10-30","2025-12-29","2026-06-30","2020-08-01","2022-08-30","2021-03-01","2023-03-30","2021-08-01","2023-09-30","2021-07-01","2023-12-30","2021-07-01","2023-12-30","2021-07-01","2023-12-30","2021-07-01","2023-12-30","2021-09-01","2023-12-30","2021-09-01","2023-12-30","2021-09-01","2023-12-30","2021-10-01","2023-12-30","2021-09-01","2023-12-30","2021-09-01","2023-12-30","2021-11-02","2023-12-30","2021-12-01","2024-09-30","2021-12-01","2024-09-30","2021-12-01","2024-09-30","2022-04-25","2025-04-05","2022-05-21","2025-04-05","2022-05-21","2025-04-05","2022-05-21","2025-04-05","2022-05-21","2025-04-05","2022-05-21","2025-04-05","2022-05-21","2025-04-05","2022-05-21",{"$f":"DM25+14","v":"2022-06-04"},"2025-04-05","2022-05-21",{"$f":"DP25+14","v":"2022-06-04"},"2025-10-30","2022-05-21",{"$f":"DS25+14","v":"2022-06-04"},"2025-10-30","2022-05-21",{"$f":"DV25+14","v":"2022-06-04"},"2025-10-30","2022-05-21",{"$f":"DY25+14","v":"2022-06-04"},"2024-11-30","2022-05-21","2022-06-04","2024-11-30",{"$f":"(DO25-DN25)/30","v":{"v":34.53333333333333,"d":"35"}},{"$f":"(DO25-DM25)/30","v":35},"2019-08-10","2020-05-13","2022-05-21","2022-06-04","2024-11-30","2022-06-10",{"$f":"EL25+14","v":"2022-06-24"},"2024-11-30",{"$f":"(#REF!-#REF!)/30","v":{"$error":"#REF!"}},"2022-06-10",{"$f":"EP25+14","v":"2022-06-24"},"2025-08-30","2022-06-10",{"$f":"ES25+14","v":"2022-06-24"},"2025-08-30","2022-06-10",{"$f":"EV25+14","v":"2022-06-24"},"2025-08-30","2022-06-10","2022-06-24","2025-08-30","2022-08-26",{"$f":"FB25+14","v":"2022-09-09"},"2025-11-30","2022-08-26","2022-09-15","2025-11-30","2022-08-26","2022-09-15","2025-11-30","2022-08-26","2022-09-15","2025-11-30","2022-09-15",{"$f":"FN25+14","v":"2022-09-29"},"2025-11-30","2022-09-15","2022-11-01","2025-11-01",{"$f":"(FS25-FR25)/30","v":{"v":36.53333333333333,"d":"37"}},"2022-09-15","2022-11-01","2025-11-30","2022-09-15","2022-11-01","2025-11-30","2022-09-15","2022-11-01","2025-11-30","2022-09-30","2022-11-01","2025-11-30","2022-10-31","2022-11-14","2025-11-30","2022-10-31","2022-11-14","2025-11-30","2022-11-25",{"$f":"GM25+14","v":"2022-12-09"},"2025-11-30","2022-11-25",{"$f":"GP25+14","v":"2022-12-09"},"2025-11-30","2022-11-25",{"$f":"GS25+14","v":"2022-12-09"},"2025-11-30","2022-11-25",{"$f":"GV25+14","v":"2022-12-09"},"2025-11-30","2022-11-30",{"$f":"GY25+14","v":"2022-12-14"},"2025-11-30","2022-11-30",{"$f":"HB25+14","v":"2022-12-14"},"2025-11-30","2022-12-10",{"$f":"HE25+14","v":"2022-12-24"},"2025-11-30","2022-12-10",{"$f":"HH25+14","v":"2022-12-24"},"2025-11-30","2022-12-20",{"$f":"HK25+24","v":"2023-01-13"},"2025-11-30","2022-12-20",{"$f":"HN25+24","v":"2023-01-13"},"2025-11-30",null,"АБ-1","ТИГП","Не определен",null,"2026-06-30",{"$nulls":9},"●",null,null,{"$f":"SUM(HW25:IH25)","v":0},{"$f":"IF(YEAR(#REF!)=HW$8,$J25,0)","v":{"$error":"#REF!"}},{"$f":"IF(AND(YEAR(#REF!)<=HW$8,YEAR(#REF!)>HW$8),$J25,0)","v":{"$error":"#REF!"}},{"$f":"J25","v":{"v":30244.519999999997,"d":"30,245"}}]
[72,"3.4.1.1","СНМ1.01.1.01.1","ЖР \"Седьмое Небо\" ЖК \"Мой ритм\" Микрорайон М-1 ПК-1 ж/д 1-1",null,"Утеплитель минераловатный t=50мм","λ= не более 0,039 Вт/м*К \np=72-100кг/м3\nгорючесть НГ, каменная вата","м3",{"v":1069.6809890453833,"d":"1,070 "},{"$f":"K26+L26","v":{"v":30244.519999999997,"d":"30,245 "}},{"v":25747.42,"d":"25,747 "},{"v":4497.1,"d":"4,497 "},{"v":315,"d":"315 "},{"v":590,"d":"590 "},3,"21-26",1,"Монолит",null,"Новое ",{"$nulls":4},{"$f":"SUM(II26,#REF!,#REF!,#REF!,#REF!,#REF!,#REF!,#REF!)","v":{"$error":"#REF!"}},{"$f":"U26-Y26-AA26","v":{"$error":"#REF!"}},{"$nulls":4},"Прединвест",{"$nulls":13},"нет","2019-08-10","2019-09-12","2020-05-13","2021-10-30","2022-05-01","2022-06-04","Не требуется","Не требуется","2025-09-30","2025-11-29","2025-12-31","нет","2019-08-10","2019-09-12","2020-05-13","2021-10-30","2022-08-15","2022-09-26","Не требуется","Не требуется","2025-10-30","2025-12-29","2026-06-30","2020-08-01","2022-08-30","2021-03-01","2023-03-30","2021-08-01","2023-09-30","2021-07-01","2023-12-30","2021-07-01","2023-12-30","2021-07-01","2023-12-30","2021-07-01","2023-12-30","2021-09-01","2023-12-30","2021-09-01","2023-12-30","2021-09-01","2023-12-30","2021-10-01","2023-12-30","2021-09-01","2023-12-30","2021-09-01","2023-12-30","2021-11-02","2023-12-30","2021-12-01","2024-09-30","2021-12-01","2024-09-30","2021-12-01","2024-09-30","2022-04-25","2025-04-05","2022-05-21","2025-04-05","2022-05-21","2025-04-05","2022-05-21","2025-04-05","2022-05-21","2025-04-05","2022-05-21","2025-04-05","2022-05-21","2025-04-05","2022-05-21",{"$f":"DM26+14","v":"2022-06-04"},"2025-04-05","2022-05-21",{"$f":"DP26+14","v":"2022-06-04"},"2025-10-30","2022-05-21",{"$f":"DS26+14","v":"2022-06-04"},"2025-10-30","2022-05-21",{"$f":"DV26+14","v":"2022-06-04"},"2025-10-30","2022-05-21",{"$f":"DY26+14","v":"2022-06-04"},"2024-11-30","2022-05-21","2022-06-04","2024-11-30",{"$f":"(DO26-DN26)/30","v":{"v":34.53333333333333,"d":"35"}},{"$f":"(DO26-DM26)/30","v":35},"2019-08-10","2020-05-13","2022-05-21","2022-06-04","2024-11-30","2022-06-10",{"$f":"EL26+14","v":"2022-06-24"},"2024-11-30",{"$f":"(#REF!-#REF!)/30","v":{"$error":"#REF!"}},"2022-06-10",{"$f":"EP26+14","v":"2022-06-24"},"2025-08-30","2022-06-10",{"$f":"ES26+14","v":"2022-06-24"},"2025-08-30","2022-06-10",{"$f":"EV26+14","v":"2022-06-24"},"2025-08-30","2022-06-10","2022-06-24","2025-08-30","2022-08-26",{"$f":"FB26+14","v":"2022-09-09"},"2025-11-30","2022-08-26","2022-09-15","2025-11-30","2022-08-26","2022-09-15","2025-11-30","2022-08-26","2022-09-15","2025-11-30","2022-09-15",{"$f":"FN26+14","v":"2022-09-29"},"2025-11-30","2022-09-15","2022-11-01","2025-11-01",{"$f":"(FS26-FR26)/30","v":{"v":36.53333333333333,"d":"37"}},"2022-09-15","2022-11-01","2025-11-30","2022-09-15","2022-11-01","2025-11-30","2022-09-15","2022-11-01","2025-11-30","2022-09-30","2022-11-01","2025-11-30","2022-10-31","2022-11-14","2025-11-30","2022-10-31","2022-11-14","2025-11-30","2022-11-25",{"$f":"GM26+14","v":"2022-12-09"},"2025-11-30","2022-11-25",{"$f":"GP26+14","v":"2022-12-09"},"2025-11-30","2022-11-25",{"$f":"GS26+14","v":"2022-12-09"},"2025-11-30","2022-11-25",{"$f":"GV26+14","v":"2022-12-09"},"2025-11-30","2022-11-30",{"$f":"GY26+14","v":"2022-12-14"},"2025-11-30","2022-11-30",{"$f":"HB26+14","v":"2022-12-14"},"2025-11-30","2022-12-10",{"$f":"HE26+14","v":"2022-12-24"},"2025-11-30","2022-12-10",{"$f":"HH26+14","v":"2022-12-24"},"2025-11-30","2022-12-20",{"$f":"HK26+24","v":"2023-01-13"},"2025-11-30","2022-12-20",{"$f":"HN26+24","v":"2023-01-13"},"2025-11-30",null,"АБ-1","ТИГП","Не определен",null,"2026-06-30",{"$nulls":9},"●",null,null,{"$f":"SUM(HW26:IH26)","v":0},{"$f":"IF(YEAR(#REF!)=HW$8,$J26,0)","v":{"$error":"#REF!"}},{"$f":"IF(AND(YEAR(#REF!)<=HW$8,YEAR(#REF!)>HW$8),$J26,0)","v":{"$error":"#REF!"}},{"$f":"J26","v":{"v":30244.519999999997,"d":"30,245"}}]
[73,"3.4.1.2","СНМ1.01.1.01.2","ЖР \"Седьмое Небо\" ЖК \"Мой ритм\" Микрорайон М-1 ПК-1 ж/д 1-2",null,"Утеплитель минераловатный t=100мм","λб= не более 0,041 Вт/м*К \np=32-44кг/м3\nгорючесть НГ, каменная вата","м3",{"v":1918.4294710485133,"d":"1,918 "},{"$f":"K27+L27","v":{"v":27121.16,"d":"27,121 "}},{"v":24716.03,"d":"24,716 "},{"v":2405.13,"d":"2,405 "},null,{"v":471,"d":"471 "},7," 11-18",1,"Монолит",null,"Новое ",{"$nulls":4},{"$f":"SUM(II27,#REF!,#REF!,#REF!,#REF!,#REF!,#REF!,#REF!)","v":{"$error":"#REF!"}},{"$error":"#REF!"},{"$nulls":4},"Прединвест",{"$nulls":13},"нет","2019-08-10","2019-09-12","2020-05-13","2021-10-30","2022-05-01","2022-06-04","Не требуется","Не требуется","2025-09-30","2025-11-29","2025-12-31","нет","2019-08-10","2019-09-12","2020-05-13","2021-10-30","2022-08-15","2022-09-26","Не требуется","Не требуется","2025-10-30","2025-12-29","2026-06-30","2020-08-01","2022-08-30","2021-03-01","2023-03-30","2021-08-01","2023-09-30","2021-07-01","2023-08-30","2021-07-01","2023-08-30","2021-07-01","2023-08-30","2021-07-01","2023-08-30","2021-09-01","2023-12-30","2021-09-01","2023-12-30","2021-09-01","2023-12-30","2021-10-01","2023-12-30","2021-09-01","2023-12-30","2021-09-01","2023-12-30","2021-11-02","2023-12-30","2021-12-01","2024-09-30","2021-12-01","2024-09-30","2021-12-01","2024-09-30","2022-04-25","2025-04-05","2022-05-21","2025-04-05","2022-05-21","2025-04-05","2022-05-21","2025-04-05","2022-05-21","2025-04-05","2022-05-21","2025-04-05","2022-05-21","2025-04-05","2022-05-21",{"$f":"DM27+14","v":"2022-06-04"},"2025-04-05","2022-05-21",{"$f":"DP27+14","v":"2022-06-04"},"2025-10-30","2022-05-21",{"$f":"DS27+14","v":"2022-06-04"},"2025-10-30","2022-05-21",{"$f":"DV27+14","v":"2022-06-04"},"2025-10-30","2022-05-21",{"$f":"DY27+14","v":"2022-06-04"},"2024-11-30","2022-05-21","2022-06-04","2024-11-30",{"$f":"(DO27-DN27)/30","v":{"v":34.53333333333333,"d":"35"}},{"$f":"(DO27-DM27)/30","v":35},"2019-08-10","2020-05-13","2022-05-21","2022-06-04","2024-11-30","2022-06-10",{"$f":"EL27+14","v":"2022-06-24"},"2024-11-30",{"$f":"(#REF!-#REF!)/30","v":{"$error":"#REF!"}},"2022-06-10",{"$f":"EP27+14","v":"2022-06-24"},"2025-08-30","2022-06-10",{"$f":"ES27+14","v":"2022-06-24"},"2025-08-30","2022-06-10",{"$f":"EV27+14","v":"2022-06-24"},"2025-08-30","2022-06-10","2022-06-24","2025-08-30","2022-08-26",{"$f":"FB27+14","v":"2022-09-09"},"2025-11-30","2022-08-26","2022-09-15","2025-11-30","2022-08-26","2022-09-15","2025-11-30","2022-08-26","2022-09-15","2025-11-30","2022-09-15",{"$f":"FN27+14","v":"2022-09-29"},"2025-11-30","2022-09-15","2022-11-01","2025-11-01",{"$f":"(FS27-FR27)/30","v":{"v":36.53333333333333,"d":"37"}},"2022-09-15","2022-11-01","2025-11-30","2022-09-15","2022-11-01","2025-11-30","2022-09-15","2022-11-01","2025-11-30","2022-09-30","2022-11-01","2025-11-30","2022-10-31","2022-11-14","2025-11-30","2022-10-31","2022-11-14","2025-11-30","2022-11-25",{"$f":"GM27+14","v":"2022-12-09"},"2025-11-30","2022-11-25",{"$f":"GP27+14","v":"2022-12-09"},"2025-11-30","2022-11-25",{"$f":"GS27+14","v":"2022-12-09"},"2025-11-30","2022-11-25",{"$f":"GV27+14","v":"2022-12-09"},"2025-11-30","2022-11-30",{"$f":"GY27+14","v":"2022-12-14"},"2025-11-30","2022-11-30",{"$f":"HB27+14","v":"2022-12-14"},"2025-11-30","2022-12-10",{"$f":"HE27+14","v":"2022-12-24"},"2025-11-30","2022-12-10",{"$f":"HH27+14","v":"2022-12-24"},"2025-11-30","2022-12-20",{"$f":"HK27+24","v":"2023-01-13"},"2025-11-30","2022-12-20",{"$f":"HN27+24","v":"2023-01-13"},"2025-11-30",null,"АБ-1","ТИГП","Не определен",null,"2026-06-30",{"$nulls":9},"●",null,null,{"$f":"SUM(HW27:IH27)","v":0},{"$f":"IF(YEAR(#REF!)=HW$8,$J27,0)","v":{"$error":"#REF!"}},{"$f":"IF(AND(YEAR(#REF!)<=HW$8,YEAR(#REF!)>HW$8),$J27,0)","v":{"$error":"#REF!"}},{"$f":"J27","v":{"v":27121.16,"d":"27,121"}}]
[73,"3.4.1.2","СНМ1.01.1.01.2","ЖР \"Седьмое Небо\" ЖК \"Мой ритм\" Микрорайон М-1 ПК-1 ж/д 1-2",null,"Утеплитель минераловатный t=50мм","λ= не более 0,039 Вт/м*К \np=72-100кг/м3\nгорючесть НГ, каменная вата","м3",{"v":959.2147355242566,"d":"959 "},{"$f":"K28+L28","v":{"v":27121.16,"d":"27,121 "}},{"v":24716.03,"d":"24,716 "},{"v":2405.13,"d":"2,405 "},null,{"v":471,"d":"471 "},7," 11-18",1,"Монолит",null,"Новое ",{"$nulls":4},{"$f":"SUM(II28,#REF!,#REF!,#REF!,#REF!,#REF!,#REF!,#REF!)","v":{"$error":"#REF!"}},{"$f":"U28-Y28-AA28","v":{"$error":"#REF!"}},{"$nulls":4},"Прединвест",{"$nulls":13},"нет","2019-08-10","2019-09-12","2020-05-13","2021-10-30","2022-05-01","2022-06-04","Не требуется","Не требуется","2025-09-30","2025-11-29","2025-12-31","нет","2019-08-10","2019-09-12","2020-05-13","2021-10-30","2022-08-15","2022-09-26","Не требуется","Не требуется","2025-10-30","2025-12-29","2026-06-30","2020-08-01","2022-08-30","2021-03-01","2023-03-30","2021-08-01","2023-09-30","2021-07-01","2023-08-30","2021-07-01","2023-08-30","2021-07-01","2023-08-30","2021-07-01","2023-08-30","2021-09-01","2023-12-30","2021-09-01","2023-12-30","2021-09-01","2023-12-30","2021-10-01","2023-12-30","2021-09-01","2023-12-30","2021-09-01","2023-12-30","2021-11-02","2023-12-30","2021-12-01","2024-09-30","2021-12-01","2024-09-30","2021-12-01","2024-09-30","2022-04-25","2025-04-05","2022-05-21","2025-04-05","2022-05-21","2025-04-05","2022-05-21","2025-04-05","2022-05-21","2025-04-05","2022-05-21","2025-04-05","2022-05-21","2025-04-05","2022-05-21",{"$f":"DM28+14","v":"2022-06-04"},"2025-04-05","2022-05-21",{"$f":"DP28+14","v":"2022-06-04"},"2025-10-30","2022-05-21",{"$f":"DS28+14","v":"2022-06-04"},"2025-10-30","2022-05-21",{"$f":"DV28+14","v":"2022-06-04"},"2025-10-30","2022-05-21",{"$f":"DY28+14","v":"2022-06-04"},"2024-11-30","2022-05-21","2022-06-04","2024-11-30",{"$f":"(DO28-DN28)/30","v":{"v":34.53333333333333,"d":"35"}},{"$f":"(DO28-DM28)/30","v":35},"2019-08-10","2020-05-13","2022-05-21","2022-06-04","2024-11-30","2022-06-10",{"$f":"EL28+14","v":"2022-06-24"},"2024-11-30",{"$f":"(#REF!-#REF!)/30","v":{"$error":"#REF!"}},"2022-06-10",{"$f":"EP28+14","v":"2022-06-24"},"2025-08-30","2022-06-10",{"$f":"ES28+14","v":"2022-06-24"},"2025-08-30","2022-06-10",{"$f":"EV28+14","v":"2022-06-24"},"2025-08-30","2022-06-10","2022-06-24","2025-08-30","2022-08-26",{"$f":"FB28+14","v":"2022-09-09"},"2025-11-30","2022-08-26","2022-09-15","2025-11-30","2022-08-26","2022-09-15","2025-11-30","2022-08-26","2022-09-15","2025-11-30","2022-09-15",{"$f":"FN28+14","v":"2022-09-29"},"2025-11-30","2022-09-15","2022-11-01","2025-11-01",{"$f":"(FS28-FR28)/30","v":{"v":36.53333333333333,"d":"37"}},"2022-09-15","2022-11-01","2025-11-30","2022-09-15","2022-11-01","2025-11-30","2022-09-15","2022-11-01","2025-11-30","2022-09-30","2022-11-01","2025-11-30","2022-10-31","2022-11-14","2025-11-30","2022-10-31","2022-11-14","2025-11-30","2022-11-25",{"$f":"GM28+14","v":"2022-12-09"},"2025-11-30","2022-11-25",{"$f":"GP28+14","v":"2022-12-09"},"2025-11-30","2022-11-25",{"$f":"GS28+14","v":"2022-12-09"},"2025-11-30","2022-11-25",{"$f":"GV28+14","v":"2022-12-09"},"2025-11-30","2022-11-30",{"$f":"GY28+14","v":"2022-12-14"},"2025-11-30","2022-11-30",{"$f":"HB28+14","v":"2022-12-14"},"2025-11-30","2022-12-10",{"$f":"HE28+14","v":"2022-12-24"},"2025-11-30","2022-12-10",{"$f":"HH28+14","v":"2022-12-24"},"2025-11-30","2022-12-20",{"$f":"HK28+24","v":"2023-01-13"},"2025-11-30","2022-12-20",{"$f":"HN28+24","v":"2023-01-13"},"2025-11-30",null,"АБ-1","ТИГП","Не определен",null,"2026-06-30",{"$nulls":9},"●",null,null,{"$f":"SUM(HW28:IH28)","v":0},{"$f":"IF(YEAR(#REF!)=HW$8,$J28,0)","v":{"$error":"#REF!"}},{"$f":"IF(AND(YEAR(#REF!)<=HW$8,YEAR(#REF!)>HW$8),$J28,0)","v":{"$error":"#REF!"}},{"$f":"J28","v":{"v":27121.16,"d":"27,121"}}]
[266,"13.1.2","СК00.01.0.00.0","ЖК \"Салават Купере\"  Квартал №1",{"$f":"SUM(E30:E40)","v":0},{"$nulls":4},{"$f":"SUM(J30:J40)","v":{"v":83590.77999999998,"d":"83,591 "}},{"$f":"SUM(K30:K40)","v":{"v":78269.23999999999,"d":"78,269 "}},{"$f":"SUM(L30:L40)","v":{"v":5321.54,"d":"5,322 "}},{"$f":"SUM(M30:M40)","v":0},{"$f":"SUM(N30:N40)","v":{"v":1500,"d":"1,500 "}},null,null,{"$f":"SUM(Q30:Q40)","v":11},{"$nulls":3},{"$f":"SUM(U30:U40)","v":{"v":52745.645200000006,"d":"52,746 "}},{"$f":"SUM(V30:V40)","v":{"v":41458.077127200006,"d":"41,458 "}},{"$f":"SUM(W30:W40)","v":{"v":3884.7242,"d":"3,885 "}},null,{"$f":"SUM(II29,#REF!,#REF!,#REF!,#REF!,#REF!,#REF!,#REF!)","v":{"$error":"#REF!"}},{"$f":"U29-Y29-AA29","v":{"$error":"#REF!"}},{"$f":"SUM(AA30:AA40)","v":0},{"$f":"II29+#REF!+#REF!+#REF!+#REF!+#REF!+#REF!+#REF!","v":{"$error":"#REF!"}},{"$f":"J29-AB29","v":{"$error":"#REF!"}},{"$nulls":39},"2020-08-01","2022-06-30","2020-07-01","2022-11-30","2020-07-01","2022-08-30","2020-06-01","2022-07-03","2020-06-01","2022-07-03","2020-06-01","2022-07-03","2020-06-01","2022-07-03","2020-06-01","2022-07-03","2020-06-01","2022-07-03","2020-06-01","2022-07-03","2020-06-01","2022-07-03","2020-06-01","2022-07-03","2020-06-01","2022-07-03",{"$f":"MIN(CQ30:CQ40)","v":"00:00:00"},{"$f":"MAX(CR30:CR40)","v":"00:00:00"},{"$f":"MIN(CS30:CS40)","v":"00:00:00"},{"$f":"MAX(CT30:CT40)","v":"00:00:00"},{"$f":"MIN(CU30:CU40)","v":"00:00:00"},{"$f":"MAX(CV30:CV40)","v":"00:00:00"},{"$f":"MIN(CW30:CW40)","v":"00:00:00"},{"$f":"MAX(CX30:CX40)","v":"00:00:00"},{"$f":"MIN(CY30:CY40)","v":"00:00:00"},{"$f":"MAX(CZ30:CZ40)","v":"00:00:00"},{"$f":"MIN(DA30:DA40)","v":"00:00:00"},{"$f":"MAX(DB30:DB40)","v":"00:00:00"},{"$f":"MIN(DC30:DC40)","v":"00:00:00"},{"$f":"MAX(DD30:DD40)","v":"00:00:00"},{"$f":"MIN(DE30:DE40)","v":"00:00:00"},{"$f":"MAX(DF30:DF40)","v":"00:00:00"},{"$f":"MIN(DG30:DG40)","v":"00:00:00"},{"$f":"MAX(DH30:DH40)","v":"00:00:00"},{"$f":"MIN(DI30:DI40)","v":"00:00:00"},{"$f":"MAX(DJ30:DJ40)","v":"00:00:00"},{"$f":"MIN(DK30:DK40)","v":"00:00:00"},{"$f":"MAX(DL30:DL40)","v":"00:00:00"},{"$f":"MIN(DM30:DM40)","v":"00:00:00"},{"$f":"MIN(DN30:DN40)","v":"00:00:00"},{"$f":"MAX(DO30:DO40)","v":"00:00:00"},{"$f":"MIN(DP30:DP40)","v":"00:00:00"},{"$f":"MIN(DQ30:DQ40)","v":"00:00:00"},{"$f":"MAX(DR30:DR40)","v":"00:00:00"},{"$f":"MIN(DS30:DS40)","v":"00:00:00"},{"$f":"MIN(DT30:DT40)","v":"00:00:00"},{"$f":"MAX(DU30:DU40)","v":"00:00:00"},{"$f":"MIN(DV30:DV40)","v":"00:00:00"},{"$f":"MIN(DW30:DW40)","v":"00:00:00"},{"$f":"MAX(DX30:DX40)","v":"00:00:00"},{"$f":"MIN(DY30:DY40)","v":"00:00:00"},{"$f":"MIN(DZ30:DZ40)","v":"00:00:00"},{"$f":"MAX(EA30:EA40)","v":"00:00:00"},"2020-07-01","2020-06-01","2022-07-03",{"$nulls":4},"2020-07-01","2020-06-01","2022-07-03",{"$f":"MIN(EL30:EL40)","v":"00:00:00"},{"$f":"MIN(EM30:EM40)","v":"00:00:00"},{"$f":"MAX(EN30:EN40)","v":"00:00:00"},null,{"$f":"MIN(EP30:EP40)","v":"00:00:00"},{"$f":"MIN(EQ30:EQ40)","v":"00:00:00"},{"$f":"MAX(ER30:ER40)","v":"00:00:00"},{"$f":"MIN(ES30:ES40)","v":"00:00:00"},{"$f":"MIN(ET30:ET40)","v":"00:00:00"},{"$f":"MAX(EU30:EU40)","v":"00:00:00"},{"$f":"MIN(EV30:EV40)","v":"00:00:00"},{"$f":"MIN(EW30:EW40)","v":"00:00:00"},{"$f":"MAX(EX30:EX40)","v":"00:00:00"},"2020-07-01","2020-07-01","2022-07-03",{"$f":"MIN(FB30:FB40)","v":"00:00:00"},{"$f":"MIN(FC30:FC40)","v":"00:00:00"},{"$f":"MAX(FD30:FD40)","v":"00:00:00"},{"$f":"MIN(FE30:FE40)","v":"00:00:00"},{"$f":"MIN(FF30:FF40)","v":"00:00:00"},{"$f":"MAX(FG30:FG40)","v":"00:00:00"},"2020-07-01","2020-07-01","2022-07-03",{"$f":"MIN(FK30:FK40)","v":"00:00:00"},{"$f":"MIN(FL30:FL40)","v":"00:00:00"},{"$f":"MAX(FM30:FM40)","v":"00:00:00"},{"$f":"MIN(FN30:FN40)","v":"00:00:00"},{"$f":"MIN(FO30:FO40)","v":"00:00:00"},{"$f":"MAX(FP30:FP40)","v":"00:00:00"},"2020-07-01","2020-07-01","2022-07-03",null,{"$f":"MIN(FU30:FU40)","v":"2022-08-01"},{"$f":"MIN(FV30:FV40)","v":"2022-08-15"},{"$f":"MAX(FW30:FW40)","v":"2025-01-21"},"2022-09-30","2022-07-15","2024-12-30",{"$f":"MIN(GA30:GA40)","v":"2022-09-30"},{"$f":"MIN(GB30:GB40)","v":"2022-07-15"},{"$f":"MAX(GC30:GC40)","v":"2024-12-30"},{"$f":"MIN(GD30:GD40)","v":"2022-09-30"},{"$f":"MIN(GE30:GE40)","v":"2022-07-15"},{"$f":"MAX(GF30:GF40)","v":"2024-12-30"},{"$f":"MIN(GG30:GG40)","v":"2022-09-30"},{"$f":"MIN(GH30:GH40)","v":"2022-07-15"},{"$f":"MAX(GI30:GI40)","v":"2024-12-30"},{"$f":"MIN(GJ30:GJ40)","v":"2022-09-30"},{"$f":"MIN(GK30:GK40)","v":"2022-07-15"},{"$f":"MAX(GL30:GL40)","v":"2024-12-30"},{"$f":"MIN(GM30:GM40)","v":"2022-09-30"},{"$f":"MIN(GN30:GN40)","v":"2022-07-01"},{"$f":"MAX(GO30:GO40)","v":"2024-12-30"},{"$f":"MIN(GP30:GP40)","v":"2022-09-30"},{"$f":"MIN(GQ30:GQ40)","v":"2022-07-01"},{"$f":"MAX(GR30:GR40)","v":"2024-10-30"},{"$f":"MIN(GS30:GS40)","v":"2022-09-30"},{"$f":"MIN(GT30:GT40)","v":"2022-07-01"},{"$f":"MAX(GU30:GU40)","v":"2024-10-30"},{"$f":"MIN(GV30:GV40)","v":"2022-09-30"},{"$f":"MIN(GW30:GW40)","v":"2022-07-01"},{"$f":"MAX(GX30:GX40)","v":"2024-10-30"},{"$f":"MIN(GY30:GY40)","v":"2022-09-30"},{"$f":"MIN(GZ30:GZ40)","v":"2022-07-01"},{"$f":"MAX(HA30:HA40)","v":"2025-11-30"},{"$f":"MIN(HB30:HB40)","v":"2022-09-30"},{"$f":"MIN(HC30:HC40)","v":"2022-07-01"},{"$f":"MAX(HD30:HD40)","v":"2025-11-30"},{"$f":"MIN(HE30:HE40)","v":"2022-09-30"},{"$f":"MIN(HF30:HF40)","v":"2022-07-01"},{"$f":"MAX(HG30:HG40)","v":"2024-12-30"},{"$f":"MIN(HH30:HH40)","v":"2022-11-30"},{"$f":"MIN(HI30:HI40)","v":"2022-07-01"},{"$f":"MAX(HJ30:HJ40)","v":"2024-12-30"},{"$f":"MIN(HK30:HK40)","v":"2022-11-30"},{"$f":"MIN(HL30:HL40)","v":"2022-07-01"},{"$f":"MAX(HM30:HM40)","v":"2024-12-30"},{"$f":"MIN(HN30:HN40)","v":"2022-11-30"},{"$f":"MIN(HO30:HO40)","v":"2022-07-01"},{"$f":"MAX(HP30:HP40)","v":"2024-12-30"},{"$nulls":6},{"$f":"SUM(HW30:HW40)","v":0},0,0,0,0,0,0,0,0,0,0,0,0,{"$error":"#REF!"},{"$error":"#REF!"},0]
[279,"13.1.2.1","СК00.01.1.05.1","ЖК \"Салават Купере\" Квартал №1 ж/д 5-1",null,"Утеплитель минераловатный t=150 мм\n","λ=0,038-0,041 Вт/м*К \nt=150мм\np=131-159кг/м3\nГорючесть НГ \nКаменная вата","м3",{"v":564.726,"d":"565 "},{"v":5325.370000000001,"d":"5,325 "},{"v":4914.6,"d":"4,915 "},{"v":410.77,"d":"411 "},null,{"v":72,"d":"72 "},null,null,1,"КПД, 1 каркас",null,"Перепривязка",{"v":3636.804,"d":"3,637 "},{"$f":"U30*0.786","v":{"v":2858.5279440000004,"d":"2,859 "}},{"v":299.8621,"d":"300 "},null,{"$f":"SUM(II30,#REF!,#REF!,#REF!,#REF!,#REF!,#REF!,#REF!)","v":{"$error":"#REF!"}},{"$f":"U30-Y30-AA30","v":{"$error":"#REF!"}},{"$nulls":150},"2022-08-01",{"$f":"FU30+14","v":"2022-08-15"},"2023-11-24","2022-09-30","2022-07-15","2023-10-30","2022-09-30","2022-07-15","2023-10-30","2022-09-30","2022-07-15","2023-10-30","2022-09-30","2022-07-15","2023-10-30","2022-09-30","2022-07-15","2023-10-30","2022-09-30","2022-07-01","2023-10-30","2022-09-30","2022-07-01","2023-10-30","2022-09-30","2022-07-01","2023-10-30","2022-09-30","2022-07-01","2023-10-30","2022-09-30","2022-07-01","2023-10-30","2022-09-30","2022-07-01","2023-10-30","2022-09-30","2022-07-01","2023-10-30","2022-11-30","2022-07-01","2023-10-30","2022-11-30","2022-07-01","2023-10-30","2022-11-30","2022-07-01","2023-10-30",null,"АБ-1","АБ-1","АБСт",null,"-",{"$nulls":12},{"$f":"SUM(HW30:IH30)","v":0},{"$f":"IF(YEAR(#REF!)=HW$8,$J30,0)","v":{"$error":"#REF!"}},{"$f":"IF(AND(YEAR(#REF!)<=HW$8,YEAR(#REF!)>HW$8),$J30,0)","v":{"$error":"#REF!"}}]
[279,"13.1.2.2","СК00.01.1.05.2","ЖК \"Салават Купере\" Квартал №1 ж/д 5-2",null,"Утеплитель минераловатный t=150 мм\n","λ=0,038-0,041 Вт/м*К \nt=150мм\np=131-159кг/м3\nГорючесть НГ \nКаменная вата","м3",{"v":564.726,"d":"565 "},{"v":5325.370000000001,"d":"5,325 "},{"v":4914.6,"d":"4,915 "},{"v":410.77,"d":"411 "},null,{"v":72,"d":"72 "},null,null,1,"КПД, 1 Каркас",null,"Перепривязка",{"v":3636.804,"d":"3,637 "},{"v":2858.5279440000004,"d":"2,859 "},{"v":299.8621,"d":"300 "},null,{"$f":"SUM(II31,#REF!,#REF!,#REF!,#REF!,#REF!,#REF!,#REF!)","v":{"$error":"#REF!"}},{"$error":"#REF!"},{"$nulls":150},"2022-08-01","2022-08-15","2023-11-24","2022-09-30","2022-07-15","2023-10-30","2022-09-30","2022-07-15","2023-10-30","2022-09-30","2022-07-15","2023-10-30","2022-09-30","2022-07-15","2023-10-30","2022-09-30","2022-07-15","2023-10-30","2022-09-30","2022-07-01","2023-10-30","2022-09-30","2022-07-01","2023-10-30","2022-09-30","2022-07-01","2023-10-30","2022-09-30","2022-07-01","2023-10-30","2022-09-30","2022-07-01","2023-10-30","2022-09-30","2022-07-01","2023-10-30","2022-09-30","2022-07-01","2023-10-30","2022-11-30","2022-07-01","2023-10-30","2022-11-30","2022-07-01","2023-10-30","2022-11-30","2022-07-01","2023-10-30",null,"АБ-1","АБ-1","АБСт",null,"-",{"$nulls":12},0,{"$f":"IF(YEAR(#REF!)=HW$8,$J31,0)","v":{"$error":"#REF!"}},{"$f":"IF(AND(YEAR(#REF!)<=HW$8,YEAR(#REF!)>HW$8),$J31,0)","v":{"$error":"#REF!"}}]
[267,"13.1.2.3","СК00.01.1.03.1","ЖК \"Салават Купере\" Квартал №1 ж/д 3-1",null,"Утеплитель минераловатный t=150 мм\n","λ=0,038-0,041 Вт/м*К \nt=150мм\np=131-159кг/м3\nГорючесть НГ \nКаменная вата","м3",{"v":823.9641690140845,"d":"824 "},{"v":7765.68,"d":"7,766 "},{"v":7365.68,"d":"7,366 "},{"v":400,"d":"400 "},null,{"v":140,"d":"140 "},null,null,1,"КПД, 1 Каркас",null,"Новое ",{"v":4787.692,"d":"4,788 "},{"v":3763.125912,"d":"3,763 "},{"v":292,"d":"292 "},null,{"$f":"SUM(II32,#REF!,#REF!,#REF!,#REF!,#REF!,#REF!,#REF!)","v":{"$error":"#REF!"}},{"$error":"#REF!"},{"$nulls":150},"2022-11-01","2022-11-15","2024-06-23","2022-12-30","2022-09-30","2023-12-30","2022-12-30","2022-09-30","2023-12-30","2022-12-30","2022-09-30","2023-12-30","2022-12-30","2022-09-30","2023-12-30","2022-12-30","2022-09-30","2023-12-30","2022-12-30","2022-09-30","2023-12-30","2022-12-30","2022-09-30","2023-12-30","2022-12-30","2022-09-30","2023-12-30","2022-12-30","2022-09-30","2023-12-30","2022-12-30","2022-09-30","2023-12-30","2022-12-30","2022-09-30","2023-12-30","2022-12-30","2022-09-30","2023-12-30","2022-12-30","2022-09-30","2023-12-30","2022-12-30","2022-09-30","2023-12-30","2022-12-30","2022-09-30","2023-12-30",null,"АБ-1","АБ-1","АБСт",null,"-",{"$nulls":12},0,{"$f":"IF(YEAR(#REF!)=HW$8,$J32,0)","v":{"$error":"#REF!"}},{"$f":"IF(AND(YEAR(#REF!)<=HW$8,YEAR(#REF!)>HW$8),$J32,0)","v":{"$error":"#REF!"}}]
[268,"13.1.2.4","СК00.01.1.03.2","ЖК \"Салават Купере\" Квартал №1 ж/д 3-2",null,"Утеплитель минераловатный t=150 мм\n","λ=0,038-0,041 Вт/м*К \nt=150мм\np=131-159кг/м3\nГорючесть НГ \nКаменная вата","м3",{"v":932.5884694835681,"d":"933 "},{"v":8789.44,"d":"8,789 "},{"v":8209.44,"d":"8,209 "},{"v":580,"d":"580 "},null,{"v":168,"d":"168 "},null,null,1,"КПД, 1 Каркас",null,"Новое ",{"v":5336.136,"d":"5,336 "},{"v":4194.202896000001,"d":"4,194 "},{"v":423.4,"d":"423 "},null,{"$f":"SUM(II33,#REF!,#REF!,#REF!,#REF!,#REF!,#REF!,#REF!)","v":{"$error":"#REF!"}},{"$f":"U33-Y33-AA33","v":{"$error":"#REF!"}},{"$nulls":150},"2023-01-01",{"$f":"FU33+14","v":"2023-01-15"},"2024-08-23","2022-12-30","2022-09-30","2023-12-30","2022-12-30","2022-09-30","2023-12-30","2022-12-30","2022-09-30","2023-12-30","2022-12-30","2022-09-30","2023-12-30","2022-12-30","2022-09-30","2023-12-30","2022-12-30","2022-09-30","2023-12-30","2022-12-30","2022-09-30","2023-12-30","2022-12-30","2022-09-30","2023-12-30","2022-12-30","2022-09-30","2023-12-30","2022-12-30","2022-09-30","2023-12-30","2022-12-30","2022-09-30","2023-12-30","2022-12-30","2022-09-30","2023-12-30","2022-12-30","2022-09-30","2023-12-30","2022-12-30","2022-09-30","2023-12-30","2022-12-30","2022-09-30","2023-12-30",null,"АБ-1","АБ-1","АБСт",null,"-",{"$nulls":12},0,{"$f":"IF(YEAR(#REF!)=HW$8,$J33,0)","v":{"$error":"#REF!"}},{"$f":"IF(AND(YEAR(#REF!)<=HW$8,YEAR(#REF!)>HW$8),$J33,0)","v":{"$error":"#REF!"}}]
[269,"13.1.2.5","СК00.01.1.03.3","ЖК \"Салават Купере\" Квартал №1 ж/д 3-3",null,"Утеплитель минераловатный t=150 мм\n","λ=0,038-0,041 Вт/м*К \nt=150мм\np=131-159кг/м3\nГорючесть НГ \nКаменная вата","м3",{"v":642.7567323943663,"d":"643 "},{"v":6057.84,"d":"6,058 "},{"v":5477.84,"d":"5,478 "},{"v":580,"d":"580 "},null,{"v":112,"d":"112 "},null,null,1,"КПД, 1 Каркас",null,"Новое ",{"v":4053.6016,"d":"4,054 "},{"v":3186.1308576,"d":"3,186 "},{"v":423.4,"d":"423 "},null,{"$f":"SUM(II34,#REF!,#REF!,#REF!,#REF!,#REF!,#REF!,#REF!)","v":{"$error":"#REF!"}},{"$error":"#REF!"},{"$nulls":150},"2022-11-01","2022-11-15","2024-02-24","2022-12-30","2022-09-30","2023-12-30","2022-12-30","2022-09-30","2023-12-30","2022-12-30","2022-09-30","2023-12-30","2022-12-30","2022-09-30","2023-12-30","2022-12-30","2022-09-30","2023-12-30","2022-12-30","2022-09-30","2023-12-30","2022-12-30","2022-09-30","2023-12-30","2022-12-30","2022-09-30","2023-12-30","2022-12-30","2022-09-30","2023-12-30","2022-12-30","2022-09-30","2023-12-30","2022-12-30","2022-09-30","2023-12-30","2022-12-30","2022-09-30","2023-12-30","2022-12-30","2022-09-30","2023-12-30","2022-12-30","2022-09-30","2023-12-30","2022-12-30","2022-09-30","2023-12-30",null,"АБ-1","АБ-1","АБСт",null,"-",{"$nulls":12},0,{"$f":"IF(YEAR(#REF!)=HW$8,$J34,0)","v":{"$error":"#REF!"}},{"$f":"IF(AND(YEAR(#REF!)<=HW$8,YEAR(#REF!)>HW$8),$J34,0)","v":{"$error":"#REF!"}}]
[277,"13.1.2.7","СК00.01.1.04.2","ЖК \"Салават Купере\" Квартал №1 ж/д 4-2",null,"Утеплитель минераловатный t=150 мм\n","λ=0,038-0,041 Вт/м*К \nt=150мм\np=131-159кг/м3\nГорючесть НГ \nКаменная вата","м3",{"v":823.9641690140845,"d":"824 "},{"$f":"K35+L35","v":{"v":7765.68,"d":"7,766 "}},{"v":7365.68,"d":"7,366 "},{"v":400,"d":"400 "},null,{"v":196,"d":"196 "},null,null,1,"КПД, 1 Каркас",null,"Перепривязка",{"v":4787.692,"d":"4,788 "},{"v":3763.125912,"d":"3,763 "},{"v":292,"d":"292 "},null,{"$f":"SUM(II35,#REF!,#REF!,#REF!,#REF!,#REF!,#REF!,#REF!)","v":{"$error":"#REF!"}},{"$error":"#REF!"},{"$nulls":150},"2022-12-01","2022-12-15","2024-07-23","2023-01-01","2023-06-01","2024-12-30","2023-01-01","2023-06-01","2024-12-30","2023-01-01","2023-06-01","2024-12-30","2023-01-01","2023-06-01","2024-12-30","2023-01-01","2023-06-01","2024-12-30","2023-01-01","2023-06-01","2024-12-30","2023-01-01","2022-09-01","2024-10-30","2023-01-01","2022-09-01","2024-10-30","2023-01-01","2022-09-01","2024-10-30","2023-01-01","2024-01-10","2025-09-01","2023-01-01","2024-01-10","2025-09-01","2023-01-01","2023-02-01","2024-09-01","2023-01-01","2023-02-01","2024-09-01","2023-01-01","2023-02-01","2024-09-01","2023-01-01","2023-02-01","2024-09-01",null,"АБ-1","АБ-1","АБСт",null,"-",{"$nulls":12},0,{"$f":"IF(YEAR(#REF!)=HW$8,$J35,0)","v":{"$error":"#REF!"}},{"$f":"IF(AND(YEAR(#REF!)<=HW$8,YEAR(#REF!)>HW$8),$J35,0)","v":{"$error":"#REF!"}}]
[278,"13.1.2.8","СК00.01.1.04.3","ЖК \"Салават Купере\" Квартал №1 ж/д 4-3",null,"Утеплитель минераловатный t=150 мм\n","λ=0,038-0,041 Вт/м*К \nt=150мм\np=131-159кг/м3\nГорючесть НГ \nКаменная вата","м3",{"v":1069.3386291079812,"d":"1,069 "},{"v":10078.28,"d":"10,078 "},{"v":9498.28,"d":"9,498 "},{"v":580,"d":"580 "},null,{"v":140,"d":"140 "},null,null,1,"КПД, 1 Каркас",null,"Новое ",{"v":6173.8820000000005,"d":"6,174 "},{"v":4852.671252000001,"d":"4,853 "},{"v":423.4,"d":"423 "},null,{"$f":"SUM(II36,#REF!,#REF!,#REF!,#REF!,#REF!,#REF!,#REF!)","v":{"$error":"#REF!"}},{"$error":"#REF!"},{"$nulls":150},"2023-04-01","2023-04-15","2024-11-21","2023-01-01","2023-06-01","2024-12-30","2023-01-01","2023-06-01","2024-12-30","2023-01-01","2023-06-01","2024-12-30","2023-01-01","2023-06-01","2024-12-30","2023-01-01","2023-06-01","2024-12-30","2023-01-10","2023-01-10","2024-12-30","2023-01-10","2022-12-01","2024-10-30","2023-01-10","2022-12-01","2024-10-30","2023-01-10","2022-12-01","2024-10-30","2023-01-10","2024-01-10","2025-09-01","2023-01-10","2024-01-10","2025-09-01","2023-01-10","2023-02-01","2024-09-01","2023-01-10","2023-02-01","2024-09-01","2023-01-10","2023-02-01","2024-09-01","2023-01-10","2023-02-01","2024-09-01",null,"АБ-1","АБ-1","АБСт",null,"-",{"$nulls":12},0,{"$f":"IF(YEAR(#REF!)=HW$8,$J36,0)","v":{"$error":"#REF!"}},{"$f":"IF(AND(YEAR(#REF!)<=HW$8,YEAR(#REF!)>HW$8),$J36,0)","v":{"$error":"#REF!"}}]
[267,"13.1.2.9","СК00.01.1.01.1","ЖК \"Салават Купере\" Квартал №1 ж/д 1-1",null,"Утеплитель минераловатный t=150 мм\n","λ=0,038-0,041 Вт/м*К \nt=150мм\np=131-159кг/м3\nГорючесть НГ \nКаменная вата","м3",{"v":935.6102910798122,"d":"936 "},{"v":8817.92,"d":"8,818 "},{"v":8417.92,"d":"8,418 "},{"v":400,"d":"400 "},null,{"v":160,"d":"160 "},null,null,1,"КПД, 1 Каркас",null,"Новое ",{"v":5471.648,"d":"5,472 "},{"v":4300.715328,"d":"4,301 "},{"v":292,"d":"292 "},null,{"$f":"SUM(II37,#REF!,#REF!,#REF!,#REF!,#REF!,#REF!,#REF!)","v":{"$error":"#REF!"}},{"$f":"U37-Y37-AA37","v":{"$error":"#REF!"}},{"$nulls":150},"2023-05-01",{"$f":"FU37+14","v":"2023-05-15"},"2024-12-21","2023-04-01","2022-10-30","2024-08-30","2023-04-01","2022-10-30","2024-08-30","2023-04-01","2022-10-30","2024-08-30","2023-04-01","2022-10-30","2024-08-30","2023-04-01","2022-10-30","2024-08-30","2023-04-01","2022-10-30","2024-08-30","2023-04-01","2022-10-01","2024-07-30","2023-04-01","2022-10-01","2024-07-30","2023-04-01","2022-10-01","2024-07-30","2023-04-01","2024-01-10","2025-09-01","2023-04-01","2024-01-10","2025-09-01","2023-04-01","2023-04-01","2024-12-01","2023-04-01","2023-04-01","2024-12-01","2023-04-01","2023-04-01","2024-12-01","2023-04-01","2023-04-01","2024-12-01",null,"АБ-1","АБ-1","АБСт",null,"-",{"$nulls":12},{"$f":"SUM(HW37:IH37)","v":0},{"$f":"IF(YEAR(#REF!)=HW$8,$J37,0)","v":{"$error":"#REF!"}},{"$f":"IF(AND(YEAR(#REF!)<=HW$8,YEAR(#REF!)>HW$8),$J37,0)","v":{"$error":"#REF!"}}]
[268,"13.1.2.10","СК00.01.1.01.2","ЖК \"Салават Купере\" Квартал №1 ж/д 1-2",null,"Утеплитель минераловатный t=150 мм\n","λ=0,038-0,041 Вт/м*К \nt=150мм\np=131-159кг/м3\nГорючесть НГ \nКаменная вата","м3",{"v":932.5884694835681,"d":"933 "},{"v":8789.44,"d":"8,789 "},{"v":8209.44,"d":"8,209 "},{"v":580,"d":"580 "},null,{"v":168,"d":"168 "},null,null,1,"КПД, 1 Каркас",null,"Перепривязка",{"v":5336.136,"d":"5,336 "},{"v":4194.202896000001,"d":"4,194 "},{"v":423.4,"d":"423 "},null,{"$f":"SUM(II38,#REF!,#REF!,#REF!,#REF!,#REF!,#REF!,#REF!)","v":{"$error":"#REF!"}},{"$error":"#REF!"},{"$nulls":150},"2023-02-01","2023-02-15","2024-09-23","2023-04-01","2022-10-30","2024-08-30","2023-04-01","2022-10-30","2024-08-30","2023-04-01","2022-10-30","2024-08-30","2023-04-01","2022-10-30","2024-08-30","2023-04-01","2022-10-30","2024-08-30","2023-04-01","2022-10-30","2024-08-30","2023-04-01","2022-11-01","2024-07-30","2023-04-01","2022-11-01","2024-07-30","2023-04-01","2022-11-01","2024-07-30","2023-04-01","2024-01-10","2025-09-01","2023-04-01","2024-01-10","2025-09-01","2023-04-01","2023-04-01","2024-12-01","2023-04-01","2023-04-01","2024-12-01","2023-04-01","2023-04-01","2024-12-01","2023-04-01","2023-04-01","2024-12-01",null,"АБ-1","АБ-1","АБСт",null,"-",{"$nulls":12},0,{"$f":"IF(YEAR(#REF!)=HW$8,$J38,0)","v":{"$error":"#REF!"}},{"$f":"IF(AND(YEAR(#REF!)<=HW$8,YEAR(#REF!)>HW$8),$J38,0)","v":{"$error":"#REF!"}}]
[269,"13.1.2.11","СК00.01.1.01.3","ЖК \"Салават Купере\" Квартал №1 ж/д 1-3",null,"Утеплитель минераловатный t=150 мм\n","λ=0,038-0,041 Вт/м*К \nt=150мм\np=131-159кг/м3\nГорючесть НГ \nКаменная вата","м3",{"v":642.7567323943663,"d":"643 "},{"v":6057.84,"d":"6,058 "},{"v":5477.84,"d":"5,478 "},{"v":580,"d":"580 "},null,{"v":112,"d":"112 "},null,null,1,"КПД, 1 Каркас",null,"Перепривязка",{"v":4053.6016,"d":"4,054 "},{"v":3186.1308576,"d":"3,186 "},{"v":423.4,"d":"423 "},null,{"$f":"SUM(II39,#REF!,#REF!,#REF!,#REF!,#REF!,#REF!,#REF!)","v":{"$error":"#REF!"}},{"$error":"#REF!"},{"$nulls":150},"2022-12-01","2022-12-15","2024-03-25","2023-04-01","2022-10-30","2024-08-30","2023-04-01","2022-10-30","2024-08-30","2023-04-01","2022-10-30","2024-08-30","2023-04-01","2022-10-30","2024-08-30","2023-04-01","2022-10-30","2024-08-30","2023-04-01","2022-10-30","2024-08-30","2023-04-01","2022-09-01","2024-07-30","2023-04-01","2022-09-01","2024-07-30","2023-04-01","2022-09-01","2024-07-30","2023-04-01","2024-01-10","2025-09-01","2023-04-01","2024-01-10","2025-09-01","2023-04-01","2023-04-01","2024-12-01","2023-04-01","2023-04-01","2024-12-01","2023-04-01","2023-04-01","2024-12-01","2023-04-01","2023-04-01","2024-12-01",null,"АБ-1","АБ-1","АБСт",null,"-",{"$nulls":12},0,{"$f":"IF(YEAR(#REF!)=HW$8,$J39,0)","v":{"$error":"#REF!"}},{"$f":"IF(AND(YEAR(#REF!)<=HW$8,YEAR(#REF!)>HW$8),$J39,0)","v":{"$error":"#REF!"}}]
[267,"13.1.2.12","СК00.01.1.02.1","ЖК \"Салават Купере\" Квартал №1 ж/д 2-1",null,"Утеплитель минераловатный t=150 мм\n","λ=0,038-0,041 Вт/м*К \nt=150мм\np=131-159кг/м3\nГорючесть НГ \nКаменная вата","м3",{"v":935.6102910798122,"d":"936 "},{"v":8817.92,"d":"8,818 "},{"v":8417.92,"d":"8,418 "},{"v":400,"d":"400 "},null,{"v":160,"d":"160 "},null,null,1,"КПД, 1 Каркас",null,"Перепривязка",{"v":5471.648,"d":"5,472 "},{"v":4300.715328,"d":"4,301 "},{"v":292,"d":"292 "},null,{"$f":"SUM(II40,#REF!,#REF!,#REF!,#REF!,#REF!,#REF!,#REF!)","v":{"$error":"#REF!"}},{"$error":"#REF!"},{"$nulls":150},"2023-06-01","2023-06-15","2025-01-21","2023-07-01","2023-02-01","2024-10-30","2023-07-01","2023-02-01","2024-10-30","2023-07-01","2023-02-01","2024-10-30","2023-07-01","2023-02-01","2024-10-30","2023-07-01","2023-02-01","2024-10-30","2023-07-01","2023-02-01","2024-10-30","2023-07-01","2022-12-01","2024-10-30","2023-07-01","2022-12-01","2024-10-30","2023-07-01","2022-12-01","2024-10-30","2023-07-01","2024-06-30","2025-11-30","2023-07-01","2024-06-30","2025-11-30","2023-07-01","2023-07-01","2024-12-30","2023-07-01","2023-07-01","2024-12-30","2023-07-01","2023-07-01","2024-12-30","2023-07-01","2023-07-01","2024-12-30",null,"АБ-1","АБ-1","АБСт",null,"-",{"$nulls":12},0,{"$f":"IF(YEAR(#REF!)=HW$8,$J40,0)","v":{"$error":"#REF!"}},{"$f":"IF(AND(YEAR(#REF!)<=HW$8,YEAR(#REF!)>HW$8),$J40,0)","v":{"$error":"#REF!"}}]
[null,"* Коммерческие здания:\nАдм здание 17-3 ПК-9 СГ,\nТоргово-офисное здание ПК-5 \"Мой Ритм\",\nБизнес-центр ПК-1 \"Мой Ритм\",\nБизнес-центр М-3 \"Седьмое Небо\",\nТехнопарк М-4 \"Седьмое Небо\",\nАдминистративное здание с МУПг ул.Рахматуллина,\nЗдание по ул.Сыртлановой 2,\nАдминистративно-офисное здание по ул.Шмидта 35Б"]
[]
[null,"Ввод квартир 2020-2028",{"$nulls":7},2020,{"$nulls":172},2025,2026,2027,{"$nulls":3},2025,2026,2027,2025,2026,2027,2025,2026,2027,2025,2026,2027,2025,2026,2027,2025,2026,2027,2025,2026,2027,2025,2026,2027,2025,2026,2027,2025,2026,2027,2025,2026,2027,2025,2026,2027]
[null," Итого АБД",{"$nulls":7},2075,{"$f":"#REF!+#REF!+K40","v":{"$error":"#REF!"}},{"$nulls":171},3195,8134,1602,{"$nulls":3},3195,8134,1602,3195,8134,1602,3195,8134,1602,3195,8134,1602,3195,8134,1602,3195,8134,1602,3195,8134,1602,3195,8134,1602,3195,8134,1602,3195,8134,1602,3195,8134,1602,3195,8134,1602]
[null," Итого ГЖФ",{"$nulls":7},1020,{"$nulls":172},0,0,0,{"$nulls":3},0,0,0,0,0,0,0,0,0,0,0,0,0,0,0,0,0,0,0,0,0,0,0,0,0,0,0,0,0,0,0,0,0,0,0,0,0]
[null," Всего квартир АБД+ГЖФ",{"$nulls":7},{"$f":"J44+J45","v":3095},{"$f":"K44+K45","v":{"$error":"#REF!"}},0,0,0,0,0,0,0,0,0,0,0,0,0,0,0,0,0,0,0,0,0,0,0,0,0,0,0,0,0,0,0,0,0,0,0,0,0,0,0,0,0,0,0,0,0,0,0,0,0,0,0,0,0,0,0,0,0,{"$f":"BQ44+BQ45","v":0},0,0,0,0,0,0,0,0,0,0,0,0,0,0,0,0,0,0,0,0,0,0,0,0,0,0,0,0,0,0,0,0,0,0,0,0,0,0,0,0,0,0,0,0,0,0,0,0,0,0,0,0,0,0,0,0,0,0,0,0,0,0,0,{"$f":"EC44+EC45","v":0},0,0,0,0,0,0,0,0,0,0,0,0,0,0,0,0,0,0,0,0,0,0,0,0,0,0,0,0,0,0,0,0,0,0,0,0,0,0,0,0,0,0,0,0,0,0,0,0,0,{"$f":"GA44+GA45","v":3195},{"$f":"GB44+GB45","v":8134},{"$f":"GC44+GC45","v":1602},{"$nulls":3},{"$f":"GG44+GG45","v":3195},8134,1602,3195,8134,1602,3195,8134,1602,3195,8134,1602,3195,8134,1602,3195,8134,1602,3195,8134,1602,3195,8134,1602,3195,8134,1602,3195,8134,1602,3195,8134,1602,3195,8134,1602,0]
[{"$nulls":5},"Утеплитель минераловатный t=150 мм\n","λ=0,038-0,041 Вт/м*К \nt=150мм\np=131-159кг/м3\nГорючесть НГ \nКаменная вата","м3",null,{"$f":"SUM(IM47:IX47)","v":0},{"$nulls":236},{"$f":"SUMIF($F$13:$F$40,$F$14,IM13:IM40)","v":0}]
[{"$nulls":3},"Итого",null,"Утеплитель минераловатный t=100мм","λб= не более 0,041 Вт/м*К \np=32-44кг/м3\nгорючесть НГ, каменная вата","м3",null,{"$f":"SUM(IM48:IX48)","v":0},{"$nulls":236},{"$f":"SUMIF($F$13:$F$40,$F$20,IM13:IM41)","v":0}]
[{"$nulls":5},"Утеплитель минераловатный t=50мм","λ= не более 0,039 Вт/м*К \np=72-100кг/м3\nгорючесть НГ, каменная вата","м3",null,{"$f":"SUM(IM49:IX49)","v":0},{"$nulls":236},{"$f":"SUMIF($F$13:$F$40,$F$21,IM13:IM42)","v":0}]
[]
[]
[]
[]
[]
[]
[{"$nulls":27},{"$f":"IG56+#REF!+IW56+#REF!+#REF!+#REF!+#REF!+#REF!","v":{"$error":"#REF!"}},{"$f":"J56-AB56","v":{"$error":"#REF!"}}]
[]
[]
[]
[]
[{"$nulls":27},{"$f":"IG61+#REF!+IW61+#REF!+#REF!+#REF!+#REF!+#REF!","v":{"$error":"#REF!"}},{"$f":"J61-AB61","v":{"$error":"#REF!"}}]
[]
[{"$nulls":27},{"$f":"IG63+#REF!+IW63+#REF!+#REF!+#REF!+#REF!+#REF!","v":{"$error":"#REF!"}},{"$f":"J63-AB63","v":{"$error":"#REF!"}}]