{"text_format":"3","workbook":"xlsx","n_sheets":1,"sheets":["Производственная программа"],"not_rendered":{"macros":1,"external_links":2,"defined_names":68},"read":"whole","date_system":"1900"}

{"sheet":"Производственная программа","index":0,"n_rows":147,"n_cols":256,"rows_kept":147,"merged":[[0,1,0,255],[6,1,6,227],[7,1,8,1],[7,3,8,3],[7,4,8,4],[7,5,8,5],[7,6,8,6],[7,7,8,7],[7,8,8,8],[7,9,8,9],[7,10,8,10],[7,11,8,11],[7,12,8,12],[7,13,8,13],[7,30,7,41],[7,42,7,53],[7,54,7,65],[7,66,7,67],[7,68,7,69],[7,70,7,71],[7,72,7,73],[7,74,7,75],[7,76,7,77],[7,78,7,79],[7,80,7,81],[7,82,7,83],[7,84,7,85],[7,86,7,87],[7,88,7,89],[7,90,7,91],[7,92,7,93],[7,94,7,95],[7,96,7,97],[7,98,7,99],[7,100,7,101],[7,102,7,103],[7,104,7,105],[7,106,7,107],[7,108,7,109],[7,110,7,111],[7,112,7,113],[7,114,7,116],[7,117,7,119],[7,120,7,122],[7,123,7,125],[7,126,7,128],[7,129,7,131],[7,134,8,134],[7,135,8,135],[7,136,7,138],[7,139,7,141],[7,143,7,145],[7,146,7,148],[7,149,7,151],[7,152,7,154],[7,155,7,157],[7,158,7,160],[7,161,7,163],[7,164,7,166],[7,167,7,169],[7,170,7,172],[7,174,7,176],[7,177,7,179],[7,180,7,182],[7,183,7,185],[7,186,7,188],[7,189,7,191],[7,192,7,194],[7,195,7,197],[7,198,7,200],[7,201,7,203],[7,204,7,206],[7,207,7,209],[7,210,7,212],[7,213,7,215],[7,216,7,218],[7,219,7,221],[7,222,8,222],[7,223,7,224],[7,225,8,225],[7,226,8,226],[7,227,8,227],[7,228,7,239],[7,244,7,255]]}
[null,"ПРОИЗВОДСТВЕННАЯ ПРОГРАММА 2022-2028"]
[{"$nulls":252}," - Начало СМР"]
[{"$nulls":228},"●"," - Внутреннее согласование  архитектурно-градостроительной концепции застройки в АБД проведено;",{"$nulls":10},"▪","  - разрешения на строительство получено;",{"$nulls":10}," - СМР"]
[{"$nulls":228},"●"," -В УАиГ получено согласование архитектурной концепции с эскизом застройки ;",{"$nulls":10},"▪"," - старт продаж",{"$nulls":10}," - Производство панелей"]
[{"$nulls":228},"●"," - Эскизный проект (1 этап) согласован;",{"$nulls":10},"▪"," - получен ЗОС;",{"$nulls":10}," - Ввод объекта в эксплуатацию"]
[{"$nulls":228},"●"," - Утверждение отклонений от предельных параметров разрешенного строительства;",{"$nulls":10},"▪"," - зарегистрирована превая квартира на покупателя/раскрыты эскроу счета;",{"$nulls":9},"ДДУ"," - Передача ключей по ДДУ"]
[null,"Кровля 2023-Утеплитель, керамзит, рулонка"]
["№ п/п","№ п/п","Код по 1C","Наименование объектов","Общая площадь здания, м2","Материал","Характеристика","ед.изм","Количество","Продаваемая площадь, м2","Площадь квартир, м2","Площадь коммерции, м2","Паркинги, маш/мест","Кол-во квартир","Кол-во БС","Этажность (жилые этажи)","Кол-во домов","Конструктив","Тип проектирования","Полный объем м3 панель","Полный объем шт панель","Каркасы м3","Фактический объем панелей м3","Разница панели м3","КПД м3 2020","Каркасы м3","каркасы разница м3",null,"Фаза Прединвест/ Инвест ","Комментарии","План на 24.03.2021",{"$nulls":11},"Проноз на 23.11.2021",{"$nulls":11},"Проноз на 14.03.2022",{"$nulls":11},"Программа на февраль 2020",null,"Программа на июль 2020",null,"Программа на 10.12.2020",null,"Программа на 17.12.2020",null,"Программа на 20.01.2021",null,"Программа на 10.02.2021",null,"Программа на 20.02.2021",null,"Программа на 01.03.2021",null,"Программа на 09.03.21",null,"Программа на 19.03.21",null,"Программа на 31.03.21",null,"Программа на 09.04.21",null,"Программа на 19.04.21",null,"Программа на 28.04.21",null,"Программа на 17.05.21",null,"Программа на 02.06.21",null,"Программа на 18.06.21",null,"Программа на 29.06.21",null,"Программа на 08.07.21",null,"Программа на 23.07.21",null,"Программа на 26.07.21",null,"Программа на 11.08.21",null,"Программа на 19.08.21",null,"Программа на 27.08.21",null,"Программа на 09.09.21",null,null,"Программа на 22.09.21",null,null,"Программа на 11.10.21",null,null,"Программа на 10.11.21",null,null,"Программа на 29.11.21",null,null,"Программа на 07.12.21",null,null,"Срок СМР (мес.) ","Срок СМР (мес.)","Согласов-е АГК в АБД","Согласов-е  ЭП 1 этап в УАиГ","Программа на 14.12.21",null,null,"Программа на 27.12.21",null,null,"Срок СМР (мес.)","Программа на 24.01.21",null,null,"Программа на 04.02.22",null,null,"Программа на 11.02.22",null,null,"Программа на 21.02.22",null,null,"Программа на 05.03.22",null,null,"Программа на 18.03.22",null,null,"Программа на 01.04.22",null,null,"Программа на 15.04.22",null,null,"Программа на 18.04.22",null,null,"Программа на 22.04.22\nпо ПП ДЭ",null,null,"Срок СМР (мес.) ","Программа на 29.04.22 по финплану",null,null,"Программа на 13.05.22",null,null,"Программа на 23.05.22",null,null,"Программа на 27.05.22",null,null,"Программа на 10.06.22",null,null,"Программа на 24.06.22",null,null,"Программа на 08.07.22",null,null,"Программа на 22.07.22",null,null,"Программа на 05.08.22",null,null,"Программа на 19.08.22",null,null,"Программа на 02.09.22",null,null,"Программа на 16.09.22",null,null,"Программа на 30.09.22",null,null,"Программа на 14.10.22",null,null,"Программа на 28.10.22",null,null,"Программа на 11.11.22",null,null,"Статус","Проектировщик",null,"Ген. Подрядчик","Срок РНС до","Передача ключей по ДДУ (обяз-ва)",2021,{"$nulls":11},"КПД 2021","ВВОД 2021","ЗАДЕЛ 2021","Проектирование 2021",2023]
[{"$nulls":30},"ТЗ на концепцию","Согл. конц. в АБД","Согл. конц. в УАиГ","Согласование ЭП 1 этап","Утвержение отклонений","Положительная экспертиза","Старт продаж","Выдача КЖИ","Производство панелей","Получение ЗОС","Раскрытие эскроу-счетов","Ввод по БАНКУ","ТЗ на концепцию","Согл. конц. в АБД","Согл. конц. в УАиГ","Согласование ЭП 1 этап","Утвержение отклонений","Положительная экспертиза","Старт продаж","Выдача КЖИ","Производство панелей","Получение ЗОС","Раскрытие эскроу-счетов","Ввод по БАНКУ","ТЗ на концепцию","Согл. конц. в АБД","Согл. конц. в УАиГ","Согласование ЭП 1 этап","Утвержение отклонений","Положительная экспертиза","Старт продаж","Выдача КЖИ","Производство панелей","Получение ЗОС","Раскрытие эскроу-счетов","Ввод по БАНКУ","Разрешение","Ввод объекта","Разрешение","Ввод объекта","Разрешение","Ввод объекта","Разрешение","Ввод объекта","Разрешение","Ввод объекта","Разрешение","Ввод объекта","Разрешение","Ввод объекта","Разрешение","Ввод объекта","Разрешение","Ввод объекта","Разрешение","Ввод объекта","Разрешение","Ввод объекта","Разрешение","Ввод объекта","Разрешение","Ввод объекта","Разрешение","Ввод объекта","Разрешение","Ввод объекта","Разрешение","Ввод объекта","Разрешение","Ввод объекта","Разрешение","Ввод объекта","Разрешение","Ввод объекта","Разрешение","Ввод объекта","Разрешение","Ввод объекта","Разрешение","Ввод объекта","Разрешение","Ввод объекта","Разрешение","Ввод объекта","Разрешение","Начало СМР","Ввод объекта","Разрешение","Начало СМР","Ввод объекта","Разрешение","Начало СМР","Ввод объекта","Разрешение","Начало СМР","Ввод объекта","Разрешение","Начало СМР","Ввод объекта","Разрешение","Начало СМР","Ввод объекта","Начало СМР - Ввод"," РНС - Ввод",null,null,"Разрешение","Начало СМР","Ввод объекта","Разрешение","Начало СМР","Ввод объекта"," РНС - Ввод","Разрешение","Начало СМР","Ввод объекта","Разрешение","Начало СМР","Ввод объекта","Разрешение","Начало СМР","Ввод объекта","Разрешение","Начало СМР","Ввод объекта","Разрешение","Начало СМР","Ввод объекта","Разрешение","Начало СМР","Ввод объекта","Разрешение","Начало СМР","Ввод объекта","Разрешение","Начало СМР","Ввод объекта","Разрешение","Начало СМР","Ввод объекта","Разрешение","Начало СМР","Ввод объекта","Начало СМР - Ввод","Разрешение","Начало СМР","Ввод объекта","Разрешение","Начало СМР","Ввод объекта","Разрешение","Начало СМР","Ввод объекта","Разрешение","Начало СМР","Ввод объекта","Разрешение","Начало СМР","Ввод объекта","Разрешение","Начало СМР","Ввод объекта","Разрешение","Начало СМР","Ввод объекта","Разрешение","Начало СМР","Ввод объекта","Разрешение","Начало СМР","Ввод объекта","Разрешение","Начало СМР","Ввод объекта","Разрешение","Начало СМР","Ввод объекта","Разрешение","Начало СМР","Ввод объекта","Разрешение","Начало СМР","Ввод объекта","Разрешение","Начало СМР","Ввод объекта","Разрешение","Начало СМР","Ввод объекта","Разрешение","Начало СМР","Ввод объекта",null,"АГК-ЭП","ЭП-Эксперт",{"$nulls":3},"янв","фев","мар","апр","май","июн","июл","авг","сен","окт","ноя","дек","м3","м2","м2","м2","янв","фев","мар","апр","май","июн","июл","авг","сен","окт","ноя","дек"]
["1","1","2","2",{"$nulls":5},"3",4,5,6,7,14,15,16,17,19,20,21,22,"18","19","20","21","22","23","24","25","26","27","28","29","30","31","32","33","34","35","36","37","38","39","40","41","42","43","44","45","46","47","48","49","38","39","40","41","42","43","44","45","46","47","48","49","50","51","52","53","54","55","56","57","58","59","60","61","62","63","64","65","66","67","68","69","70","71","72","73","74","75","76","77","78","79","80","81","82","83","84","85","86","87","88","89","90","91","92","93","94","95","96","97","98","99","100","101","102","103",100,101,102,"104","105","106",100,101,102,{"$nulls":3},101,102,103,104,{"$nulls":3},105,106,107,25,105,106,107,105,106,107,26,27,28,26,27,28,26,27,28,26,27,28,26,27,28,26,27,28,26,27,28,25,26,27,28,26,27,28,{"$nulls":3},29,30,31,29,30,31,29,30,31,29,30,31,29,30,31,29,30,31,29,30,31,29,30,31,29,30,31,29,30,31,29,30,31,29,30,31,29,30,31,29,30,31,32,null,null,33,34,35,36,37,38,39,40,41,42,43,44,45,46,47,48,49,50,51,68,69,70,71,72,73,74,75,76,77,78,79]
[10,"1.3","СГ00.09.0.00.0","Жилой комплекс \"Солнечный город\" ПК-9",{"$f":"E12","v":0},{"$nulls":5},{"$f":"SUM(K12:K12)","v":0},null,{"$f":"SUM(M12:M12)","v":0},{"$f":"SUM(N12:N12)","v":0},null,null,{"$f":"SUM(Q12:Q12)","v":0},null,null,{"$f":"SUM(T12:T12)","v":0},0,null,{"$f":"SUM(IG11,#REF!,#REF!,#REF!,#REF!,#REF!,#REF!,#REF!)","v":{"$error":"#REF!"}},{"$f":"U11-W11","v":{"$error":"#REF!"}},{"$nulls":50},"2022-01-05","2022-12-05","2022-01-05","2022-12-05","2022-01-05","2022-12-05","2022-01-05","2022-12-05","2022-01-05","2022-12-05","2022-01-05","2022-12-05","2022-01-05","2022-12-05","2022-01-05","2022-12-05","2022-01-05","2022-12-05",{"$f":"MIN(CO12)","v":"2021-12-01"},{"$f":"MAX(CP12)","v":"2022-12-30"},{"$f":"MIN(CQ12)","v":"2021-12-01"},{"$f":"MAX(CR12)","v":"2022-12-30"},{"$f":"MIN(CS12)","v":"2021-12-01"},{"$f":"MAX(CT12)","v":"2022-12-30"},{"$f":"MIN(CU12)","v":"2021-12-01"},{"$f":"MAX(CV12)","v":"2022-12-30"},{"$f":"MIN(CW12)","v":"2021-12-01"},{"$f":"MAX(CX12)","v":"2022-12-30"},{"$f":"MIN(CY12)","v":"2021-12-01"},{"$f":"MAX(CZ12)","v":"2022-12-30"},{"$f":"MIN(DA12)","v":"2021-12-01"},{"$f":"MAX(DB12)","v":"2022-12-30"},{"$f":"MIN(DC12)","v":"2021-12-01"},{"$f":"MAX(DD12)","v":"2022-12-30"},{"$f":"MIN(DE12)","v":"2021-12-01"},{"$f":"MAX(DF12)","v":"2022-12-30"},{"$f":"MIN(DG12)","v":"2021-12-01"},{"$f":"MAX(DH12)","v":"2022-12-30"},{"$f":"MIN(DI12)","v":"2021-12-01"},{"$f":"MAX(DJ12)","v":"2022-12-30"},{"$f":"MIN(DK12)","v":"2021-12-01"},{"$f":"MIN(DL12)","v":"2021-12-01"},{"$f":"MAX(DM12)","v":"2022-12-30"},{"$f":"MIN(DN12)","v":"2021-12-01"},{"$f":"MIN(DO12)","v":"2021-12-01"},{"$f":"MAX(DP12)","v":"2022-12-30"},{"$f":"MIN(DQ12)","v":"2021-12-01"},{"$f":"MIN(DR12)","v":"2021-12-01"},{"$f":"MAX(DS12)","v":"2022-12-30"},{"$f":"MIN(DT12)","v":"2021-12-01"},{"$f":"MIN(DU12)","v":"2021-12-01"},{"$f":"MAX(DV12)","v":"2022-12-30"},{"$f":"MIN(DW12)","v":"2021-12-01"},{"$f":"MIN(DX12)","v":"2021-12-01"},{"$f":"MAX(DY12)","v":"2022-12-30"},"2021-12-01","2021-12-01","2022-12-30",{"$nulls":4},"2021-12-01","2021-12-01","2022-12-30",{"$f":"MIN(EJ12)","v":"2021-12-01"},{"$f":"MIN(EK12)","v":"2021-12-01"},{"$f":"MAX(EL12)","v":"2022-12-30"},null,{"$f":"MIN(EN12)","v":"2021-12-01"},{"$f":"MIN(EO12)","v":"2021-12-01"},{"$f":"MAX(EP12)","v":"2022-12-30"},{"$f":"MIN(EQ12)","v":"2021-12-01"},{"$f":"MIN(ER12)","v":"2021-12-01"},{"$f":"MAX(ES12)","v":"2022-12-30"},{"$f":"MIN(ET12)","v":"2021-12-01"},{"$f":"MIN(EU12)","v":"2021-12-01"},{"$f":"MAX(EV12)","v":"2022-12-30"},"2021-12-01","2021-12-01","2022-12-30",{"$f":"MIN(EZ12)","v":"2021-12-01"},{"$f":"MIN(FA12)","v":"2021-12-01"},{"$f":"MAX(FB12)","v":"2022-12-30"},{"$f":"MIN(FC12)","v":"2021-12-01"},{"$f":"MIN(FD12)","v":"2021-12-01"},{"$f":"MAX(FE12)","v":"2022-12-30"},"2021-12-01","2021-12-01","2022-12-30",{"$f":"MIN(FI12)","v":"2021-12-01"},{"$f":"MIN(FJ12)","v":"2021-12-01"},{"$f":"MAX(FK12)","v":"2022-12-30"},{"$f":"MIN(FL12)","v":"2021-12-01"},{"$f":"MIN(FM12)","v":"2021-12-01"},{"$f":"MAX(FN12)","v":"2022-12-30"},"2021-12-01","2021-12-01","2022-12-30",null,{"$f":"MIN(FS12)","v":"2021-12-01"},{"$f":"MIN(FT12)","v":"2021-12-01"},{"$f":"MAX(FU12)","v":"2022-12-30"},"2021-12-01","2021-12-01","2022-12-30",{"$f":"MIN(FY12)","v":"2021-12-01"},{"$f":"MIN(FZ12)","v":"2021-12-01"},{"$f":"MAX(GA12)","v":"2022-12-30"},{"$f":"MIN(GB12)","v":"2021-12-01"},{"$f":"MIN(GC12)","v":"2021-12-01"},{"$f":"MAX(GD12)","v":"2022-12-30"},{"$f":"MIN(GE12)","v":"2021-12-01"},{"$f":"MIN(GF12)","v":"2021-12-01"},{"$f":"MAX(GG12)","v":"2022-12-30"},{"$f":"MIN(GH12)","v":"2021-12-01"},{"$f":"MIN(GI12)","v":"2021-12-01"},{"$f":"MAX(GJ12)","v":"2022-12-30"},{"$f":"MIN(GK12)","v":"2021-12-01"},{"$f":"MIN(GL12)","v":"2021-12-01"},{"$f":"MAX(GM12)","v":"2022-12-30"},{"$f":"MIN(GN12)","v":"2021-12-01"},{"$f":"MIN(GO12)","v":"2021-12-01"},{"$f":"MAX(GP12)","v":"2022-12-30"},{"$f":"MIN(GQ12)","v":"2021-12-01"},{"$f":"MIN(GR12)","v":"2021-12-01"},{"$f":"MAX(GS12)","v":"2022-12-30"},{"$f":"MIN(GT12)","v":"2021-12-01"},{"$f":"MIN(GU12)","v":"2021-12-01"},{"$f":"MAX(GV12)","v":"2022-12-30"},{"$f":"MIN(GW12)","v":"2021-12-01"},{"$f":"MIN(GX12)","v":"2021-12-01"},{"$f":"MAX(GY12)","v":"2022-12-30"},{"$f":"MIN(GZ12)","v":"2021-12-01"},{"$f":"MIN(HA12)","v":"2021-12-01"},{"$f":"MAX(HB12)","v":"2022-12-30"},{"$f":"MIN(HC12)","v":"2021-12-01"},{"$f":"MIN(HD12)","v":"2021-12-01"},{"$f":"MAX(HE12)","v":"2022-12-30"},{"$f":"MIN(HF12)","v":"2021-12-01"},{"$f":"MIN(HG12)","v":"2021-12-01"},{"$f":"MAX(HH12)","v":"2022-12-30"},{"$f":"MIN(HI12)","v":"2021-12-01"},{"$f":"MIN(HJ12)","v":"2021-12-01"},{"$f":"MAX(HK12)","v":"2022-12-30"},{"$f":"MIN(HL12)","v":"2021-12-01"},{"$f":"MIN(HM12)","v":"2021-12-01"},{"$f":"MAX(HN12)","v":"2022-12-30"},{"$nulls":6},{"$f":"SUM(HU12:HU12)","v":0},0,0,0,0,0,0,0,0,0,0,0,0,0,0,0,{"$f":"SUM(IK12:IK12)","v":0},0,0,0,0,0,0,0,0,0,0,0]
[11,"1.3.1","СГ00.09.2.00.0","Жилой комплекс \"Солнечный город\" ПК-9 Адм здание 17-3",{"$nulls":5},{"$f":"L12","v":2100},null,{"v":2100,"d":"2,100 "},null,null,1,3,null,"Не опред.",{"$nulls":4},{"$f":"SUM(IG12,#REF!,#REF!,#REF!,#REF!,#REF!,#REF!,#REF!)","v":{"$error":"#REF!"}},{"$f":"U12-W12","v":{"$error":"#REF!"}},{"$nulls":4},"Прединвест",{"$nulls":45},"2022-01-05","2022-12-05","2022-01-05","2022-12-05","2022-01-05","2022-12-05","2022-01-05","2022-12-05","2022-01-05","2022-12-05","2022-01-05","2022-12-05","2021-12-01","2022-12-05","2022-01-05","2022-12-05","2022-01-05","2022-12-30","2021-12-01","2022-12-30","2021-12-01","2022-12-30","2021-12-01","2022-12-30","2021-12-01","2022-12-30","2021-12-01","2022-12-30","2021-12-01","2022-12-30","2021-12-01","2022-12-30","2021-12-01","2022-12-30","2021-12-01","2022-12-30","2021-12-01","2022-12-30","2021-12-01","2022-12-30","2021-12-01","2021-12-01","2022-12-30","2021-12-01","2021-12-01","2022-12-30","2021-12-01","2021-12-01","2022-12-30","2021-12-01","2021-12-01","2022-12-30","2021-12-01","2021-12-01","2022-12-30","2021-12-01","2021-12-01","2022-12-30",{"$f":"(DM12-DL12)/30","v":{"v":13.133333333333333,"d":"13"}},{"$f":"(DM12-DK12)/30","v":{"v":13.133333333333333,"d":"13"}}," -"," -","2021-12-01","2021-12-01","2022-12-30","2021-12-01","2021-12-01","2022-12-30",{"$f":"(DZ12-DX12)/30","v":0},"2021-12-01","2021-12-01","2022-12-30","2021-12-01","2021-12-01","2022-12-30","2021-12-01","2021-12-01","2022-12-30","2021-12-01","2021-12-01","2022-12-30","2021-12-01","2021-12-01","2022-12-30","2021-12-01","2021-12-01","2022-12-30","2021-12-01","2021-12-01","2022-12-30","2021-12-01","2021-12-01","2022-12-30","2021-12-01","2021-12-01","2022-12-30","2021-12-01","2021-12-01","2022-12-30",{"$f":"(FQ12-FP12)/30","v":{"v":13.133333333333333,"d":"13"}},"2021-12-01","2021-12-01","2022-12-30","2021-12-01","2021-12-01","2022-12-30","2021-12-01","2021-12-01","2022-12-30","2021-12-01","2021-12-01","2022-12-30","2021-12-01","2021-12-01","2022-12-30","2021-12-01","2021-12-01","2022-12-30","2021-12-01","2021-12-01","2022-12-30","2021-12-01","2021-12-01","2022-12-30","2021-12-01","2021-12-01","2022-12-30","2021-12-01","2021-12-01","2022-12-30","2021-12-01","2021-12-01","2022-12-30","2021-12-01","2021-12-01","2022-12-30","2021-12-01","2021-12-01","2022-12-30","2021-12-01","2021-12-01","2022-12-30","2021-12-01","2021-12-01","2022-12-30","2021-12-01","2021-12-01","2022-12-30",{"$nulls":18},{"$f":"SUM(HU12:IF12)","v":0}]
[30,"2.3","СД00.03.0.00.0","ЖК \"Светлая Долина\" ПК-3",{"$f":"SUM(E14:E32)","v":{"v":341015.21,"d":"341,015 "}}]
[31,"2.3.1","СД00.03.1.03.1","ЖК \"Светлая Долина\" ПК-3 ж/д 3-1",{"v":30508.82,"d":"30,509 "},"Плиты теплоизоляционные пенополистирольные ППС-25 150мм",null,"м3",{"$f":"140.294/580*L14","v":{"v":354.82287689655175,"d":"355 "}},{"$f":"K14+L14","v":{"v":20729.72,"d":"20,730 "}},{"v":19262.82,"d":"19,263 "},{"v":1466.9,"d":"1,467 "},null,{"v":480,"d":"480 "},2,"26 (24)",1,"Монолит","Перепривязка",{"$nulls":3},{"$f":"SUM(IG14,#REF!,#REF!,#REF!,#REF!,#REF!,#REF!,#REF!)","v":{"$error":"#REF!"}},{"$f":"T14-W14-Y14","v":{"$error":"#REF!"}},{"$nulls":4},"Прединвест","Первоначально в ПП закладывался срок строительства для панельного дома - 2 года. \nДалее было принято решение о возведении монолитного дома, срок строительства которого 2,5 года.","2020-11-25","2020-12-25","2021-04-15","2021-04-30","2021-09-30","2021-10-31","2022-01-31",null,null,"2024-04-30","2024-10-31","2024-12-30","2020-11-25","2020-12-25","2021-04-15","2021-07-05","2021-11-01","2022-01-31","2022-01-31","нет","нет","2024-07-01","2024-10-31","2024-12-30","2020-11-25","2020-12-25","2021-04-15","2021-07-05","2021-11-30","2022-03-09","2022-03-20","нет","нет","2024-08-30","2024-10-30","2025-06-30","2022-06-01","2024-07-30","2022-06-01","2024-07-01","2022-06-01","2024-07-01","2022-06-01","2024-07-01","2021-12-30","2024-01-01","2021-12-01","2024-08-01","2021-12-01","2024-08-01","2021-12-01","2024-08-01","2021-12-01","2024-08-01","2021-12-01","2024-08-01","2021-12-01","2024-08-01","2021-12-01","2024-08-01","2021-12-01","2024-08-01","2021-12-01","2024-08-01","2021-12-01","2024-08-01","2021-12-01","2024-08-01","2021-12-01","2024-08-01","2021-12-01","2024-08-01","2021-12-01","2024-08-01","2021-12-01","2024-08-01","2021-12-30","2024-08-01","2021-12-01","2024-08-01","2021-12-30","2024-08-01","2021-12-30","2024-08-01","2021-12-30","2022-01-30","2024-08-01","2021-12-30","2022-01-30","2024-08-01","2021-12-30","2022-01-30","2024-08-01","2021-12-30","2022-01-30","2024-08-01","2022-02-28",{"$f":"DW14+14","v":"2022-03-14"},"2024-08-01","2022-03-30","2022-04-13","2024-09-30",{"$f":"(DM14-DL14)/30","v":{"v":30.466666666666665,"d":"30"}},{"$f":"(DM14-DK14)/30","v":{"v":31.5,"d":"32"}},"2020-12-25","2021-07-05","2022-03-30","2022-04-13","2024-09-30","2022-02-28",{"$f":"EJ14+14","v":"2022-03-14"},"2024-09-30",{"$f":"(#REF!-#REF!)/30","v":{"$error":"#REF!"}},"2022-03-15",{"$f":"EN14+14","v":"2022-03-29"},"2024-09-30","2022-03-15",{"$f":"EQ14+14","v":"2022-03-29"},"2024-09-30","2022-03-15",{"$f":"ET14+14","v":"2022-03-29"},"2024-09-30","2022-03-20","2022-04-03","2024-09-30","2022-03-20",{"$f":"EZ14+14","v":"2022-04-03"},"2024-09-30","2022-05-15","2022-05-30","2024-09-30","2022-07-30","2022-07-30","2024-09-30","2022-07-30","2022-07-30","2024-09-30","2022-07-30","2022-07-30","2024-09-30","2022-07-30","2022-09-01","2024-11-30",{"$f":"(FQ14-FP14)/30","v":{"v":27.366666666666667,"d":"27"}},"2022-07-30","2022-09-01","2024-11-30","2022-07-15","2022-08-29","2024-11-30","2022-07-15","2022-08-29","2024-11-30","2022-07-15","2022-08-29","2024-11-30","2022-08-15","2022-08-29","2024-11-30","2022-08-15","2022-08-29","2024-11-30","2022-08-31","2022-08-31","2024-11-30","2022-09-30","2022-09-30","2024-11-30","2022-09-30","2022-09-30","2024-11-30","2022-09-30","2022-09-30","2024-11-30","2022-10-17","2022-10-17","2024-11-30","2022-11-07","2022-11-07","2024-11-30","2022-11-07","2022-11-07","2024-11-30","2022-11-07","2022-11-07","2024-11-30","2022-12-08","2022-12-08","2024-11-30","2022-12-08","2022-12-08","2024-11-30",null,"АБ-1","АБ-1","Не определен",null,"2025-06-30",{"$nulls":3},"●",null,null,"●",{"$nulls":3},"●",null,{"$f":"SUM(HU14:IF14)","v":0},{"$f":"IF(YEAR(#REF!)=HU$8,$J14,0)","v":{"$error":"#REF!"}},{"$f":"IF(AND(YEAR(#REF!)<=HU$8,YEAR(#REF!)>HU$8),$J14,0)","v":{"$error":"#REF!"}},{"$f":"J14","v":{"v":20729.72,"d":"20,730"}},{"$nulls":11},{"$f":"I14","v":{"v":354.82287689655175,"d":"355"}}]
[31,"2.3.1","СД00.03.1.03.1","ЖК \"Светлая Долина\" ПК-3 ж/д 3-1",{"v":30508.82,"d":"30,509 "},"Керамзит М600",null,"м3",{"$f":"142.129/580*L15","v":{"v":359.463845,"d":"359 "}},{"v":20729.72,"d":"20,730 "},{"v":19262.82,"d":"19,263 "},{"v":1466.9,"d":"1,467 "},null,{"v":480,"d":"480 "},2,"26 (24)",1,"Монолит","Перепривязка",{"$nulls":3},{"$f":"SUM(IG15,#REF!,#REF!,#REF!,#REF!,#REF!,#REF!,#REF!)","v":{"$error":"#REF!"}},{"$error":"#REF!"},{"$nulls":4},"Прединвест","Первоначально в ПП закладывался срок строительства для панельного дома - 2 года. \nДалее было принято решение о возведении монолитного дома, срок строительства которого 2,5 года.","2020-11-25","2020-12-25","2021-04-15","2021-04-30","2021-09-30","2021-10-31","2022-01-31",null,null,"2024-04-30","2024-10-31","2024-12-30","2020-11-25","2020-12-25","2021-04-15","2021-07-05","2021-11-01","2022-01-31","2022-01-31","нет","нет","2024-07-01","2024-10-31","2024-12-30","2020-11-25","2020-12-25","2021-04-15","2021-07-05","2021-11-30","2022-03-09","2022-03-20","нет","нет","2024-08-30","2024-10-30","2025-06-30","2022-06-01","2024-07-30","2022-06-01","2024-07-01","2022-06-01","2024-07-01","2022-06-01","2024-07-01","2021-12-30","2024-01-01","2021-12-01","2024-08-01","2021-12-01","2024-08-01","2021-12-01","2024-08-01","2021-12-01","2024-08-01","2021-12-01","2024-08-01","2021-12-01","2024-08-01","2021-12-01","2024-08-01","2021-12-01","2024-08-01","2021-12-01","2024-08-01","2021-12-01","2024-08-01","2021-12-01","2024-08-01","2021-12-01","2024-08-01","2021-12-01","2024-08-01","2021-12-01","2024-08-01","2021-12-01","2024-08-01","2021-12-30","2024-08-01","2021-12-01","2024-08-01","2021-12-30","2024-08-01","2021-12-30","2024-08-01","2021-12-30","2022-01-30","2024-08-01","2021-12-30","2022-01-30","2024-08-01","2021-12-30","2022-01-30","2024-08-01","2021-12-30","2022-01-30","2024-08-01","2022-02-28","2022-03-14","2024-08-01","2022-03-30","2022-04-13","2024-09-30",{"v":30.466666666666665,"d":"30"},{"v":31.5,"d":"32"},"2020-12-25","2021-07-05","2022-03-30","2022-04-13","2024-09-30","2022-02-28","2022-03-14","2024-09-30",{"$f":"(#REF!-#REF!)/30","v":{"$error":"#REF!"}},"2022-03-15","2022-03-29","2024-09-30","2022-03-15","2022-03-29","2024-09-30","2022-03-15","2022-03-29","2024-09-30","2022-03-20","2022-04-03","2024-09-30","2022-03-20","2022-04-03","2024-09-30","2022-05-15","2022-05-30","2024-09-30","2022-07-30","2022-07-30","2024-09-30","2022-07-30","2022-07-30","2024-09-30","2022-07-30","2022-07-30","2024-09-30","2022-07-30","2022-09-01","2024-11-30",{"v":27.366666666666667,"d":"27"},"2022-07-30","2022-09-01","2024-11-30","2022-07-15","2022-08-29","2024-11-30","2022-07-15","2022-08-29","2024-11-30","2022-07-15","2022-08-29","2024-11-30","2022-08-15","2022-08-29","2024-11-30","2022-08-15","2022-08-29","2024-11-30","2022-08-31","2022-08-31","2024-11-30","2022-09-30","2022-09-30","2024-11-30","2022-09-30","2022-09-30","2024-11-30","2022-09-30","2022-09-30","2024-11-30","2022-10-17","2022-10-17","2024-11-30","2022-11-07","2022-11-07","2024-11-30","2022-11-07","2022-11-07","2024-11-30","2022-11-07","2022-11-07","2024-11-30","2022-12-08","2022-12-08","2024-11-30","2022-12-08","2022-12-08","2024-11-30",null,"АБ-1","АБ-1","Не определен",null,"2025-06-30",{"$nulls":3},"●",null,null,"●",{"$nulls":3},"●",null,0,{"$f":"IF(YEAR(#REF!)=HU$8,$J15,0)","v":{"$error":"#REF!"}},{"$f":"IF(AND(YEAR(#REF!)<=HU$8,YEAR(#REF!)>HU$8),$J15,0)","v":{"$error":"#REF!"}},{"v":20729.72,"d":"20,730"},{"$nulls":11},{"v":359.463845,"d":"359"}]
[31,"2.3.1","СД00.03.1.03.1","ЖК \"Светлая Долина\" ПК-3 ж/д 3-1",{"v":30508.82,"d":"30,509 "},"Плиты теплоизоляционные пенополистирольные экструдированные 100мм",null,"м3",{"$f":"14.146/580*L16","v":{"v":35.777185172413795,"d":"36 "}},{"v":20729.72,"d":"20,730 "},{"v":19262.82,"d":"19,263 "},{"v":1466.9,"d":"1,467 "},null,{"v":480,"d":"480 "},2,"26 (24)",1,"Монолит","Перепривязка",{"$nulls":3},{"$f":"SUM(IG16,#REF!,#REF!,#REF!,#REF!,#REF!,#REF!,#REF!)","v":{"$error":"#REF!"}},{"$error":"#REF!"},{"$nulls":4},"Прединвест","Первоначально в ПП закладывался срок строительства для панельного дома - 2 года. \nДалее было принято решение о возведении монолитного дома, срок строительства которого 2,5 года.","2020-11-25","2020-12-25","2021-04-15","2021-04-30","2021-09-30","2021-10-31","2022-01-31",null,null,"2024-04-30","2024-10-31","2024-12-30","2020-11-25","2020-12-25","2021-04-15","2021-07-05","2021-11-01","2022-01-31","2022-01-31","нет","нет","2024-07-01","2024-10-31","2024-12-30","2020-11-25","2020-12-25","2021-04-15","2021-07-05","2021-11-30","2022-03-09","2022-03-20","нет","нет","2024-08-30","2024-10-30","2025-06-30","2022-06-01","2024-07-30","2022-06-01","2024-07-01","2022-06-01","2024-07-01","2022-06-01","2024-07-01","2021-12-30","2024-01-01","2021-12-01","2024-08-01","2021-12-01","2024-08-01","2021-12-01","2024-08-01","2021-12-01","2024-08-01","2021-12-01","2024-08-01","2021-12-01","2024-08-01","2021-12-01","2024-08-01","2021-12-01","2024-08-01","2021-12-01","2024-08-01","2021-12-01","2024-08-01","2021-12-01","2024-08-01","2021-12-01","2024-08-01","2021-12-01","2024-08-01","2021-12-01","2024-08-01","2021-12-01","2024-08-01","2021-12-30","2024-08-01","2021-12-01","2024-08-01","2021-12-30","2024-08-01","2021-12-30","2024-08-01","2021-12-30","2022-01-30","2024-08-01","2021-12-30","2022-01-30","2024-08-01","2021-12-30","2022-01-30","2024-08-01","2021-12-30","2022-01-30","2024-08-01","2022-02-28","2022-03-14","2024-08-01","2022-03-30","2022-04-13","2024-09-30",{"v":30.466666666666665,"d":"30"},{"v":31.5,"d":"32"},"2020-12-25","2021-07-05","2022-03-30","2022-04-13","2024-09-30","2022-02-28","2022-03-14","2024-09-30",{"$f":"(#REF!-#REF!)/30","v":{"$error":"#REF!"}},"2022-03-15","2022-03-29","2024-09-30","2022-03-15","2022-03-29","2024-09-30","2022-03-15","2022-03-29","2024-09-30","2022-03-20","2022-04-03","2024-09-30","2022-03-20","2022-04-03","2024-09-30","2022-05-15","2022-05-30","2024-09-30","2022-07-30","2022-07-30","2024-09-30","2022-07-30","2022-07-30","2024-09-30","2022-07-30","2022-07-30","2024-09-30","2022-07-30","2022-09-01","2024-11-30",{"v":27.366666666666667,"d":"27"},"2022-07-30","2022-09-01","2024-11-30","2022-07-15","2022-08-29","2024-11-30","2022-07-15","2022-08-29","2024-11-30","2022-07-15","2022-08-29","2024-11-30","2022-08-15","2022-08-29","2024-11-30","2022-08-15","2022-08-29","2024-11-30","2022-08-31","2022-08-31","2024-11-30","2022-09-30","2022-09-30","2024-11-30","2022-09-30","2022-09-30","2024-11-30","2022-09-30","2022-09-30","2024-11-30","2022-10-17","2022-10-17","2024-11-30","2022-11-07","2022-11-07","2024-11-30","2022-11-07","2022-11-07","2024-11-30","2022-11-07","2022-11-07","2024-11-30","2022-12-08","2022-12-08","2024-11-30","2022-12-08","2022-12-08","2024-11-30",null,"АБ-1","АБ-1","Не определен",null,"2025-06-30",{"$nulls":3},"●",null,null,"●",{"$nulls":3},"●",null,0,{"$f":"IF(YEAR(#REF!)=HU$8,$J16,0)","v":{"$error":"#REF!"}},{"$f":"IF(AND(YEAR(#REF!)<=HU$8,YEAR(#REF!)>HU$8),$J16,0)","v":{"$error":"#REF!"}},{"v":20729.72,"d":"20,730"},{"$nulls":11},{"v":35.777185172413795,"d":"36"}]
[31,"2.3.1","СД00.03.1.03.1","ЖК \"Светлая Долина\" ПК-3 ж/д 3-1",{"v":30508.82,"d":"30,509 "},"Плиты теплоизоляционные пенополистирольные экструдированные 50мм",null,"м3",{"$f":"3.939/580*L17","v":{"v":9.962274310344828,"d":"10 "}},{"v":20729.72,"d":"20,730 "},{"v":19262.82,"d":"19,263 "},{"v":1466.9,"d":"1,467 "},null,{"v":480,"d":"480 "},2,"26 (24)",1,"Монолит","Перепривязка",{"$nulls":3},{"$f":"SUM(IG17,#REF!,#REF!,#REF!,#REF!,#REF!,#REF!,#REF!)","v":{"$error":"#REF!"}},{"$error":"#REF!"},{"$nulls":4},"Прединвест","Первоначально в ПП закладывался срок строительства для панельного дома - 2 года. \nДалее было принято решение о возведении монолитного дома, срок строительства которого 2,5 года.","2020-11-25","2020-12-25","2021-04-15","2021-04-30","2021-09-30","2021-10-31","2022-01-31",null,null,"2024-04-30","2024-10-31","2024-12-30","2020-11-25","2020-12-25","2021-04-15","2021-07-05","2021-11-01","2022-01-31","2022-01-31","нет","нет","2024-07-01","2024-10-31","2024-12-30","2020-11-25","2020-12-25","2021-04-15","2021-07-05","2021-11-30","2022-03-09","2022-03-20","нет","нет","2024-08-30","2024-10-30","2025-06-30","2022-06-01","2024-07-30","2022-06-01","2024-07-01","2022-06-01","2024-07-01","2022-06-01","2024-07-01","2021-12-30","2024-01-01","2021-12-01","2024-08-01","2021-12-01","2024-08-01","2021-12-01","2024-08-01","2021-12-01","2024-08-01","2021-12-01","2024-08-01","2021-12-01","2024-08-01","2021-12-01","2024-08-01","2021-12-01","2024-08-01","2021-12-01","2024-08-01","2021-12-01","2024-08-01","2021-12-01","2024-08-01","2021-12-01","2024-08-01","2021-12-01","2024-08-01","2021-12-01","2024-08-01","2021-12-01","2024-08-01","2021-12-30","2024-08-01","2021-12-01","2024-08-01","2021-12-30","2024-08-01","2021-12-30","2024-08-01","2021-12-30","2022-01-30","2024-08-01","2021-12-30","2022-01-30","2024-08-01","2021-12-30","2022-01-30","2024-08-01","2021-12-30","2022-01-30","2024-08-01","2022-02-28","2022-03-14","2024-08-01","2022-03-30","2022-04-13","2024-09-30",{"v":30.466666666666665,"d":"30"},{"v":31.5,"d":"32"},"2020-12-25","2021-07-05","2022-03-30","2022-04-13","2024-09-30","2022-02-28","2022-03-14","2024-09-30",{"$f":"(#REF!-#REF!)/30","v":{"$error":"#REF!"}},"2022-03-15","2022-03-29","2024-09-30","2022-03-15","2022-03-29","2024-09-30","2022-03-15","2022-03-29","2024-09-30","2022-03-20","2022-04-03","2024-09-30","2022-03-20","2022-04-03","2024-09-30","2022-05-15","2022-05-30","2024-09-30","2022-07-30","2022-07-30","2024-09-30","2022-07-30","2022-07-30","2024-09-30","2022-07-30","2022-07-30","2024-09-30","2022-07-30","2022-09-01","2024-11-30",{"v":27.366666666666667,"d":"27"},"2022-07-30","2022-09-01","2024-11-30","2022-07-15","2022-08-29","2024-11-30","2022-07-15","2022-08-29","2024-11-30","2022-07-15","2022-08-29","2024-11-30","2022-08-15","2022-08-29","2024-11-30","2022-08-15","2022-08-29","2024-11-30","2022-08-31","2022-08-31","2024-11-30","2022-09-30","2022-09-30","2024-11-30","2022-09-30","2022-09-30","2024-11-30","2022-09-30","2022-09-30","2024-11-30","2022-10-17","2022-10-17","2024-11-30","2022-11-07","2022-11-07","2024-11-30","2022-11-07","2022-11-07","2024-11-30","2022-11-07","2022-11-07","2024-11-30","2022-12-08","2022-12-08","2024-11-30","2022-12-08","2022-12-08","2024-11-30",null,"АБ-1","АБ-1","Не определен",null,"2025-06-30",{"$nulls":3},"●",null,null,"●",{"$nulls":3},"●",null,0,{"$f":"IF(YEAR(#REF!)=HU$8,$J17,0)","v":{"$error":"#REF!"}},{"$f":"IF(AND(YEAR(#REF!)<=HU$8,YEAR(#REF!)>HU$8),$J17,0)","v":{"$error":"#REF!"}},{"v":20729.72,"d":"20,730"},{"$nulls":11},{"v":9.962274310344828,"d":"10"}]
[31,"2.3.1","СД00.03.1.03.1","ЖК \"Светлая Долина\" ПК-3 ж/д 3-1",{"v":30508.82,"d":"30,509 "},"Материал рулонный кровельный гидроизоляционный верхний слой","основа: полиэстeр;температура гибкости на брусе R=25мм не менее -20; толщина 1м² не менее 3,8мм","м2",{"$f":"1730.022/580*L18","v":{"v":4375.464261724138,"d":"4,375 "}},{"v":20729.72,"d":"20,730 "},{"v":19262.82,"d":"19,263 "},{"v":1466.9,"d":"1,467 "},null,{"v":480,"d":"480 "},2,"26 (24)",1,"Монолит","Перепривязка",{"$nulls":3},{"$f":"SUM(IG18,#REF!,#REF!,#REF!,#REF!,#REF!,#REF!,#REF!)","v":{"$error":"#REF!"}},{"$error":"#REF!"},{"$nulls":4},"Прединвест","Первоначально в ПП закладывался срок строительства для панельного дома - 2 года. \nДалее было принято решение о возведении монолитного дома, срок строительства которого 2,5 года.","2020-11-25","2020-12-25","2021-04-15","2021-04-30","2021-09-30","2021-10-31","2022-01-31",null,null,"2024-04-30","2024-10-31","2024-12-30","2020-11-25","2020-12-25","2021-04-15","2021-07-05","2021-11-01","2022-01-31","2022-01-31","нет","нет","2024-07-01","2024-10-31","2024-12-30","2020-11-25","2020-12-25","2021-04-15","2021-07-05","2021-11-30","2022-03-09","2022-03-20","нет","нет","2024-08-30","2024-10-30","2025-06-30","2022-06-01","2024-07-30","2022-06-01","2024-07-01","2022-06-01","2024-07-01","2022-06-01","2024-07-01","2021-12-30","2024-01-01","2021-12-01","2024-08-01","2021-12-01","2024-08-01","2021-12-01","2024-08-01","2021-12-01","2024-08-01","2021-12-01","2024-08-01","2021-12-01","2024-08-01","2021-12-01","2024-08-01","2021-12-01","2024-08-01","2021-12-01","2024-08-01","2021-12-01","2024-08-01","2021-12-01","2024-08-01","2021-12-01","2024-08-01","2021-12-01","2024-08-01","2021-12-01","2024-08-01","2021-12-01","2024-08-01","2021-12-30","2024-08-01","2021-12-01","2024-08-01","2021-12-30","2024-08-01","2021-12-30","2024-08-01","2021-12-30","2022-01-30","2024-08-01","2021-12-30","2022-01-30","2024-08-01","2021-12-30","2022-01-30","2024-08-01","2021-12-30","2022-01-30","2024-08-01","2022-02-28","2022-03-14","2024-08-01","2022-03-30","2022-04-13","2024-09-30",{"v":30.466666666666665,"d":"30"},{"v":31.5,"d":"32"},"2020-12-25","2021-07-05","2022-03-30","2022-04-13","2024-09-30","2022-02-28","2022-03-14","2024-09-30",{"$f":"(#REF!-#REF!)/30","v":{"$error":"#REF!"}},"2022-03-15","2022-03-29","2024-09-30","2022-03-15","2022-03-29","2024-09-30","2022-03-15","2022-03-29","2024-09-30","2022-03-20","2022-04-03","2024-09-30","2022-03-20","2022-04-03","2024-09-30","2022-05-15","2022-05-30","2024-09-30","2022-07-30","2022-07-30","2024-09-30","2022-07-30","2022-07-30","2024-09-30","2022-07-30","2022-07-30","2024-09-30","2022-07-30","2022-09-01","2024-11-30",{"v":27.366666666666667,"d":"27"},"2022-07-30","2022-09-01","2024-11-30","2022-07-15","2022-08-29","2024-11-30","2022-07-15","2022-08-29","2024-11-30","2022-07-15","2022-08-29","2024-11-30","2022-08-15","2022-08-29","2024-11-30","2022-08-15","2022-08-29","2024-11-30","2022-08-31","2022-08-31","2024-11-30","2022-09-30","2022-09-30","2024-11-30","2022-09-30","2022-09-30","2024-11-30","2022-09-30","2022-09-30","2024-11-30","2022-10-17","2022-10-17","2024-11-30","2022-11-07","2022-11-07","2024-11-30","2022-11-07","2022-11-07","2024-11-30","2022-11-07","2022-11-07","2024-11-30","2022-12-08","2022-12-08","2024-11-30","2022-12-08","2022-12-08","2024-11-30",null,"АБ-1","АБ-1","Не определен",null,"2025-06-30",{"$nulls":3},"●",null,null,"●",{"$nulls":3},"●",null,0,{"$f":"IF(YEAR(#REF!)=HU$8,$J18,0)","v":{"$error":"#REF!"}},{"$f":"IF(AND(YEAR(#REF!)<=HU$8,YEAR(#REF!)>HU$8),$J18,0)","v":{"$error":"#REF!"}},{"v":20729.72,"d":"20,730"},{"$nulls":11},{"v":4375.464261724138,"d":"4,375"}]
[31,"2.3.1","СД00.03.1.03.1","ЖК \"Светлая Долина\" ПК-3 ж/д 3-1",{"v":30508.82,"d":"30,509 "},"Материал рулонный кровельный гидроизоляционный нижний слой","основа: полиэстeр;температура гибкости на брусе R=25мм не менее -20; толщина 1м² не менее 2,8мм","м2",{"$f":"1243.267/580*L19","v":{"v":3144.393728103449,"d":"3,144 "}},{"v":20729.72,"d":"20,730 "},{"v":19262.82,"d":"19,263 "},{"v":1466.9,"d":"1,467 "},null,{"v":480,"d":"480 "},2,"26 (24)",1,"Монолит","Перепривязка",{"$nulls":3},{"$f":"SUM(IG19,#REF!,#REF!,#REF!,#REF!,#REF!,#REF!,#REF!)","v":{"$error":"#REF!"}},{"$error":"#REF!"},{"$nulls":4},"Прединвест","Первоначально в ПП закладывался срок строительства для панельного дома - 2 года. \nДалее было принято решение о возведении монолитного дома, срок строительства которого 2,5 года.","2020-11-25","2020-12-25","2021-04-15","2021-04-30","2021-09-30","2021-10-31","2022-01-31",null,null,"2024-04-30","2024-10-31","2024-12-30","2020-11-25","2020-12-25","2021-04-15","2021-07-05","2021-11-01","2022-01-31","2022-01-31","нет","нет","2024-07-01","2024-10-31","2024-12-30","2020-11-25","2020-12-25","2021-04-15","2021-07-05","2021-11-30","2022-03-09","2022-03-20","нет","нет","2024-08-30","2024-10-30","2025-06-30","2022-06-01","2024-07-30","2022-06-01","2024-07-01","2022-06-01","2024-07-01","2022-06-01","2024-07-01","2021-12-30","2024-01-01","2021-12-01","2024-08-01","2021-12-01","2024-08-01","2021-12-01","2024-08-01","2021-12-01","2024-08-01","2021-12-01","2024-08-01","2021-12-01","2024-08-01","2021-12-01","2024-08-01","2021-12-01","2024-08-01","2021-12-01","2024-08-01","2021-12-01","2024-08-01","2021-12-01","2024-08-01","2021-12-01","2024-08-01","2021-12-01","2024-08-01","2021-12-01","2024-08-01","2021-12-01","2024-08-01","2021-12-30","2024-08-01","2021-12-01","2024-08-01","2021-12-30","2024-08-01","2021-12-30","2024-08-01","2021-12-30","2022-01-30","2024-08-01","2021-12-30","2022-01-30","2024-08-01","2021-12-30","2022-01-30","2024-08-01","2021-12-30","2022-01-30","2024-08-01","2022-02-28","2022-03-14","2024-08-01","2022-03-30","2022-04-13","2024-09-30",{"v":30.466666666666665,"d":"30"},{"v":31.5,"d":"32"},"2020-12-25","2021-07-05","2022-03-30","2022-04-13","2024-09-30","2022-02-28","2022-03-14","2024-09-30",{"$f":"(#REF!-#REF!)/30","v":{"$error":"#REF!"}},"2022-03-15","2022-03-29","2024-09-30","2022-03-15","2022-03-29","2024-09-30","2022-03-15","2022-03-29","2024-09-30","2022-03-20","2022-04-03","2024-09-30","2022-03-20","2022-04-03","2024-09-30","2022-05-15","2022-05-30","2024-09-30","2022-07-30","2022-07-30","2024-09-30","2022-07-30","2022-07-30","2024-09-30","2022-07-30","2022-07-30","2024-09-30","2022-07-30","2022-09-01","2024-11-30",{"v":27.366666666666667,"d":"27"},"2022-07-30","2022-09-01","2024-11-30","2022-07-15","2022-08-29","2024-11-30","2022-07-15","2022-08-29","2024-11-30","2022-07-15","2022-08-29","2024-11-30","2022-08-15","2022-08-29","2024-11-30","2022-08-15","2022-08-29","2024-11-30","2022-08-31","2022-08-31","2024-11-30","2022-09-30","2022-09-30","2024-11-30","2022-09-30","2022-09-30","2024-11-30","2022-09-30","2022-09-30","2024-11-30","2022-10-17","2022-10-17","2024-11-30","2022-11-07","2022-11-07","2024-11-30","2022-11-07","2022-11-07","2024-11-30","2022-11-07","2022-11-07","2024-11-30","2022-12-08","2022-12-08","2024-11-30","2022-12-08","2022-12-08","2024-11-30",null,"АБ-1","АБ-1","Не определен",null,"2025-06-30",{"$nulls":3},"●",null,null,"●",{"$nulls":3},"●",null,0,{"$f":"IF(YEAR(#REF!)=HU$8,$J19,0)","v":{"$error":"#REF!"}},{"$f":"IF(AND(YEAR(#REF!)<=HU$8,YEAR(#REF!)>HU$8),$J19,0)","v":{"$error":"#REF!"}},{"v":20729.72,"d":"20,730"},{"$nulls":11},{"v":3144.393728103449,"d":"3,144"}]
[32,"2.3.2","СД00.03.1.03.2","ЖК \"Светлая Долина\" ПК-3 ж/д 3-2",{"v":7459.91,"d":"7,460 "},"Плиты теплоизоляционные пенополистирольные ППС-25 150мм",null,"м3",{"$f":"140.294/580*L20","v":{"v":96.34327620689656,"d":"96 "}},{"v":5285.570000000001,"d":"5,286 "},{"v":4887.27,"d":"4,887 "},{"v":398.3,"d":"398 "},null,{"v":99,"d":"99 "},2,"11 (9)",1,"КПД, 1 Каркас","Перепривязка",{"$f":"J20*0.622","v":{"v":3287.6245400000003,"d":"3,288 "}},{"$f":"T20*0.786","v":{"v":2584.0728884400005,"d":"2,584 "}},{"v":264.3046,"d":"264 "},{"$f":"SUM(IG20,#REF!,#REF!,#REF!,#REF!,#REF!,#REF!,#REF!)","v":{"$error":"#REF!"}},{"$error":"#REF!"},{"$nulls":4},"Прединвест",null,"2020-11-25","2020-12-25","2021-04-15","2021-04-30","2021-09-30","2021-10-31","2022-01-31",null,null,"2024-04-30","2024-10-31","2024-12-30","2020-11-25","2020-12-25","2021-04-15","2021-07-05","2021-11-02","2021-03-31","2022-01-31","2022-03-31","2022-05-31","2023-11-30","2024-01-31","2024-03-30","2020-11-25","2020-12-25","2021-04-15","2021-07-05","2021-11-30","2022-04-20","2022-05-30","2022-04-30","2022-06-30","2023-10-30","2023-12-30","2024-06-30","2022-06-01","2024-06-30","2022-06-01","2024-06-01","2022-06-01","2024-06-01","2022-06-01","2024-07-01","2021-12-30","2023-12-01","2021-12-02","2023-12-01","2021-12-02","2023-12-01","2021-12-02","2023-12-01","2021-12-02","2023-12-01","2021-12-02","2023-12-01","2021-12-02","2023-12-01","2021-12-02","2023-12-01","2021-12-02","2023-12-01","2021-12-02","2023-12-01","2021-12-02","2023-12-01","2021-12-02","2023-12-01","2021-12-02","2023-12-01","2021-12-02","2023-12-01","2021-12-02","2023-12-01","2021-12-02","2023-12-01","2021-12-30","2023-12-01","2021-12-02","2023-12-01","2021-12-30","2023-12-01","2021-12-30","2023-12-01","2021-12-30","2022-01-31","2023-12-31","2021-12-30","2022-01-31","2023-11-30","2021-12-30","2022-01-31","2023-11-30","2021-12-30","2022-01-31","2023-11-30","2022-05-05","2022-05-19","2023-11-30","2022-05-05","2022-05-19","2023-11-30",{"v":23.3,"d":"23"},{"v":24.366666666666667,"d":"24"},"2020-12-25","2021-07-05","2022-04-30","2022-05-14","2023-11-30","2022-05-15","2022-05-29","2023-11-30",{"$f":"(#REF!-#REF!)/30","v":{"$error":"#REF!"}},"2022-05-15","2022-05-29","2023-11-30","2022-05-15","2022-05-29","2023-11-30","2022-05-15","2022-05-29","2023-11-30","2022-05-15","2022-05-29","2023-11-30","2022-05-15","2022-05-29","2023-11-30","2022-05-15","2022-05-30","2023-11-30","2022-07-30","2022-07-30","2023-11-30","2022-07-30","2022-07-30","2023-11-30","2022-07-30","2022-07-30","2023-12-10","2022-07-30","2022-09-01","2024-11-30",{"v":27.366666666666667,"d":"27"},"2022-07-30","2022-09-01","2024-11-30","2022-08-15","2022-08-29","2023-12-10","2022-08-15",{"$f":"FY20+14","v":"2022-08-29"},"2023-12-10","2022-08-15",{"$f":"GB20+14","v":"2022-08-29"},"2023-12-10","2022-08-15",{"$f":"GE20+14","v":"2022-08-29"},"2023-12-10","2022-08-15",{"$f":"GH20+14","v":"2022-08-29"},"2023-12-10","2022-08-31","2022-08-31","2023-12-10","2022-09-30","2022-09-30","2023-12-10","2022-09-30","2022-09-30","2023-12-10","2022-09-30","2022-09-30","2023-12-10","2022-09-30","2022-09-30","2023-12-10","2022-10-24","2022-10-24","2023-12-10","2022-10-24","2022-10-24","2023-12-10","2022-10-27","2022-10-27","2023-12-10","2022-11-10","2022-11-10","2023-12-10","2022-11-10","2022-11-10","2023-12-10",null,"АБ-1","АБ-1","АБСт",null,"2025-06-30",{"$nulls":3},"●",null,null,"●",{"$nulls":3},"●",null,0,{"$f":"IF(YEAR(#REF!)=HU$8,$J20,0)","v":{"$error":"#REF!"}},{"$f":"IF(AND(YEAR(#REF!)<=HU$8,YEAR(#REF!)>HU$8),$J20,0)","v":{"$error":"#REF!"}},{"v":5285.570000000001,"d":"5,286"},{"$nulls":6},{"$f":"I20/2","v":{"v":48.17163810344828,"d":"48"}},{"$f":"I20/2","v":{"v":48.17163810344828,"d":"48"}},null,null,"▪"]
[32,"2.3.2","СД00.03.1.03.2","ЖК \"Светлая Долина\" ПК-3 ж/д 3-2",{"v":7459.91,"d":"7,460 "},"Керамзит М600",null,"м3",{"$f":"142.129/580*L21","v":{"v":97.603415,"d":"98 "}},{"v":5285.570000000001,"d":"5,286 "},{"v":4887.27,"d":"4,887 "},{"v":398.3,"d":"398 "},null,{"v":99,"d":"99 "},2,"11 (9)",1,"КПД, 1 Каркас","Перепривязка",{"v":3287.6245400000003,"d":"3,288 "},{"v":2584.0728884400005,"d":"2,584 "},{"v":264.3046,"d":"264 "},{"$f":"SUM(IG21,#REF!,#REF!,#REF!,#REF!,#REF!,#REF!,#REF!)","v":{"$error":"#REF!"}},{"$error":"#REF!"},{"$nulls":4},"Прединвест",null,"2020-11-25","2020-12-25","2021-04-15","2021-04-30","2021-09-30","2021-10-31","2022-01-31",null,null,"2024-04-30","2024-10-31","2024-12-30","2020-11-25","2020-12-25","2021-04-15","2021-07-05","2021-11-02","2021-03-31","2022-01-31","2022-03-31","2022-05-31","2023-11-30","2024-01-31","2024-03-30","2020-11-25","2020-12-25","2021-04-15","2021-07-05","2021-11-30","2022-04-20","2022-05-30","2022-04-30","2022-06-30","2023-10-30","2023-12-30","2024-06-30","2022-06-01","2024-06-30","2022-06-01","2024-06-01","2022-06-01","2024-06-01","2022-06-01","2024-07-01","2021-12-30","2023-12-01","2021-12-02","2023-12-01","2021-12-02","2023-12-01","2021-12-02","2023-12-01","2021-12-02","2023-12-01","2021-12-02","2023-12-01","2021-12-02","2023-12-01","2021-12-02","2023-12-01","2021-12-02","2023-12-01","2021-12-02","2023-12-01","2021-12-02","2023-12-01","2021-12-02","2023-12-01","2021-12-02","2023-12-01","2021-12-02","2023-12-01","2021-12-02","2023-12-01","2021-12-02","2023-12-01","2021-12-30","2023-12-01","2021-12-02","2023-12-01","2021-12-30","2023-12-01","2021-12-30","2023-12-01","2021-12-30","2022-01-31","2023-12-31","2021-12-30","2022-01-31","2023-11-30","2021-12-30","2022-01-31","2023-11-30","2021-12-30","2022-01-31","2023-11-30","2022-05-05","2022-05-19","2023-11-30","2022-05-05","2022-05-19","2023-11-30",{"v":23.3,"d":"23"},{"v":24.366666666666667,"d":"24"},"2020-12-25","2021-07-05","2022-04-30","2022-05-14","2023-11-30","2022-05-15","2022-05-29","2023-11-30",{"$f":"(#REF!-#REF!)/30","v":{"$error":"#REF!"}},"2022-05-15","2022-05-29","2023-11-30","2022-05-15","2022-05-29","2023-11-30","2022-05-15","2022-05-29","2023-11-30","2022-05-15","2022-05-29","2023-11-30","2022-05-15","2022-05-29","2023-11-30","2022-05-15","2022-05-30","2023-11-30","2022-07-30","2022-07-30","2023-11-30","2022-07-30","2022-07-30","2023-11-30","2022-07-30","2022-07-30","2023-12-10","2022-07-30","2022-09-01","2024-11-30",{"v":27.366666666666667,"d":"27"},"2022-07-30","2022-09-01","2024-11-30","2022-08-15","2022-08-29","2023-12-10","2022-08-15","2022-08-29","2023-12-10","2022-08-15","2022-08-29","2023-12-10","2022-08-15","2022-08-29","2023-12-10","2022-08-15","2022-08-29","2023-12-10","2022-08-31","2022-08-31","2023-12-10","2022-09-30","2022-09-30","2023-12-10","2022-09-30","2022-09-30","2023-12-10","2022-09-30","2022-09-30","2023-12-10","2022-09-30","2022-09-30","2023-12-10","2022-10-24","2022-10-24","2023-12-10","2022-10-24","2022-10-24","2023-12-10","2022-10-27","2022-10-27","2023-12-10","2022-11-10","2022-11-10","2023-12-10","2022-11-10","2022-11-10","2023-12-10",null,"АБ-1","АБ-1","АБСт",null,"2025-06-30",{"$nulls":3},"●",null,null,"●",{"$nulls":3},"●",null,0,{"$f":"IF(YEAR(#REF!)=HU$8,$J21,0)","v":{"$error":"#REF!"}},{"$f":"IF(AND(YEAR(#REF!)<=HU$8,YEAR(#REF!)>HU$8),$J21,0)","v":{"$error":"#REF!"}},{"v":5285.570000000001,"d":"5,286"},{"$nulls":6},{"$f":"I21/2","v":{"v":48.8017075,"d":"49"}},{"$f":"I21/2","v":{"v":48.8017075,"d":"49"}},null,null,"▪"]
[32,"2.3.2","СД00.03.1.03.2","ЖК \"Светлая Долина\" ПК-3 ж/д 3-2",{"v":7459.91,"d":"7,460 "},"Плиты теплоизоляционные пенополистирольные экструдированные 100мм",null,"м3",{"$f":"14.146/580*L22","v":{"v":9.714399655172414,"d":"10 "}},{"v":5285.570000000001,"d":"5,286 "},{"v":4887.27,"d":"4,887 "},{"v":398.3,"d":"398 "},null,{"v":99,"d":"99 "},2,"11 (9)",1,"КПД, 1 Каркас","Перепривязка",{"v":3287.6245400000003,"d":"3,288 "},{"v":2584.0728884400005,"d":"2,584 "},{"v":264.3046,"d":"264 "},{"$f":"SUM(IG22,#REF!,#REF!,#REF!,#REF!,#REF!,#REF!,#REF!)","v":{"$error":"#REF!"}},{"$error":"#REF!"},{"$nulls":4},"Прединвест",null,"2020-11-25","2020-12-25","2021-04-15","2021-04-30","2021-09-30","2021-10-31","2022-01-31",null,null,"2024-04-30","2024-10-31","2024-12-30","2020-11-25","2020-12-25","2021-04-15","2021-07-05","2021-11-02","2021-03-31","2022-01-31","2022-03-31","2022-05-31","2023-11-30","2024-01-31","2024-03-30","2020-11-25","2020-12-25","2021-04-15","2021-07-05","2021-11-30","2022-04-20","2022-05-30","2022-04-30","2022-06-30","2023-10-30","2023-12-30","2024-06-30","2022-06-01","2024-06-30","2022-06-01","2024-06-01","2022-06-01","2024-06-01","2022-06-01","2024-07-01","2021-12-30","2023-12-01","2021-12-02","2023-12-01","2021-12-02","2023-12-01","2021-12-02","2023-12-01","2021-12-02","2023-12-01","2021-12-02","2023-12-01","2021-12-02","2023-12-01","2021-12-02","2023-12-01","2021-12-02","2023-12-01","2021-12-02","2023-12-01","2021-12-02","2023-12-01","2021-12-02","2023-12-01","2021-12-02","2023-12-01","2021-12-02","2023-12-01","2021-12-02","2023-12-01","2021-12-02","2023-12-01","2021-12-30","2023-12-01","2021-12-02","2023-12-01","2021-12-30","2023-12-01","2021-12-30","2023-12-01","2021-12-30","2022-01-31","2023-12-31","2021-12-30","2022-01-31","2023-11-30","2021-12-30","2022-01-31","2023-11-30","2021-12-30","2022-01-31","2023-11-30","2022-05-05","2022-05-19","2023-11-30","2022-05-05","2022-05-19","2023-11-30",{"v":23.3,"d":"23"},{"v":24.366666666666667,"d":"24"},"2020-12-25","2021-07-05","2022-04-30","2022-05-14","2023-11-30","2022-05-15","2022-05-29","2023-11-30",{"$f":"(#REF!-#REF!)/30","v":{"$error":"#REF!"}},"2022-05-15","2022-05-29","2023-11-30","2022-05-15","2022-05-29","2023-11-30","2022-05-15","2022-05-29","2023-11-30","2022-05-15","2022-05-29","2023-11-30","2022-05-15","2022-05-29","2023-11-30","2022-05-15","2022-05-30","2023-11-30","2022-07-30","2022-07-30","2023-11-30","2022-07-30","2022-07-30","2023-11-30","2022-07-30","2022-07-30","2023-12-10","2022-07-30","2022-09-01","2024-11-30",{"v":27.366666666666667,"d":"27"},"2022-07-30","2022-09-01","2024-11-30","2022-08-15","2022-08-29","2023-12-10","2022-08-15","2022-08-29","2023-12-10","2022-08-15","2022-08-29","2023-12-10","2022-08-15","2022-08-29","2023-12-10","2022-08-15","2022-08-29","2023-12-10","2022-08-31","2022-08-31","2023-12-10","2022-09-30","2022-09-30","2023-12-10","2022-09-30","2022-09-30","2023-12-10","2022-09-30","2022-09-30","2023-12-10","2022-09-30","2022-09-30","2023-12-10","2022-10-24","2022-10-24","2023-12-10","2022-10-24","2022-10-24","2023-12-10","2022-10-27","2022-10-27","2023-12-10","2022-11-10","2022-11-10","2023-12-10","2022-11-10","2022-11-10","2023-12-10",null,"АБ-1","АБ-1","АБСт",null,"2025-06-30",{"$nulls":3},"●",null,null,"●",{"$nulls":3},"●",null,0,{"$f":"IF(YEAR(#REF!)=HU$8,$J22,0)","v":{"$error":"#REF!"}},{"$f":"IF(AND(YEAR(#REF!)<=HU$8,YEAR(#REF!)>HU$8),$J22,0)","v":{"$error":"#REF!"}},{"v":5285.570000000001,"d":"5,286"},{"$nulls":6},{"v":4.857199827586207,"d":"5"},{"v":4.857199827586207,"d":"5"},null,null,"▪"]
[32,"2.3.2","СД00.03.1.03.2","ЖК \"Светлая Долина\" ПК-3 ж/д 3-2",{"v":7459.91,"d":"7,460 "},"Плиты теплоизоляционные пенополистирольные экструдированные 50мм",null,"м3",{"$f":"3.939/580*L23","v":{"v":2.705006379310345,"d":"3 "}},{"v":5285.570000000001,"d":"5,286 "},{"v":4887.27,"d":"4,887 "},{"v":398.3,"d":"398 "},null,{"v":99,"d":"99 "},2,"11 (9)",1,"КПД, 1 Каркас","Перепривязка",{"v":3287.6245400000003,"d":"3,288 "},{"v":2584.0728884400005,"d":"2,584 "},{"v":264.3046,"d":"264 "},{"$f":"SUM(IG23,#REF!,#REF!,#REF!,#REF!,#REF!,#REF!,#REF!)","v":{"$error":"#REF!"}},{"$error":"#REF!"},{"$nulls":4},"Прединвест",null,"2020-11-25","2020-12-25","2021-04-15","2021-04-30","2021-09-30","2021-10-31","2022-01-31",null,null,"2024-04-30","2024-10-31","2024-12-30","2020-11-25","2020-12-25","2021-04-15","2021-07-05","2021-11-02","2021-03-31","2022-01-31","2022-03-31","2022-05-31","2023-11-30","2024-01-31","2024-03-30","2020-11-25","2020-12-25","2021-04-15","2021-07-05","2021-11-30","2022-04-20","2022-05-30","2022-04-30","2022-06-30","2023-10-30","2023-12-30","2024-06-30","2022-06-01","2024-06-30","2022-06-01","2024-06-01","2022-06-01","2024-06-01","2022-06-01","2024-07-01","2021-12-30","2023-12-01","2021-12-02","2023-12-01","2021-12-02","2023-12-01","2021-12-02","2023-12-01","2021-12-02","2023-12-01","2021-12-02","2023-12-01","2021-12-02","2023-12-01","2021-12-02","2023-12-01","2021-12-02","2023-12-01","2021-12-02","2023-12-01","2021-12-02","2023-12-01","2021-12-02","2023-12-01","2021-12-02","2023-12-01","2021-12-02","2023-12-01","2021-12-02","2023-12-01","2021-12-02","2023-12-01","2021-12-30","2023-12-01","2021-12-02","2023-12-01","2021-12-30","2023-12-01","2021-12-30","2023-12-01","2021-12-30","2022-01-31","2023-12-31","2021-12-30","2022-01-31","2023-11-30","2021-12-30","2022-01-31","2023-11-30","2021-12-30","2022-01-31","2023-11-30","2022-05-05","2022-05-19","2023-11-30","2022-05-05","2022-05-19","2023-11-30",{"v":23.3,"d":"23"},{"v":24.366666666666667,"d":"24"},"2020-12-25","2021-07-05","2022-04-30","2022-05-14","2023-11-30","2022-05-15","2022-05-29","2023-11-30",{"$f":"(#REF!-#REF!)/30","v":{"$error":"#REF!"}},"2022-05-15","2022-05-29","2023-11-30","2022-05-15","2022-05-29","2023-11-30","2022-05-15","2022-05-29","2023-11-30","2022-05-15","2022-05-29","2023-11-30","2022-05-15","2022-05-29","2023-11-30","2022-05-15","2022-05-30","2023-11-30","2022-07-30","2022-07-30","2023-11-30","2022-07-30","2022-07-30","2023-11-30","2022-07-30","2022-07-30","2023-12-10","2022-07-30","2022-09-01","2024-11-30",{"v":27.366666666666667,"d":"27"},"2022-07-30","2022-09-01","2024-11-30","2022-08-15","2022-08-29","2023-12-10","2022-08-15","2022-08-29","2023-12-10","2022-08-15","2022-08-29","2023-12-10","2022-08-15","2022-08-29","2023-12-10","2022-08-15","2022-08-29","2023-12-10","2022-08-31","2022-08-31","2023-12-10","2022-09-30","2022-09-30","2023-12-10","2022-09-30","2022-09-30","2023-12-10","2022-09-30","2022-09-30","2023-12-10","2022-09-30","2022-09-30","2023-12-10","2022-10-24","2022-10-24","2023-12-10","2022-10-24","2022-10-24","2023-12-10","2022-10-27","2022-10-27","2023-12-10","2022-11-10","2022-11-10","2023-12-10","2022-11-10","2022-11-10","2023-12-10",null,"АБ-1","АБ-1","АБСт",null,"2025-06-30",{"$nulls":3},"●",null,null,"●",{"$nulls":3},"●",null,0,{"$f":"IF(YEAR(#REF!)=HU$8,$J23,0)","v":{"$error":"#REF!"}},{"$f":"IF(AND(YEAR(#REF!)<=HU$8,YEAR(#REF!)>HU$8),$J23,0)","v":{"$error":"#REF!"}},{"v":5285.570000000001,"d":"5,286"},{"$nulls":6},{"v":1.3525031896551725,"d":"1"},{"v":1.3525031896551725,"d":"1"},null,null,"▪"]
[32,"2.3.2","СД00.03.1.03.2","ЖК \"Светлая Долина\" ПК-3 ж/д 3-2",{"v":7459.91,"d":"7,460 "},"Материал рулонный кровельный гидроизоляционный верхний слой","основа: полиэстeр;температура гибкости на брусе R=25мм не менее -20; толщина 1м² не менее 3,8мм","м2",{"$f":"1730.022/580*L24","v":{"v":1188.0478665517242,"d":"1,188 "}},{"v":5285.570000000001,"d":"5,286 "},{"v":4887.27,"d":"4,887 "},{"v":398.3,"d":"398 "},null,{"v":99,"d":"99 "},2,"11 (9)",1,"КПД, 1 Каркас","Перепривязка",{"v":3287.6245400000003,"d":"3,288 "},{"v":2584.0728884400005,"d":"2,584 "},{"v":264.3046,"d":"264 "},{"$f":"SUM(IG24,#REF!,#REF!,#REF!,#REF!,#REF!,#REF!,#REF!)","v":{"$error":"#REF!"}},{"$error":"#REF!"},{"$nulls":4},"Прединвест",null,"2020-11-25","2020-12-25","2021-04-15","2021-04-30","2021-09-30","2021-10-31","2022-01-31",null,null,"2024-04-30","2024-10-31","2024-12-30","2020-11-25","2020-12-25","2021-04-15","2021-07-05","2021-11-02","2021-03-31","2022-01-31","2022-03-31","2022-05-31","2023-11-30","2024-01-31","2024-03-30","2020-11-25","2020-12-25","2021-04-15","2021-07-05","2021-11-30","2022-04-20","2022-05-30","2022-04-30","2022-06-30","2023-10-30","2023-12-30","2024-06-30","2022-06-01","2024-06-30","2022-06-01","2024-06-01","2022-06-01","2024-06-01","2022-06-01","2024-07-01","2021-12-30","2023-12-01","2021-12-02","2023-12-01","2021-12-02","2023-12-01","2021-12-02","2023-12-01","2021-12-02","2023-12-01","2021-12-02","2023-12-01","2021-12-02","2023-12-01","2021-12-02","2023-12-01","2021-12-02","2023-12-01","2021-12-02","2023-12-01","2021-12-02","2023-12-01","2021-12-02","2023-12-01","2021-12-02","2023-12-01","2021-12-02","2023-12-01","2021-12-02","2023-12-01","2021-12-02","2023-12-01","2021-12-30","2023-12-01","2021-12-02","2023-12-01","2021-12-30","2023-12-01","2021-12-30","2023-12-01","2021-12-30","2022-01-31","2023-12-31","2021-12-30","2022-01-31","2023-11-30","2021-12-30","2022-01-31","2023-11-30","2021-12-30","2022-01-31","2023-11-30","2022-05-05","2022-05-19","2023-11-30","2022-05-05","2022-05-19","2023-11-30",{"v":23.3,"d":"23"},{"v":24.366666666666667,"d":"24"},"2020-12-25","2021-07-05","2022-04-30","2022-05-14","2023-11-30","2022-05-15","2022-05-29","2023-11-30",{"$f":"(#REF!-#REF!)/30","v":{"$error":"#REF!"}},"2022-05-15","2022-05-29","2023-11-30","2022-05-15","2022-05-29","2023-11-30","2022-05-15","2022-05-29","2023-11-30","2022-05-15","2022-05-29","2023-11-30","2022-05-15","2022-05-29","2023-11-30","2022-05-15","2022-05-30","2023-11-30","2022-07-30","2022-07-30","2023-11-30","2022-07-30","2022-07-30","2023-11-30","2022-07-30","2022-07-30","2023-12-10","2022-07-30","2022-09-01","2024-11-30",{"v":27.366666666666667,"d":"27"},"2022-07-30","2022-09-01","2024-11-30","2022-08-15","2022-08-29","2023-12-10","2022-08-15","2022-08-29","2023-12-10","2022-08-15","2022-08-29","2023-12-10","2022-08-15","2022-08-29","2023-12-10","2022-08-15","2022-08-29","2023-12-10","2022-08-31","2022-08-31","2023-12-10","2022-09-30","2022-09-30","2023-12-10","2022-09-30","2022-09-30","2023-12-10","2022-09-30","2022-09-30","2023-12-10","2022-09-30","2022-09-30","2023-12-10","2022-10-24","2022-10-24","2023-12-10","2022-10-24","2022-10-24","2023-12-10","2022-10-27","2022-10-27","2023-12-10","2022-11-10","2022-11-10","2023-12-10","2022-11-10","2022-11-10","2023-12-10",null,"АБ-1","АБ-1","АБСт",null,"2025-06-30",{"$nulls":3},"●",null,null,"●",{"$nulls":3},"●",null,0,{"$f":"IF(YEAR(#REF!)=HU$8,$J24,0)","v":{"$error":"#REF!"}},{"$f":"IF(AND(YEAR(#REF!)<=HU$8,YEAR(#REF!)>HU$8),$J24,0)","v":{"$error":"#REF!"}},{"v":5285.570000000001,"d":"5,286"},{"$nulls":6},{"v":594.0239332758621,"d":"594"},{"v":594.0239332758621,"d":"594"},null,null,"▪"]
[32,"2.3.2","СД00.03.1.03.2","ЖК \"Светлая Долина\" ПК-3 ж/д 3-2",{"v":7459.91,"d":"7,460 "},"Материал рулонный кровельный гидроизоляционный нижний слой","основа: полиэстeр;температура гибкости на брусе R=25мм не менее -20; толщина 1м² не менее 2,8мм","м2",{"$f":"1243.267/580*L25","v":{"v":853.7814587931036,"d":"854 "}},{"v":5285.570000000001,"d":"5,286 "},{"v":4887.27,"d":"4,887 "},{"v":398.3,"d":"398 "},null,{"v":99,"d":"99 "},2,"11 (9)",1,"КПД, 1 Каркас","Перепривязка",{"v":3287.6245400000003,"d":"3,288 "},{"v":2584.0728884400005,"d":"2,584 "},{"v":264.3046,"d":"264 "},{"$f":"SUM(IG25,#REF!,#REF!,#REF!,#REF!,#REF!,#REF!,#REF!)","v":{"$error":"#REF!"}},{"$error":"#REF!"},{"$nulls":4},"Прединвест",null,"2020-11-25","2020-12-25","2021-04-15","2021-04-30","2021-09-30","2021-10-31","2022-01-31",null,null,"2024-04-30","2024-10-31","2024-12-30","2020-11-25","2020-12-25","2021-04-15","2021-07-05","2021-11-02","2021-03-31","2022-01-31","2022-03-31","2022-05-31","2023-11-30","2024-01-31","2024-03-30","2020-11-25","2020-12-25","2021-04-15","2021-07-05","2021-11-30","2022-04-20","2022-05-30","2022-04-30","2022-06-30","2023-10-30","2023-12-30","2024-06-30","2022-06-01","2024-06-30","2022-06-01","2024-06-01","2022-06-01","2024-06-01","2022-06-01","2024-07-01","2021-12-30","2023-12-01","2021-12-02","2023-12-01","2021-12-02","2023-12-01","2021-12-02","2023-12-01","2021-12-02","2023-12-01","2021-12-02","2023-12-01","2021-12-02","2023-12-01","2021-12-02","2023-12-01","2021-12-02","2023-12-01","2021-12-02","2023-12-01","2021-12-02","2023-12-01","2021-12-02","2023-12-01","2021-12-02","2023-12-01","2021-12-02","2023-12-01","2021-12-02","2023-12-01","2021-12-02","2023-12-01","2021-12-30","2023-12-01","2021-12-02","2023-12-01","2021-12-30","2023-12-01","2021-12-30","2023-12-01","2021-12-30","2022-01-31","2023-12-31","2021-12-30","2022-01-31","2023-11-30","2021-12-30","2022-01-31","2023-11-30","2021-12-30","2022-01-31","2023-11-30","2022-05-05","2022-05-19","2023-11-30","2022-05-05","2022-05-19","2023-11-30",{"v":23.3,"d":"23"},{"v":24.366666666666667,"d":"24"},"2020-12-25","2021-07-05","2022-04-30","2022-05-14","2023-11-30","2022-05-15","2022-05-29","2023-11-30",{"$f":"(#REF!-#REF!)/30","v":{"$error":"#REF!"}},"2022-05-15","2022-05-29","2023-11-30","2022-05-15","2022-05-29","2023-11-30","2022-05-15","2022-05-29","2023-11-30","2022-05-15","2022-05-29","2023-11-30","2022-05-15","2022-05-29","2023-11-30","2022-05-15","2022-05-30","2023-11-30","2022-07-30","2022-07-30","2023-11-30","2022-07-30","2022-07-30","2023-11-30","2022-07-30","2022-07-30","2023-12-10","2022-07-30","2022-09-01","2024-11-30",{"v":27.366666666666667,"d":"27"},"2022-07-30","2022-09-01","2024-11-30","2022-08-15","2022-08-29","2023-12-10","2022-08-15","2022-08-29","2023-12-10","2022-08-15","2022-08-29","2023-12-10","2022-08-15","2022-08-29","2023-12-10","2022-08-15","2022-08-29","2023-12-10","2022-08-31","2022-08-31","2023-12-10","2022-09-30","2022-09-30","2023-12-10","2022-09-30","2022-09-30","2023-12-10","2022-09-30","2022-09-30","2023-12-10","2022-09-30","2022-09-30","2023-12-10","2022-10-24","2022-10-24","2023-12-10","2022-10-24","2022-10-24","2023-12-10","2022-10-27","2022-10-27","2023-12-10","2022-11-10","2022-11-10","2023-12-10","2022-11-10","2022-11-10","2023-12-10",null,"АБ-1","АБ-1","АБСт",null,"2025-06-30",{"$nulls":3},"●",null,null,"●",{"$nulls":3},"●",null,0,{"$f":"IF(YEAR(#REF!)=HU$8,$J25,0)","v":{"$error":"#REF!"}},{"$f":"IF(AND(YEAR(#REF!)<=HU$8,YEAR(#REF!)>HU$8),$J25,0)","v":{"$error":"#REF!"}},{"v":5285.570000000001,"d":"5,286"},{"$nulls":6},{"v":426.8907293965518,"d":"427"},{"v":426.8907293965518,"d":"427"},null,null,"▪"]
[34,"2.3.4","СД00.03.1.03.3","ЖК \"Светлая Долина\" ПК-3 ж/д 3-3",{"v":17139.98,"d":"17,140 "},"Плиты теплоизоляционные пенополистирольные ППС-25 150мм",null,"м3",{"$f":"140.294/580*L26","v":{"v":170.18871631034486,"d":"170 "}},{"v":12418.15,"d":"12,418 "},{"v":11714.56,"d":"11,715 "},{"v":703.59,"d":"704 "},null,{"v":250,"d":"250 "},2,"18-20 (16-18)",1,"КПД, 1 Каркас","Перепривязка",{"v":7104,"d":"7,104 "},{"v":5583.744000000001,"d":"5,584 "},{"v":500,"d":"500 "},{"$f":"SUM(IG26,#REF!,#REF!,#REF!,#REF!,#REF!,#REF!,#REF!)","v":{"$error":"#REF!"}},{"$error":"#REF!"},{"$nulls":4},"Прединвест",null,"2020-11-25","2020-12-25","2021-04-15","2021-04-30","2021-09-30","2021-10-31","2022-01-31",null,null,"2024-04-30","2024-10-31","2024-12-30","2020-11-25","2020-12-25","2021-04-15","2021-07-05","2021-11-04","2021-03-31","2022-01-31","2022-05-31","2022-07-31","2023-11-30","2024-01-31","2024-03-30","2020-11-25","2020-12-25","2021-04-15","2021-07-05","2021-11-30","2022-04-20","2022-05-30","2022-04-30","2022-06-30","2023-10-30","2023-12-30","2024-06-30","2022-06-01","2024-06-30","2022-06-01","2024-06-01","2022-06-01","2024-06-01","2022-06-01","2024-07-01","2021-12-30","2023-12-02","2021-12-03","2023-12-02","2021-12-03","2023-12-02","2021-12-03","2023-12-02","2021-12-03","2023-12-02","2021-12-03","2023-12-02","2021-12-03","2023-12-02","2021-12-03","2023-12-02","2021-12-03","2023-12-02","2021-12-03","2023-12-02","2021-12-03","2023-12-02","2021-12-03","2023-12-02","2021-12-03","2023-12-02","2021-12-03","2023-12-02","2021-12-03","2023-12-02","2021-12-03","2023-12-02","2021-12-30","2023-12-02","2021-12-03","2023-12-02","2021-12-30","2023-12-02","2021-12-30","2023-12-02","2021-12-30","2022-02-02","2023-12-31","2021-12-30","2022-02-02","2023-11-30","2021-12-30","2022-01-31","2023-11-30","2021-12-30","2022-01-31","2023-11-30","2022-05-05","2022-05-19","2023-11-30","2022-05-05","2022-05-19","2023-11-30",{"v":23.233333333333334,"d":"23"},{"v":24.366666666666667,"d":"24"},"2020-12-25","2021-07-05","2022-04-30","2022-05-14","2023-11-30","2022-05-15","2022-05-29","2023-11-30",{"$f":"(#REF!-#REF!)/30","v":{"$error":"#REF!"}},"2022-05-15","2022-05-29","2023-11-30","2022-05-15","2022-05-29","2023-11-30","2022-05-15","2022-05-29","2023-11-30","2022-05-15","2022-05-29","2023-11-30","2022-05-15","2022-05-29","2023-11-30","2022-05-15","2022-05-30","2023-11-30","2022-07-30","2022-07-30","2023-11-30","2022-07-30","2022-07-30","2023-11-30","2022-07-30","2022-07-30","2023-12-10","2022-07-30","2022-09-01","2024-11-30",{"v":27.366666666666667,"d":"27"},"2022-07-30","2022-09-01","2024-11-30","2022-08-15","2022-08-29","2023-12-10","2022-08-15","2022-08-29","2023-12-10","2022-08-15","2022-08-29","2023-12-10","2022-08-15","2022-08-29","2023-12-10","2022-08-15","2022-08-29","2023-12-10","2022-08-31","2022-08-31","2023-12-10","2022-09-30","2022-09-30","2023-12-10","2022-09-30","2022-09-30","2023-12-10","2022-09-30","2022-09-30","2023-12-10","2022-09-30","2022-09-30","2023-12-10","2022-10-24","2022-10-24","2023-12-10","2022-10-24","2022-10-24","2023-12-10","2022-10-27","2022-10-27","2023-12-10","2022-11-10","2022-11-10","2023-12-10","2022-11-10","2022-11-10","2023-12-10",null,"АБ-1","АБ-1","АБСт",null,"2025-06-30",{"$nulls":3},"●",null,null,"●",{"$nulls":3},"●",null,0,{"$f":"IF(YEAR(#REF!)=HU$8,$J26,0)","v":{"$error":"#REF!"}},{"$f":"IF(AND(YEAR(#REF!)<=HU$8,YEAR(#REF!)>HU$8),$J26,0)","v":{"$error":"#REF!"}},{"v":12418.15,"d":"12,418"},{"$nulls":8},{"$f":"I26/2","v":{"v":85.09435815517243,"d":"85"}},{"$f":"I26/2","v":{"v":85.09435815517243,"d":"85"}},"▪"]
[34,"2.3.4","СД00.03.1.03.3","ЖК \"Светлая Долина\" ПК-3 ж/д 3-3",{"v":17139.98,"d":"17,140 "},"Керамзит М600",null,"м3",{"$f":"142.129/580*L27","v":{"v":172.4147295,"d":"172 "}},{"v":12418.15,"d":"12,418 "},{"v":11714.56,"d":"11,715 "},{"v":703.59,"d":"704 "},null,{"v":250,"d":"250 "},2,"18-20 (16-18)",1,"КПД, 1 Каркас","Перепривязка",{"v":7104,"d":"7,104 "},{"v":5583.744000000001,"d":"5,584 "},{"v":500,"d":"500 "},{"$f":"SUM(IG27,#REF!,#REF!,#REF!,#REF!,#REF!,#REF!,#REF!)","v":{"$error":"#REF!"}},{"$error":"#REF!"},{"$nulls":4},"Прединвест",null,"2020-11-25","2020-12-25","2021-04-15","2021-04-30","2021-09-30","2021-10-31","2022-01-31",null,null,"2024-04-30","2024-10-31","2024-12-30","2020-11-25","2020-12-25","2021-04-15","2021-07-05","2021-11-04","2021-03-31","2022-01-31","2022-05-31","2022-07-31","2023-11-30","2024-01-31","2024-03-30","2020-11-25","2020-12-25","2021-04-15","2021-07-05","2021-11-30","2022-04-20","2022-05-30","2022-04-30","2022-06-30","2023-10-30","2023-12-30","2024-06-30","2022-06-01","2024-06-30","2022-06-01","2024-06-01","2022-06-01","2024-06-01","2022-06-01","2024-07-01","2021-12-30","2023-12-02","2021-12-03","2023-12-02","2021-12-03","2023-12-02","2021-12-03","2023-12-02","2021-12-03","2023-12-02","2021-12-03","2023-12-02","2021-12-03","2023-12-02","2021-12-03","2023-12-02","2021-12-03","2023-12-02","2021-12-03","2023-12-02","2021-12-03","2023-12-02","2021-12-03","2023-12-02","2021-12-03","2023-12-02","2021-12-03","2023-12-02","2021-12-03","2023-12-02","2021-12-03","2023-12-02","2021-12-30","2023-12-02","2021-12-03","2023-12-02","2021-12-30","2023-12-02","2021-12-30","2023-12-02","2021-12-30","2022-02-02","2023-12-31","2021-12-30","2022-02-02","2023-11-30","2021-12-30","2022-01-31","2023-11-30","2021-12-30","2022-01-31","2023-11-30","2022-05-05","2022-05-19","2023-11-30","2022-05-05","2022-05-19","2023-11-30",{"v":23.233333333333334,"d":"23"},{"v":24.366666666666667,"d":"24"},"2020-12-25","2021-07-05","2022-04-30","2022-05-14","2023-11-30","2022-05-15","2022-05-29","2023-11-30",{"$f":"(#REF!-#REF!)/30","v":{"$error":"#REF!"}},"2022-05-15","2022-05-29","2023-11-30","2022-05-15","2022-05-29","2023-11-30","2022-05-15","2022-05-29","2023-11-30","2022-05-15","2022-05-29","2023-11-30","2022-05-15","2022-05-29","2023-11-30","2022-05-15","2022-05-30","2023-11-30","2022-07-30","2022-07-30","2023-11-30","2022-07-30","2022-07-30","2023-11-30","2022-07-30","2022-07-30","2023-12-10","2022-07-30","2022-09-01","2024-11-30",{"v":27.366666666666667,"d":"27"},"2022-07-30","2022-09-01","2024-11-30","2022-08-15","2022-08-29","2023-12-10","2022-08-15","2022-08-29","2023-12-10","2022-08-15","2022-08-29","2023-12-10","2022-08-15","2022-08-29","2023-12-10","2022-08-15","2022-08-29","2023-12-10","2022-08-31","2022-08-31","2023-12-10","2022-09-30","2022-09-30","2023-12-10","2022-09-30","2022-09-30","2023-12-10","2022-09-30","2022-09-30","2023-12-10","2022-09-30","2022-09-30","2023-12-10","2022-10-24","2022-10-24","2023-12-10","2022-10-24","2022-10-24","2023-12-10","2022-10-27","2022-10-27","2023-12-10","2022-11-10","2022-11-10","2023-12-10","2022-11-10","2022-11-10","2023-12-10",null,"АБ-1","АБ-1","АБСт",null,"2025-06-30",{"$nulls":3},"●",null,null,"●",{"$nulls":3},"●",null,0,{"$f":"IF(YEAR(#REF!)=HU$8,$J27,0)","v":{"$error":"#REF!"}},{"$f":"IF(AND(YEAR(#REF!)<=HU$8,YEAR(#REF!)>HU$8),$J27,0)","v":{"$error":"#REF!"}},{"v":12418.15,"d":"12,418"},{"$nulls":8},{"$f":"I27/2","v":{"v":86.20736475,"d":"86"}},{"$f":"I27/2","v":{"v":86.20736475,"d":"86"}},"▪"]
[34,"2.3.4","СД00.03.1.03.3","ЖК \"Светлая Долина\" ПК-3 ж/д 3-3",{"v":17139.98,"d":"17,140 "},"Плиты теплоизоляционные пенополистирольные экструдированные 100мм",null,"м3",{"$f":"14.146/580*L28","v":{"v":17.16031748275862,"d":"17 "}},{"v":12418.15,"d":"12,418 "},{"v":11714.56,"d":"11,715 "},{"v":703.59,"d":"704 "},null,{"v":250,"d":"250 "},2,"18-20 (16-18)",1,"КПД, 1 Каркас","Перепривязка",{"v":7104,"d":"7,104 "},{"v":5583.744000000001,"d":"5,584 "},{"v":500,"d":"500 "},{"$f":"SUM(IG28,#REF!,#REF!,#REF!,#REF!,#REF!,#REF!,#REF!)","v":{"$error":"#REF!"}},{"$error":"#REF!"},{"$nulls":4},"Прединвест",null,"2020-11-25","2020-12-25","2021-04-15","2021-04-30","2021-09-30","2021-10-31","2022-01-31",null,null,"2024-04-30","2024-10-31","2024-12-30","2020-11-25","2020-12-25","2021-04-15","2021-07-05","2021-11-04","2021-03-31","2022-01-31","2022-05-31","2022-07-31","2023-11-30","2024-01-31","2024-03-30","2020-11-25","2020-12-25","2021-04-15","2021-07-05","2021-11-30","2022-04-20","2022-05-30","2022-04-30","2022-06-30","2023-10-30","2023-12-30","2024-06-30","2022-06-01","2024-06-30","2022-06-01","2024-06-01","2022-06-01","2024-06-01","2022-06-01","2024-07-01","2021-12-30","2023-12-02","2021-12-03","2023-12-02","2021-12-03","2023-12-02","2021-12-03","2023-12-02","2021-12-03","2023-12-02","2021-12-03","2023-12-02","2021-12-03","2023-12-02","2021-12-03","2023-12-02","2021-12-03","2023-12-02","2021-12-03","2023-12-02","2021-12-03","2023-12-02","2021-12-03","2023-12-02","2021-12-03","2023-12-02","2021-12-03","2023-12-02","2021-12-03","2023-12-02","2021-12-03","2023-12-02","2021-12-30","2023-12-02","2021-12-03","2023-12-02","2021-12-30","2023-12-02","2021-12-30","2023-12-02","2021-12-30","2022-02-02","2023-12-31","2021-12-30","2022-02-02","2023-11-30","2021-12-30","2022-01-31","2023-11-30","2021-12-30","2022-01-31","2023-11-30","2022-05-05","2022-05-19","2023-11-30","2022-05-05","2022-05-19","2023-11-30",{"v":23.233333333333334,"d":"23"},{"v":24.366666666666667,"d":"24"},"2020-12-25","2021-07-05","2022-04-30","2022-05-14","2023-11-30","2022-05-15","2022-05-29","2023-11-30",{"$f":"(#REF!-#REF!)/30","v":{"$error":"#REF!"}},"2022-05-15","2022-05-29","2023-11-30","2022-05-15","2022-05-29","2023-11-30","2022-05-15","2022-05-29","2023-11-30","2022-05-15","2022-05-29","2023-11-30","2022-05-15","2022-05-29","2023-11-30","2022-05-15","2022-05-30","2023-11-30","2022-07-30","2022-07-30","2023-11-30","2022-07-30","2022-07-30","2023-11-30","2022-07-30","2022-07-30","2023-12-10","2022-07-30","2022-09-01","2024-11-30",{"v":27.366666666666667,"d":"27"},"2022-07-30","2022-09-01","2024-11-30","2022-08-15","2022-08-29","2023-12-10","2022-08-15","2022-08-29","2023-12-10","2022-08-15","2022-08-29","2023-12-10","2022-08-15","2022-08-29","2023-12-10","2022-08-15","2022-08-29","2023-12-10","2022-08-31","2022-08-31","2023-12-10","2022-09-30","2022-09-30","2023-12-10","2022-09-30","2022-09-30","2023-12-10","2022-09-30","2022-09-30","2023-12-10","2022-09-30","2022-09-30","2023-12-10","2022-10-24","2022-10-24","2023-12-10","2022-10-24","2022-10-24","2023-12-10","2022-10-27","2022-10-27","2023-12-10","2022-11-10","2022-11-10","2023-12-10","2022-11-10","2022-11-10","2023-12-10",null,"АБ-1","АБ-1","АБСт",null,"2025-06-30",{"$nulls":3},"●",null,null,"●",{"$nulls":3},"●",null,0,{"$f":"IF(YEAR(#REF!)=HU$8,$J28,0)","v":{"$error":"#REF!"}},{"$f":"IF(AND(YEAR(#REF!)<=HU$8,YEAR(#REF!)>HU$8),$J28,0)","v":{"$error":"#REF!"}},{"v":12418.15,"d":"12,418"},{"$nulls":8},{"v":8.58015874137931,"d":"9"},{"v":8.58015874137931,"d":"9"},"▪"]
[34,"2.3.4","СД00.03.1.03.3","ЖК \"Светлая Долина\" ПК-3 ж/д 3-3",{"v":17139.98,"d":"17,140 "},"Плиты теплоизоляционные пенополистирольные экструдированные 50мм",null,"м3",{"$f":"3.939/580*L29","v":{"v":4.778346568965517,"d":"5 "}},{"v":12418.15,"d":"12,418 "},{"v":11714.56,"d":"11,715 "},{"v":703.59,"d":"704 "},null,{"v":250,"d":"250 "},2,"18-20 (16-18)",1,"КПД, 1 Каркас","Перепривязка",{"v":7104,"d":"7,104 "},{"v":5583.744000000001,"d":"5,584 "},{"v":500,"d":"500 "},{"$f":"SUM(IG29,#REF!,#REF!,#REF!,#REF!,#REF!,#REF!,#REF!)","v":{"$error":"#REF!"}},{"$error":"#REF!"},{"$nulls":4},"Прединвест",null,"2020-11-25","2020-12-25","2021-04-15","2021-04-30","2021-09-30","2021-10-31","2022-01-31",null,null,"2024-04-30","2024-10-31","2024-12-30","2020-11-25","2020-12-25","2021-04-15","2021-07-05","2021-11-04","2021-03-31","2022-01-31","2022-05-31","2022-07-31","2023-11-30","2024-01-31","2024-03-30","2020-11-25","2020-12-25","2021-04-15","2021-07-05","2021-11-30","2022-04-20","2022-05-30","2022-04-30","2022-06-30","2023-10-30","2023-12-30","2024-06-30","2022-06-01","2024-06-30","2022-06-01","2024-06-01","2022-06-01","2024-06-01","2022-06-01","2024-07-01","2021-12-30","2023-12-02","2021-12-03","2023-12-02","2021-12-03","2023-12-02","2021-12-03","2023-12-02","2021-12-03","2023-12-02","2021-12-03","2023-12-02","2021-12-03","2023-12-02","2021-12-03","2023-12-02","2021-12-03","2023-12-02","2021-12-03","2023-12-02","2021-12-03","2023-12-02","2021-12-03","2023-12-02","2021-12-03","2023-12-02","2021-12-03","2023-12-02","2021-12-03","2023-12-02","2021-12-03","2023-12-02","2021-12-30","2023-12-02","2021-12-03","2023-12-02","2021-12-30","2023-12-02","2021-12-30","2023-12-02","2021-12-30","2022-02-02","2023-12-31","2021-12-30","2022-02-02","2023-11-30","2021-12-30","2022-01-31","2023-11-30","2021-12-30","2022-01-31","2023-11-30","2022-05-05","2022-05-19","2023-11-30","2022-05-05","2022-05-19","2023-11-30",{"v":23.233333333333334,"d":"23"},{"v":24.366666666666667,"d":"24"},"2020-12-25","2021-07-05","2022-04-30","2022-05-14","2023-11-30","2022-05-15","2022-05-29","2023-11-30",{"$f":"(#REF!-#REF!)/30","v":{"$error":"#REF!"}},"2022-05-15","2022-05-29","2023-11-30","2022-05-15","2022-05-29","2023-11-30","2022-05-15","2022-05-29","2023-11-30","2022-05-15","2022-05-29","2023-11-30","2022-05-15","2022-05-29","2023-11-30","2022-05-15","2022-05-30","2023-11-30","2022-07-30","2022-07-30","2023-11-30","2022-07-30","2022-07-30","2023-11-30","2022-07-30","2022-07-30","2023-12-10","2022-07-30","2022-09-01","2024-11-30",{"v":27.366666666666667,"d":"27"},"2022-07-30","2022-09-01","2024-11-30","2022-08-15","2022-08-29","2023-12-10","2022-08-15","2022-08-29","2023-12-10","2022-08-15","2022-08-29","2023-12-10","2022-08-15","2022-08-29","2023-12-10","2022-08-15","2022-08-29","2023-12-10","2022-08-31","2022-08-31","2023-12-10","2022-09-30","2022-09-30","2023-12-10","2022-09-30","2022-09-30","2023-12-10","2022-09-30","2022-09-30","2023-12-10","2022-09-30","2022-09-30","2023-12-10","2022-10-24","2022-10-24","2023-12-10","2022-10-24","2022-10-24","2023-12-10","2022-10-27","2022-10-27","2023-12-10","2022-11-10","2022-11-10","2023-12-10","2022-11-10","2022-11-10","2023-12-10",null,"АБ-1","АБ-1","АБСт",null,"2025-06-30",{"$nulls":3},"●",null,null,"●",{"$nulls":3},"●",null,0,{"$f":"IF(YEAR(#REF!)=HU$8,$J29,0)","v":{"$error":"#REF!"}},{"$f":"IF(AND(YEAR(#REF!)<=HU$8,YEAR(#REF!)>HU$8),$J29,0)","v":{"$error":"#REF!"}},{"v":12418.15,"d":"12,418"},{"$nulls":8},{"v":2.3891732844827587,"d":"2"},{"v":2.3891732844827587,"d":"2"},"▪"]
[34,"2.3.4","СД00.03.1.03.3","ЖК \"Светлая Долина\" ПК-3 ж/д 3-3",{"v":17139.98,"d":"17,140 "},"Материал рулонный кровельный гидроизоляционный верхний слой","основа: полиэстeр;температура гибкости на брусе R=25мм не менее -20; толщина 1м² не менее 3,8мм","м2",{"$f":"1730.022/580*L30","v":{"v":2098.665825827586,"d":"2,099 "}},{"v":12418.15,"d":"12,418 "},{"v":11714.56,"d":"11,715 "},{"v":703.59,"d":"704 "},null,{"v":250,"d":"250 "},2,"18-20 (16-18)",1,"КПД, 1 Каркас","Перепривязка",{"v":7104,"d":"7,104 "},{"v":5583.744000000001,"d":"5,584 "},{"v":500,"d":"500 "},{"$f":"SUM(IG30,#REF!,#REF!,#REF!,#REF!,#REF!,#REF!,#REF!)","v":{"$error":"#REF!"}},{"$error":"#REF!"},{"$nulls":4},"Прединвест",null,"2020-11-25","2020-12-25","2021-04-15","2021-04-30","2021-09-30","2021-10-31","2022-01-31",null,null,"2024-04-30","2024-10-31","2024-12-30","2020-11-25","2020-12-25","2021-04-15","2021-07-05","2021-11-04","2021-03-31","2022-01-31","2022-05-31","2022-07-31","2023-11-30","2024-01-31","2024-03-30","2020-11-25","2020-12-25","2021-04-15","2021-07-05","2021-11-30","2022-04-20","2022-05-30","2022-04-30","2022-06-30","2023-10-30","2023-12-30","2024-06-30","2022-06-01","2024-06-30","2022-06-01","2024-06-01","2022-06-01","2024-06-01","2022-06-01","2024-07-01","2021-12-30","2023-12-02","2021-12-03","2023-12-02","2021-12-03","2023-12-02","2021-12-03","2023-12-02","2021-12-03","2023-12-02","2021-12-03","2023-12-02","2021-12-03","2023-12-02","2021-12-03","2023-12-02","2021-12-03","2023-12-02","2021-12-03","2023-12-02","2021-12-03","2023-12-02","2021-12-03","2023-12-02","2021-12-03","2023-12-02","2021-12-03","2023-12-02","2021-12-03","2023-12-02","2021-12-03","2023-12-02","2021-12-30","2023-12-02","2021-12-03","2023-12-02","2021-12-30","2023-12-02","2021-12-30","2023-12-02","2021-12-30","2022-02-02","2023-12-31","2021-12-30","2022-02-02","2023-11-30","2021-12-30","2022-01-31","2023-11-30","2021-12-30","2022-01-31","2023-11-30","2022-05-05","2022-05-19","2023-11-30","2022-05-05","2022-05-19","2023-11-30",{"v":23.233333333333334,"d":"23"},{"v":24.366666666666667,"d":"24"},"2020-12-25","2021-07-05","2022-04-30","2022-05-14","2023-11-30","2022-05-15","2022-05-29","2023-11-30",{"$f":"(#REF!-#REF!)/30","v":{"$error":"#REF!"}},"2022-05-15","2022-05-29","2023-11-30","2022-05-15","2022-05-29","2023-11-30","2022-05-15","2022-05-29","2023-11-30","2022-05-15","2022-05-29","2023-11-30","2022-05-15","2022-05-29","2023-11-30","2022-05-15","2022-05-30","2023-11-30","2022-07-30","2022-07-30","2023-11-30","2022-07-30","2022-07-30","2023-11-30","2022-07-30","2022-07-30","2023-12-10","2022-07-30","2022-09-01","2024-11-30",{"v":27.366666666666667,"d":"27"},"2022-07-30","2022-09-01","2024-11-30","2022-08-15","2022-08-29","2023-12-10","2022-08-15","2022-08-29","2023-12-10","2022-08-15","2022-08-29","2023-12-10","2022-08-15","2022-08-29","2023-12-10","2022-08-15","2022-08-29","2023-12-10","2022-08-31","2022-08-31","2023-12-10","2022-09-30","2022-09-30","2023-12-10","2022-09-30","2022-09-30","2023-12-10","2022-09-30","2022-09-30","2023-12-10","2022-09-30","2022-09-30","2023-12-10","2022-10-24","2022-10-24","2023-12-10","2022-10-24","2022-10-24","2023-12-10","2022-10-27","2022-10-27","2023-12-10","2022-11-10","2022-11-10","2023-12-10","2022-11-10","2022-11-10","2023-12-10",null,"АБ-1","АБ-1","АБСт",null,"2025-06-30",{"$nulls":3},"●",null,null,"●",{"$nulls":3},"●",null,0,{"$f":"IF(YEAR(#REF!)=HU$8,$J30,0)","v":{"$error":"#REF!"}},{"$f":"IF(AND(YEAR(#REF!)<=HU$8,YEAR(#REF!)>HU$8),$J30,0)","v":{"$error":"#REF!"}},{"v":12418.15,"d":"12,418"},{"$nulls":8},{"v":1049.332912913793,"d":"1,049"},{"v":1049.332912913793,"d":"1,049"},"▪"]
[34,"2.3.4","СД00.03.1.03.3","ЖК \"Светлая Долина\" ПК-3 ж/д 3-3",{"v":17139.98,"d":"17,140 "},"Материал рулонный кровельный гидроизоляционный нижний слой","основа: полиэстeр;температура гибкости на брусе R=25мм не менее -20; толщина 1м² не менее 2,8мм","м2",{"$f":"1243.267/580*L31","v":{"v":1508.1900491896554,"d":"1,508 "}},{"v":12418.15,"d":"12,418 "},{"v":11714.56,"d":"11,715 "},{"v":703.59,"d":"704 "},null,{"v":250,"d":"250 "},2,"18-20 (16-18)",1,"КПД, 1 Каркас","Перепривязка",{"v":7104,"d":"7,104 "},{"v":5583.744000000001,"d":"5,584 "},{"v":500,"d":"500 "},{"$f":"SUM(IG31,#REF!,#REF!,#REF!,#REF!,#REF!,#REF!,#REF!)","v":{"$error":"#REF!"}},{"$error":"#REF!"},{"$nulls":4},"Прединвест",null,"2020-11-25","2020-12-25","2021-04-15","2021-04-30","2021-09-30","2021-10-31","2022-01-31",null,null,"2024-04-30","2024-10-31","2024-12-30","2020-11-25","2020-12-25","2021-04-15","2021-07-05","2021-11-04","2021-03-31","2022-01-31","2022-05-31","2022-07-31","2023-11-30","2024-01-31","2024-03-30","2020-11-25","2020-12-25","2021-04-15","2021-07-05","2021-11-30","2022-04-20","2022-05-30","2022-04-30","2022-06-30","2023-10-30","2023-12-30","2024-06-30","2022-06-01","2024-06-30","2022-06-01","2024-06-01","2022-06-01","2024-06-01","2022-06-01","2024-07-01","2021-12-30","2023-12-02","2021-12-03","2023-12-02","2021-12-03","2023-12-02","2021-12-03","2023-12-02","2021-12-03","2023-12-02","2021-12-03","2023-12-02","2021-12-03","2023-12-02","2021-12-03","2023-12-02","2021-12-03","2023-12-02","2021-12-03","2023-12-02","2021-12-03","2023-12-02","2021-12-03","2023-12-02","2021-12-03","2023-12-02","2021-12-03","2023-12-02","2021-12-03","2023-12-02","2021-12-03","2023-12-02","2021-12-30","2023-12-02","2021-12-03","2023-12-02","2021-12-30","2023-12-02","2021-12-30","2023-12-02","2021-12-30","2022-02-02","2023-12-31","2021-12-30","2022-02-02","2023-11-30","2021-12-30","2022-01-31","2023-11-30","2021-12-30","2022-01-31","2023-11-30","2022-05-05","2022-05-19","2023-11-30","2022-05-05","2022-05-19","2023-11-30",{"v":23.233333333333334,"d":"23"},{"v":24.366666666666667,"d":"24"},"2020-12-25","2021-07-05","2022-04-30","2022-05-14","2023-11-30","2022-05-15","2022-05-29","2023-11-30",{"$f":"(#REF!-#REF!)/30","v":{"$error":"#REF!"}},"2022-05-15","2022-05-29","2023-11-30","2022-05-15","2022-05-29","2023-11-30","2022-05-15","2022-05-29","2023-11-30","2022-05-15","2022-05-29","2023-11-30","2022-05-15","2022-05-29","2023-11-30","2022-05-15","2022-05-30","2023-11-30","2022-07-30","2022-07-30","2023-11-30","2022-07-30","2022-07-30","2023-11-30","2022-07-30","2022-07-30","2023-12-10","2022-07-30","2022-09-01","2024-11-30",{"v":27.366666666666667,"d":"27"},"2022-07-30","2022-09-01","2024-11-30","2022-08-15","2022-08-29","2023-12-10","2022-08-15","2022-08-29","2023-12-10","2022-08-15","2022-08-29","2023-12-10","2022-08-15","2022-08-29","2023-12-10","2022-08-15","2022-08-29","2023-12-10","2022-08-31","2022-08-31","2023-12-10","2022-09-30","2022-09-30","2023-12-10","2022-09-30","2022-09-30","2023-12-10","2022-09-30","2022-09-30","2023-12-10","2022-09-30","2022-09-30","2023-12-10","2022-10-24","2022-10-24","2023-12-10","2022-10-24","2022-10-24","2023-12-10","2022-10-27","2022-10-27","2023-12-10","2022-11-10","2022-11-10","2023-12-10","2022-11-10","2022-11-10","2023-12-10",null,"АБ-1","АБ-1","АБСт",null,"2025-06-30",{"$nulls":3},"●",null,null,"●",{"$nulls":3},"●",null,0,{"$f":"IF(YEAR(#REF!)=HU$8,$J31,0)","v":{"$error":"#REF!"}},{"$f":"IF(AND(YEAR(#REF!)<=HU$8,YEAR(#REF!)>HU$8),$J31,0)","v":{"$error":"#REF!"}},{"v":12418.15,"d":"12,418"},{"$nulls":8},{"v":754.0950245948277,"d":"754"},{"v":754.0950245948277,"d":"754"},"▪"]
[36,"2.3.6","СД00.03.1.03.4","ЖК \"Светлая Долина\" ПК-3 ж/д 3-4",{"v":10362.95,"d":"10,363 "},"Плиты теплоизоляционные пенополистирольные ППС-25 150мм",null,"м3",{"$f":"140.294/580*L32","v":{"v":105.92680772413794,"d":"106 "}},{"v":7519.36,"d":"7,519 "},{"v":7081.44,"d":"7,081 "},{"v":437.92,"d":"438 "},null,{"v":160,"d":"160 "},1,"18 (16)",1,"КПД, 1 Каркас","Перепривязка",{"v":4480,"d":"4,480 "},{"v":3521.28,"d":"3,521 "},{"v":311,"d":"311 "},{"$f":"SUM(IG32,#REF!,#REF!,#REF!,#REF!,#REF!,#REF!,#REF!)","v":{"$error":"#REF!"}},{"$error":"#REF!"},{"$nulls":4},"Прединвест",null,"2020-11-25","2020-12-25","2021-04-15","2021-04-30","2021-09-30","2021-10-31","2022-01-31",null,null,"2024-04-30","2024-10-31","2024-12-30","2020-11-25","2020-12-25","2021-04-15","2021-07-05","2021-11-06","2021-03-31","2022-01-31","2022-07-31","2022-09-30","2023-11-30","2024-01-31","2024-03-30","2020-11-25","2020-12-25","2021-04-15","2021-07-05","2021-11-30","2022-04-20","2022-05-30","2022-04-30","2022-07-31","2023-10-30","2023-12-30","2024-06-30","2022-06-01","2024-06-30","2022-06-01","2024-06-01","2022-06-01","2024-06-01","2022-06-01","2024-07-01","2021-12-30","2023-12-03","2021-12-04","2023-12-03","2021-12-04","2023-12-03","2021-12-04","2023-12-03","2021-12-04","2023-12-03","2021-12-04","2023-12-03","2021-12-04","2023-12-03","2021-12-04","2023-12-03","2021-12-04","2023-12-03","2021-12-04","2023-12-03","2021-12-04","2023-12-03","2021-12-04","2023-12-03","2021-12-04","2023-12-03","2021-12-04","2023-12-03","2021-12-04","2023-12-03","2021-12-04","2023-12-03","2021-12-30","2023-12-03","2021-12-04","2023-12-03","2021-12-30","2023-12-03","2021-12-30","2023-12-03","2021-12-30","2022-02-04","2023-12-31","2021-12-30","2022-02-04","2023-11-30","2021-12-30","2022-01-31","2023-11-30","2021-12-30","2022-01-31","2023-11-30","2022-05-05","2022-05-19","2023-11-30","2022-05-05","2022-05-19","2023-11-30",{"v":23.166666666666668,"d":"23"},{"v":24.366666666666667,"d":"24"},"2020-12-25","2021-07-05","2022-04-30","2022-05-14","2023-11-30","2022-05-15","2022-05-29","2023-11-30",{"$f":"(#REF!-#REF!)/30","v":{"$error":"#REF!"}},"2022-05-15","2022-05-29","2023-11-30","2022-05-15","2022-05-29","2023-11-30","2022-05-15","2022-05-29","2023-11-30","2022-05-15","2022-05-29","2023-11-30","2022-05-15","2022-05-29","2023-11-30","2022-05-15","2022-05-30","2023-11-30","2022-07-30","2022-07-30","2023-11-30","2022-07-30","2022-07-30","2023-11-30","2022-07-30","2022-07-30","2023-12-10","2022-07-30","2022-09-01","2024-11-30",{"v":27.366666666666667,"d":"27"},"2022-07-30","2022-09-01","2024-11-30","2022-08-15","2022-08-29","2023-12-10","2022-08-15","2022-08-29","2023-12-10","2022-08-15","2022-08-29","2023-12-10","2022-08-15","2022-08-29","2023-12-10","2022-08-15","2022-08-29","2023-12-10","2022-08-31","2022-08-31","2023-12-10","2022-09-30","2022-09-30","2023-12-10","2022-09-30","2022-09-30","2023-12-10","2022-09-30","2022-09-30","2023-12-10","2022-09-30","2022-09-30","2023-12-10","2022-10-24","2022-10-24","2023-12-10","2022-10-24","2022-10-24","2023-12-10","2022-10-27","2022-10-27","2023-12-10","2022-11-10","2022-11-10","2023-12-10","2022-11-10","2022-11-10","2023-12-10",null,"АБ-1","АБ-1","АБСт",null,"2025-06-30",{"$nulls":3},"●",null,null,"●",{"$nulls":3},"●",null,0,{"$f":"IF(YEAR(#REF!)=HU$8,$J32,0)","v":{"$error":"#REF!"}},{"$f":"IF(AND(YEAR(#REF!)<=HU$8,YEAR(#REF!)>HU$8),$J32,0)","v":{"$error":"#REF!"}},{"v":7519.36,"d":"7,519"},{"$nulls":7},{"$f":"I32","v":{"v":105.92680772413794,"d":"106"}},null,null,"▪"]
[36,"2.3.6","СД00.03.1.03.4","ЖК \"Светлая Долина\" ПК-3 ж/д 3-4",{"v":10362.95,"d":"10,363 "},"Керамзит М600",null,"м3",{"$f":"142.129/580*L33","v":{"v":107.312296,"d":"107 "}},{"v":7519.36,"d":"7,519 "},{"v":7081.44,"d":"7,081 "},{"v":437.92,"d":"438 "},null,{"v":160,"d":"160 "},1,"18 (16)",1,"КПД, 1 Каркас","Перепривязка",{"v":4480,"d":"4,480 "},{"v":3521.28,"d":"3,521 "},{"v":311,"d":"311 "},{"$f":"SUM(IG33,#REF!,#REF!,#REF!,#REF!,#REF!,#REF!,#REF!)","v":{"$error":"#REF!"}},{"$error":"#REF!"},{"$nulls":4},"Прединвест",null,"2020-11-25","2020-12-25","2021-04-15","2021-04-30","2021-09-30","2021-10-31","2022-01-31",null,null,"2024-04-30","2024-10-31","2024-12-30","2020-11-25","2020-12-25","2021-04-15","2021-07-05","2021-11-06","2021-03-31","2022-01-31","2022-07-31","2022-09-30","2023-11-30","2024-01-31","2024-03-30","2020-11-25","2020-12-25","2021-04-15","2021-07-05","2021-11-30","2022-04-20","2022-05-30","2022-04-30","2022-07-31","2023-10-30","2023-12-30","2024-06-30","2022-06-01","2024-06-30","2022-06-01","2024-06-01","2022-06-01","2024-06-01","2022-06-01","2024-07-01","2021-12-30","2023-12-03","2021-12-04","2023-12-03","2021-12-04","2023-12-03","2021-12-04","2023-12-03","2021-12-04","2023-12-03","2021-12-04","2023-12-03","2021-12-04","2023-12-03","2021-12-04","2023-12-03","2021-12-04","2023-12-03","2021-12-04","2023-12-03","2021-12-04","2023-12-03","2021-12-04","2023-12-03","2021-12-04","2023-12-03","2021-12-04","2023-12-03","2021-12-04","2023-12-03","2021-12-04","2023-12-03","2021-12-30","2023-12-03","2021-12-04","2023-12-03","2021-12-30","2023-12-03","2021-12-30","2023-12-03","2021-12-30","2022-02-04","2023-12-31","2021-12-30","2022-02-04","2023-11-30","2021-12-30","2022-01-31","2023-11-30","2021-12-30","2022-01-31","2023-11-30","2022-05-05","2022-05-19","2023-11-30","2022-05-05","2022-05-19","2023-11-30",{"v":23.166666666666668,"d":"23"},{"v":24.366666666666667,"d":"24"},"2020-12-25","2021-07-05","2022-04-30","2022-05-14","2023-11-30","2022-05-15","2022-05-29","2023-11-30",{"$f":"(#REF!-#REF!)/30","v":{"$error":"#REF!"}},"2022-05-15","2022-05-29","2023-11-30","2022-05-15","2022-05-29","2023-11-30","2022-05-15","2022-05-29","2023-11-30","2022-05-15","2022-05-29","2023-11-30","2022-05-15","2022-05-29","2023-11-30","2022-05-15","2022-05-30","2023-11-30","2022-07-30","2022-07-30","2023-11-30","2022-07-30","2022-07-30","2023-11-30","2022-07-30","2022-07-30","2023-12-10","2022-07-30","2022-09-01","2024-11-30",{"v":27.366666666666667,"d":"27"},"2022-07-30","2022-09-01","2024-11-30","2022-08-15","2022-08-29","2023-12-10","2022-08-15","2022-08-29","2023-12-10","2022-08-15","2022-08-29","2023-12-10","2022-08-15","2022-08-29","2023-12-10","2022-08-15","2022-08-29","2023-12-10","2022-08-31","2022-08-31","2023-12-10","2022-09-30","2022-09-30","2023-12-10","2022-09-30","2022-09-30","2023-12-10","2022-09-30","2022-09-30","2023-12-10","2022-09-30","2022-09-30","2023-12-10","2022-10-24","2022-10-24","2023-12-10","2022-10-24","2022-10-24","2023-12-10","2022-10-27","2022-10-27","2023-12-10","2022-11-10","2022-11-10","2023-12-10","2022-11-10","2022-11-10","2023-12-10",null,"АБ-1","АБ-1","АБСт",null,"2025-06-30",{"$nulls":3},"●",null,null,"●",{"$nulls":3},"●",null,0,{"$f":"IF(YEAR(#REF!)=HU$8,$J33,0)","v":{"$error":"#REF!"}},{"$f":"IF(AND(YEAR(#REF!)<=HU$8,YEAR(#REF!)>HU$8),$J33,0)","v":{"$error":"#REF!"}},{"v":7519.36,"d":"7,519"},{"$nulls":7},{"$f":"I33","v":{"v":107.312296,"d":"107"}},null,null,"▪"]
[36,"2.3.6","СД00.03.1.03.4","ЖК \"Светлая Долина\" ПК-3 ж/д 3-4",{"v":10362.95,"d":"10,363 "},"Плиты теплоизоляционные пенополистирольные экструдированные 100мм",null,"м3",{"$f":"14.146/580*L34","v":{"v":10.68071779310345,"d":"11 "}},{"v":7519.36,"d":"7,519 "},{"v":7081.44,"d":"7,081 "},{"v":437.92,"d":"438 "},null,{"v":160,"d":"160 "},1,"18 (16)",1,"КПД, 1 Каркас","Перепривязка",{"v":4480,"d":"4,480 "},{"v":3521.28,"d":"3,521 "},{"v":311,"d":"311 "},{"$f":"SUM(IG34,#REF!,#REF!,#REF!,#REF!,#REF!,#REF!,#REF!)","v":{"$error":"#REF!"}},{"$error":"#REF!"},{"$nulls":4},"Прединвест",null,"2020-11-25","2020-12-25","2021-04-15","2021-04-30","2021-09-30","2021-10-31","2022-01-31",null,null,"2024-04-30","2024-10-31","2024-12-30","2020-11-25","2020-12-25","2021-04-15","2021-07-05","2021-11-06","2021-03-31","2022-01-31","2022-07-31","2022-09-30","2023-11-30","2024-01-31","2024-03-30","2020-11-25","2020-12-25","2021-04-15","2021-07-05","2021-11-30","2022-04-20","2022-05-30","2022-04-30","2022-07-31","2023-10-30","2023-12-30","2024-06-30","2022-06-01","2024-06-30","2022-06-01","2024-06-01","2022-06-01","2024-06-01","2022-06-01","2024-07-01","2021-12-30","2023-12-03","2021-12-04","2023-12-03","2021-12-04","2023-12-03","2021-12-04","2023-12-03","2021-12-04","2023-12-03","2021-12-04","2023-12-03","2021-12-04","2023-12-03","2021-12-04","2023-12-03","2021-12-04","2023-12-03","2021-12-04","2023-12-03","2021-12-04","2023-12-03","2021-12-04","2023-12-03","2021-12-04","2023-12-03","2021-12-04","2023-12-03","2021-12-04","2023-12-03","2021-12-04","2023-12-03","2021-12-30","2023-12-03","2021-12-04","2023-12-03","2021-12-30","2023-12-03","2021-12-30","2023-12-03","2021-12-30","2022-02-04","2023-12-31","2021-12-30","2022-02-04","2023-11-30","2021-12-30","2022-01-31","2023-11-30","2021-12-30","2022-01-31","2023-11-30","2022-05-05","2022-05-19","2023-11-30","2022-05-05","2022-05-19","2023-11-30",{"v":23.166666666666668,"d":"23"},{"v":24.366666666666667,"d":"24"},"2020-12-25","2021-07-05","2022-04-30","2022-05-14","2023-11-30","2022-05-15","2022-05-29","2023-11-30",{"$f":"(#REF!-#REF!)/30","v":{"$error":"#REF!"}},"2022-05-15","2022-05-29","2023-11-30","2022-05-15","2022-05-29","2023-11-30","2022-05-15","2022-05-29","2023-11-30","2022-05-15","2022-05-29","2023-11-30","2022-05-15","2022-05-29","2023-11-30","2022-05-15","2022-05-30","2023-11-30","2022-07-30","2022-07-30","2023-11-30","2022-07-30","2022-07-30","2023-11-30","2022-07-30","2022-07-30","2023-12-10","2022-07-30","2022-09-01","2024-11-30",{"v":27.366666666666667,"d":"27"},"2022-07-30","2022-09-01","2024-11-30","2022-08-15","2022-08-29","2023-12-10","2022-08-15","2022-08-29","2023-12-10","2022-08-15","2022-08-29","2023-12-10","2022-08-15","2022-08-29","2023-12-10","2022-08-15","2022-08-29","2023-12-10","2022-08-31","2022-08-31","2023-12-10","2022-09-30","2022-09-30","2023-12-10","2022-09-30","2022-09-30","2023-12-10","2022-09-30","2022-09-30","2023-12-10","2022-09-30","2022-09-30","2023-12-10","2022-10-24","2022-10-24","2023-12-10","2022-10-24","2022-10-24","2023-12-10","2022-10-27","2022-10-27","2023-12-10","2022-11-10","2022-11-10","2023-12-10","2022-11-10","2022-11-10","2023-12-10",null,"АБ-1","АБ-1","АБСт",null,"2025-06-30",{"$nulls":3},"●",null,null,"●",{"$nulls":3},"●",null,0,{"$f":"IF(YEAR(#REF!)=HU$8,$J34,0)","v":{"$error":"#REF!"}},{"$f":"IF(AND(YEAR(#REF!)<=HU$8,YEAR(#REF!)>HU$8),$J34,0)","v":{"$error":"#REF!"}},{"v":7519.36,"d":"7,519"},{"$nulls":7},{"v":10.68071779310345,"d":"11"},null,null,"▪"]
[36,"2.3.6","СД00.03.1.03.4","ЖК \"Светлая Долина\" ПК-3 ж/д 3-4",{"v":10362.95,"d":"10,363 "},"Плиты теплоизоляционные пенополистирольные экструдированные 50мм",null,"м3",{"$f":"3.939/580*L35","v":{"v":2.974080827586207,"d":"3 "}},{"v":7519.36,"d":"7,519 "},{"v":7081.44,"d":"7,081 "},{"v":437.92,"d":"438 "},null,{"v":160,"d":"160 "},1,"18 (16)",1,"КПД, 1 Каркас","Перепривязка",{"v":4480,"d":"4,480 "},{"v":3521.28,"d":"3,521 "},{"v":311,"d":"311 "},{"$f":"SUM(IG35,#REF!,#REF!,#REF!,#REF!,#REF!,#REF!,#REF!)","v":{"$error":"#REF!"}},{"$error":"#REF!"},{"$nulls":4},"Прединвест",null,"2020-11-25","2020-12-25","2021-04-15","2021-04-30","2021-09-30","2021-10-31","2022-01-31",null,null,"2024-04-30","2024-10-31","2024-12-30","2020-11-25","2020-12-25","2021-04-15","2021-07-05","2021-11-06","2021-03-31","2022-01-31","2022-07-31","2022-09-30","2023-11-30","2024-01-31","2024-03-30","2020-11-25","2020-12-25","2021-04-15","2021-07-05","2021-11-30","2022-04-20","2022-05-30","2022-04-30","2022-07-31","2023-10-30","2023-12-30","2024-06-30","2022-06-01","2024-06-30","2022-06-01","2024-06-01","2022-06-01","2024-06-01","2022-06-01","2024-07-01","2021-12-30","2023-12-03","2021-12-04","2023-12-03","2021-12-04","2023-12-03","2021-12-04","2023-12-03","2021-12-04","2023-12-03","2021-12-04","2023-12-03","2021-12-04","2023-12-03","2021-12-04","2023-12-03","2021-12-04","2023-12-03","2021-12-04","2023-12-03","2021-12-04","2023-12-03","2021-12-04","2023-12-03","2021-12-04","2023-12-03","2021-12-04","2023-12-03","2021-12-04","2023-12-03","2021-12-04","2023-12-03","2021-12-30","2023-12-03","2021-12-04","2023-12-03","2021-12-30","2023-12-03","2021-12-30","2023-12-03","2021-12-30","2022-02-04","2023-12-31","2021-12-30","2022-02-04","2023-11-30","2021-12-30","2022-01-31","2023-11-30","2021-12-30","2022-01-31","2023-11-30","2022-05-05","2022-05-19","2023-11-30","2022-05-05","2022-05-19","2023-11-30",{"v":23.166666666666668,"d":"23"},{"v":24.366666666666667,"d":"24"},"2020-12-25","2021-07-05","2022-04-30","2022-05-14","2023-11-30","2022-05-15","2022-05-29","2023-11-30",{"$f":"(#REF!-#REF!)/30","v":{"$error":"#REF!"}},"2022-05-15","2022-05-29","2023-11-30","2022-05-15","2022-05-29","2023-11-30","2022-05-15","2022-05-29","2023-11-30","2022-05-15","2022-05-29","2023-11-30","2022-05-15","2022-05-29","2023-11-30","2022-05-15","2022-05-30","2023-11-30","2022-07-30","2022-07-30","2023-11-30","2022-07-30","2022-07-30","2023-11-30","2022-07-30","2022-07-30","2023-12-10","2022-07-30","2022-09-01","2024-11-30",{"v":27.366666666666667,"d":"27"},"2022-07-30","2022-09-01","2024-11-30","2022-08-15","2022-08-29","2023-12-10","2022-08-15","2022-08-29","2023-12-10","2022-08-15","2022-08-29","2023-12-10","2022-08-15","2022-08-29","2023-12-10","2022-08-15","2022-08-29","2023-12-10","2022-08-31","2022-08-31","2023-12-10","2022-09-30","2022-09-30","2023-12-10","2022-09-30","2022-09-30","2023-12-10","2022-09-30","2022-09-30","2023-12-10","2022-09-30","2022-09-30","2023-12-10","2022-10-24","2022-10-24","2023-12-10","2022-10-24","2022-10-24","2023-12-10","2022-10-27","2022-10-27","2023-12-10","2022-11-10","2022-11-10","2023-12-10","2022-11-10","2022-11-10","2023-12-10",null,"АБ-1","АБ-1","АБСт",null,"2025-06-30",{"$nulls":3},"●",null,null,"●",{"$nulls":3},"●",null,0,{"$f":"IF(YEAR(#REF!)=HU$8,$J35,0)","v":{"$error":"#REF!"}},{"$f":"IF(AND(YEAR(#REF!)<=HU$8,YEAR(#REF!)>HU$8),$J35,0)","v":{"$error":"#REF!"}},{"v":7519.36,"d":"7,519"},{"$nulls":7},{"v":2.974080827586207,"d":"3"},null,null,"▪"]
[36,"2.3.6","СД00.03.1.03.4","ЖК \"Светлая Долина\" ПК-3 ж/д 3-4",{"v":10362.95,"d":"10,363 "},"Материал рулонный кровельный гидроизоляционный верхний слой","основа: полиэстeр;температура гибкости на брусе R=25мм не менее -20; толщина 1м² не менее 3,8мм","м2",{"$f":"1730.022/580*L36","v":{"v":1306.2262659310345,"d":"1,306 "}},{"v":7519.36,"d":"7,519 "},{"v":7081.44,"d":"7,081 "},{"v":437.92,"d":"438 "},null,{"v":160,"d":"160 "},1,"18 (16)",1,"КПД, 1 Каркас","Перепривязка",{"v":4480,"d":"4,480 "},{"v":3521.28,"d":"3,521 "},{"v":311,"d":"311 "},{"$f":"SUM(IG36,#REF!,#REF!,#REF!,#REF!,#REF!,#REF!,#REF!)","v":{"$error":"#REF!"}},{"$error":"#REF!"},{"$nulls":4},"Прединвест",null,"2020-11-25","2020-12-25","2021-04-15","2021-04-30","2021-09-30","2021-10-31","2022-01-31",null,null,"2024-04-30","2024-10-31","2024-12-30","2020-11-25","2020-12-25","2021-04-15","2021-07-05","2021-11-06","2021-03-31","2022-01-31","2022-07-31","2022-09-30","2023-11-30","2024-01-31","2024-03-30","2020-11-25","2020-12-25","2021-04-15","2021-07-05","2021-11-30","2022-04-20","2022-05-30","2022-04-30","2022-07-31","2023-10-30","2023-12-30","2024-06-30","2022-06-01","2024-06-30","2022-06-01","2024-06-01","2022-06-01","2024-06-01","2022-06-01","2024-07-01","2021-12-30","2023-12-03","2021-12-04","2023-12-03","2021-12-04","2023-12-03","2021-12-04","2023-12-03","2021-12-04","2023-12-03","2021-12-04","2023-12-03","2021-12-04","2023-12-03","2021-12-04","2023-12-03","2021-12-04","2023-12-03","2021-12-04","2023-12-03","2021-12-04","2023-12-03","2021-12-04","2023-12-03","2021-12-04","2023-12-03","2021-12-04","2023-12-03","2021-12-04","2023-12-03","2021-12-04","2023-12-03","2021-12-30","2023-12-03","2021-12-04","2023-12-03","2021-12-30","2023-12-03","2021-12-30","2023-12-03","2021-12-30","2022-02-04","2023-12-31","2021-12-30","2022-02-04","2023-11-30","2021-12-30","2022-01-31","2023-11-30","2021-12-30","2022-01-31","2023-11-30","2022-05-05","2022-05-19","2023-11-30","2022-05-05","2022-05-19","2023-11-30",{"v":23.166666666666668,"d":"23"},{"v":24.366666666666667,"d":"24"},"2020-12-25","2021-07-05","2022-04-30","2022-05-14","2023-11-30","2022-05-15","2022-05-29","2023-11-30",{"$f":"(#REF!-#REF!)/30","v":{"$error":"#REF!"}},"2022-05-15","2022-05-29","2023-11-30","2022-05-15","2022-05-29","2023-11-30","2022-05-15","2022-05-29","2023-11-30","2022-05-15","2022-05-29","2023-11-30","2022-05-15","2022-05-29","2023-11-30","2022-05-15","2022-05-30","2023-11-30","2022-07-30","2022-07-30","2023-11-30","2022-07-30","2022-07-30","2023-11-30","2022-07-30","2022-07-30","2023-12-10","2022-07-30","2022-09-01","2024-11-30",{"v":27.366666666666667,"d":"27"},"2022-07-30","2022-09-01","2024-11-30","2022-08-15","2022-08-29","2023-12-10","2022-08-15","2022-08-29","2023-12-10","2022-08-15","2022-08-29","2023-12-10","2022-08-15","2022-08-29","2023-12-10","2022-08-15","2022-08-29","2023-12-10","2022-08-31","2022-08-31","2023-12-10","2022-09-30","2022-09-30","2023-12-10","2022-09-30","2022-09-30","2023-12-10","2022-09-30","2022-09-30","2023-12-10","2022-09-30","2022-09-30","2023-12-10","2022-10-24","2022-10-24","2023-12-10","2022-10-24","2022-10-24","2023-12-10","2022-10-27","2022-10-27","2023-12-10","2022-11-10","2022-11-10","2023-12-10","2022-11-10","2022-11-10","2023-12-10",null,"АБ-1","АБ-1","АБСт",null,"2025-06-30",{"$nulls":3},"●",null,null,"●",{"$nulls":3},"●",null,0,{"$f":"IF(YEAR(#REF!)=HU$8,$J36,0)","v":{"$error":"#REF!"}},{"$f":"IF(AND(YEAR(#REF!)<=HU$8,YEAR(#REF!)>HU$8),$J36,0)","v":{"$error":"#REF!"}},{"v":7519.36,"d":"7,519"},{"$nulls":7},{"v":1306.2262659310345,"d":"1,306"},null,null,"▪"]
[36,"2.3.6","СД00.03.1.03.4","ЖК \"Светлая Долина\" ПК-3 ж/д 3-4",{"v":10362.95,"d":"10,363 "},"Материал рулонный кровельный гидроизоляционный нижний слой","основа: полиэстeр;температура гибкости на брусе R=25мм не менее -20; толщина 1м² не менее 2,8мм","м2",{"$f":"1243.267/580*L37","v":{"v":938.7094562758622,"d":"939 "}},{"v":7519.36,"d":"7,519 "},{"v":7081.44,"d":"7,081 "},{"v":437.92,"d":"438 "},null,{"v":160,"d":"160 "},1,"18 (16)",1,"КПД, 1 Каркас","Перепривязка",{"v":4480,"d":"4,480 "},{"v":3521.28,"d":"3,521 "},{"v":311,"d":"311 "},{"$f":"SUM(IG37,#REF!,#REF!,#REF!,#REF!,#REF!,#REF!,#REF!)","v":{"$error":"#REF!"}},{"$error":"#REF!"},{"$nulls":4},"Прединвест",null,"2020-11-25","2020-12-25","2021-04-15","2021-04-30","2021-09-30","2021-10-31","2022-01-31",null,null,"2024-04-30","2024-10-31","2024-12-30","2020-11-25","2020-12-25","2021-04-15","2021-07-05","2021-11-06","2021-03-31","2022-01-31","2022-07-31","2022-09-30","2023-11-30","2024-01-31","2024-03-30","2020-11-25","2020-12-25","2021-04-15","2021-07-05","2021-11-30","2022-04-20","2022-05-30","2022-04-30","2022-07-31","2023-10-30","2023-12-30","2024-06-30","2022-06-01","2024-06-30","2022-06-01","2024-06-01","2022-06-01","2024-06-01","2022-06-01","2024-07-01","2021-12-30","2023-12-03","2021-12-04","2023-12-03","2021-12-04","2023-12-03","2021-12-04","2023-12-03","2021-12-04","2023-12-03","2021-12-04","2023-12-03","2021-12-04","2023-12-03","2021-12-04","2023-12-03","2021-12-04","2023-12-03","2021-12-04","2023-12-03","2021-12-04","2023-12-03","2021-12-04","2023-12-03","2021-12-04","2023-12-03","2021-12-04","2023-12-03","2021-12-04","2023-12-03","2021-12-04","2023-12-03","2021-12-30","2023-12-03","2021-12-04","2023-12-03","2021-12-30","2023-12-03","2021-12-30","2023-12-03","2021-12-30","2022-02-04","2023-12-31","2021-12-30","2022-02-04","2023-11-30","2021-12-30","2022-01-31","2023-11-30","2021-12-30","2022-01-31","2023-11-30","2022-05-05","2022-05-19","2023-11-30","2022-05-05","2022-05-19","2023-11-30",{"v":23.166666666666668,"d":"23"},{"v":24.366666666666667,"d":"24"},"2020-12-25","2021-07-05","2022-04-30","2022-05-14","2023-11-30","2022-05-15","2022-05-29","2023-11-30",{"$f":"(#REF!-#REF!)/30","v":{"$error":"#REF!"}},"2022-05-15","2022-05-29","2023-11-30","2022-05-15","2022-05-29","2023-11-30","2022-05-15","2022-05-29","2023-11-30","2022-05-15","2022-05-29","2023-11-30","2022-05-15","2022-05-29","2023-11-30","2022-05-15","2022-05-30","2023-11-30","2022-07-30","2022-07-30","2023-11-30","2022-07-30","2022-07-30","2023-11-30","2022-07-30","2022-07-30","2023-12-10","2022-07-30","2022-09-01","2024-11-30",{"v":27.366666666666667,"d":"27"},"2022-07-30","2022-09-01","2024-11-30","2022-08-15","2022-08-29","2023-12-10","2022-08-15","2022-08-29","2023-12-10","2022-08-15","2022-08-29","2023-12-10","2022-08-15","2022-08-29","2023-12-10","2022-08-15","2022-08-29","2023-12-10","2022-08-31","2022-08-31","2023-12-10","2022-09-30","2022-09-30","2023-12-10","2022-09-30","2022-09-30","2023-12-10","2022-09-30","2022-09-30","2023-12-10","2022-09-30","2022-09-30","2023-12-10","2022-10-24","2022-10-24","2023-12-10","2022-10-24","2022-10-24","2023-12-10","2022-10-27","2022-10-27","2023-12-10","2022-11-10","2022-11-10","2023-12-10","2022-11-10","2022-11-10","2023-12-10",null,"АБ-1","АБ-1","АБСт",null,"2025-06-30",{"$nulls":3},"●",null,null,"●",{"$nulls":3},"●",null,0,{"$f":"IF(YEAR(#REF!)=HU$8,$J37,0)","v":{"$error":"#REF!"}},{"$f":"IF(AND(YEAR(#REF!)<=HU$8,YEAR(#REF!)>HU$8),$J37,0)","v":{"$error":"#REF!"}},{"v":7519.36,"d":"7,519"},{"$nulls":7},{"v":938.7094562758622,"d":"939"},null,null,"▪"]
[null,"2.5","СД00.03.0.00.0","ЖК \"Светлая Долина\" ПК-5",{"$f":"E39","v":{"v":16356.92,"d":"16,357 "}}]
[null,"2.5.1","СД00.05.3.05.1","ЖК \"Светлая долина\" ПК-5 паркинг 5-1 на 506 м/м ",{"v":16356.92,"d":"16,357 "},"Плиты теплоизоляционные пенополистирольные ППС-25 150мм",null,"м3",{"$f":"140.294/580*L39","v":{"v":306.61979358620687,"d":"307 "}},{"v":1267.62,"d":"1,268 "},null,{"v":1267.62,"d":"1,268 "},{"v":506,"d":"506 "},null,null,9,null,"Каркас","Перепривязка",{"$nulls":228},{"$f":"I39/3","v":{"v":102.20659786206896,"d":"102"}},{"$f":"I39/3","v":{"v":102.20659786206896,"d":"102"}},{"$f":"I39/3","v":{"v":102.20659786206896,"d":"102"}}]
[null,"2.5.1","СД00.05.3.05.1","ЖК \"Светлая долина\" ПК-5 паркинг 5-1 на 506 м/м ",{"v":16356.92,"d":"16,357 "},"Керамзит М600",null,"м3",{"v":6.087,"d":"6.087 "},{"v":1267.62,"d":"1,268 "},null,{"v":1267.62,"d":"1,268 "},{"v":506,"d":"506 "},null,null,9,null,"Каркас","Перепривязка",{"$nulls":228},{"$f":"I40/3","v":{"v":2.029,"d":"2"}},{"$f":"I40/3","v":{"v":2.029,"d":"2"}},{"$f":"I40/3","v":{"v":2.029,"d":"2"}}]
[null,"2.5.1","СД00.05.3.05.1","ЖК \"Светлая долина\" ПК-5 паркинг 5-1 на 506 м/м ",{"v":16356.92,"d":"16,357 "},"Плиты теплоизоляционные пенополистирольные экструдированные 100мм",null,"м3",{"$f":"14.146/580*L41","v":{"v":30.916814689655173,"d":"31 "}},{"v":1267.62,"d":"1,268 "},null,{"v":1267.62,"d":"1,268 "},{"v":506,"d":"506 "},null,null,9,null,"Каркас","Перепривязка",{"$nulls":228},{"v":10.305604896551724,"d":"10"},{"v":10.305604896551724,"d":"10"},{"v":10.305604896551724,"d":"10"}]
[null,"2.5.1","СД00.05.3.05.1","ЖК \"Светлая долина\" ПК-5 паркинг 5-1 на 506 м/м ",{"v":16356.92,"d":"16,357 "},"Плиты теплоизоляционные пенополистирольные экструдированные 50мм",null,"м3",{"$f":"3.939/580*L42","v":{"v":8.60888824137931,"d":"9 "}},{"v":1267.62,"d":"1,268 "},null,{"v":1267.62,"d":"1,268 "},{"v":506,"d":"506 "},null,null,9,null,"Каркас","Перепривязка",{"$nulls":228},{"v":2.869629413793103,"d":"3"},{"v":2.869629413793103,"d":"3"},{"v":2.869629413793103,"d":"3"}]
[null,"2.5.1","СД00.05.3.05.1","ЖК \"Светлая долина\" ПК-5 паркинг 5-1 на 506 м/м ",{"v":16356.92,"d":"16,357 "},"Материал рулонный кровельный гидроизоляционный верхний слой","основа: полиэстeр;температура гибкости на брусе R=25мм не менее -20; толщина 1м² не менее 3,8мм","м2",{"$f":"1730.022/580*L43","v":{"v":3781.0525648965513,"d":"3,781 "}},{"v":1267.62,"d":"1,268 "},null,{"v":1267.62,"d":"1,268 "},{"v":506,"d":"506 "},null,null,9,null,"Каркас","Перепривязка",{"$nulls":228},{"v":1260.350854965517,"d":"1,260"},{"v":1260.350854965517,"d":"1,260"},{"v":1260.350854965517,"d":"1,260"}]
[null,"2.5.1","СД00.05.3.05.1","ЖК \"Светлая долина\" ПК-5 паркинг 5-1 на 506 м/м ",{"v":16356.92,"d":"16,357 "},"Материал рулонный кровельный гидроизоляционный нижний слой","основа: полиэстeр;температура гибкости на брусе R=25мм не менее -20; толщина 1м² не менее 2,8мм","м2",{"$f":"1243.267/580*L44","v":{"v":2717.224335413793,"d":"2,717 "}},{"v":1267.62,"d":"1,268 "},null,{"v":1267.62,"d":"1,268 "},{"v":506,"d":"506 "},null,null,9,null,"Каркас","Перепривязка",{"$nulls":228},{"v":905.741445137931,"d":"906"},{"v":905.741445137931,"d":"906"},{"v":905.741445137931,"d":"906"}]
[null,"2.5.2",null,"ЖК \"Светлая долина\" ПК-5 паркинг 5-2 на 506 м/м ",null,"Плиты теплоизоляционные пенополистирольные ППС-25 150мм",null,"м3",{"$f":"140.294/580*L45","v":{"v":306.61979358620687,"d":"307 "}},{"$f":"L45+K45","v":{"v":1267.62,"d":"1,268 "}},null,{"v":1267.62,"d":"1,268 "},{"v":506,"d":"506 "},null,null,9,null,"Каркас","Перепривязка",{"$nulls":235},{"$f":"I45/2","v":{"v":153.30989679310343,"d":"153"}},{"$f":"I45/2","v":{"v":153.30989679310343,"d":"153"}}]
[null,"2.5.2",null,"ЖК \"Светлая долина\" ПК-5 паркинг 5-2 на 506 м/м ",null,"Керамзит М600",null,"м3",{"v":6.087,"d":"6.087 "},{"$f":"L46+K46","v":{"v":1267.62,"d":"1,268 "}},null,{"v":1267.62,"d":"1,268 "},{"v":506,"d":"506 "},null,null,9,null,"Каркас","Перепривязка",{"$nulls":235},{"$f":"I46/2","v":{"v":3.0435,"d":"3"}},{"$f":"I46/2","v":{"v":3.0435,"d":"3"}}]
[null,"2.5.2",null,"ЖК \"Светлая долина\" ПК-5 паркинг 5-2 на 506 м/м ",null,"Плиты теплоизоляционные пенополистирольные экструдированные 100мм",null,"м3",{"$f":"14.146/580*L47","v":{"v":30.916814689655173,"d":"31 "}},{"v":1267.62,"d":"1,268 "},null,{"v":1267.62,"d":"1,268 "},{"v":506,"d":"506 "},null,null,9,null,"Каркас","Перепривязка",{"$nulls":235},{"v":15.458407344827586,"d":"15"},{"v":15.458407344827586,"d":"15"}]
[null,"2.5.2",null,"ЖК \"Светлая долина\" ПК-5 паркинг 5-2 на 506 м/м ",null,"Плиты теплоизоляционные пенополистирольные экструдированные 50мм",null,"м3",{"$f":"3.939/580*L48","v":{"v":8.60888824137931,"d":"9 "}},{"v":1267.62,"d":"1,268 "},null,{"v":1267.62,"d":"1,268 "},{"v":506,"d":"506 "},null,null,9,null,"Каркас","Перепривязка",{"$nulls":235},{"v":4.304444120689655,"d":"4"},{"v":4.304444120689655,"d":"4"}]
[null,"2.5.2",null,"ЖК \"Светлая долина\" ПК-5 паркинг 5-2 на 506 м/м ",null,"Материал рулонный кровельный гидроизоляционный верхний слой","основа: полиэстeр;температура гибкости на брусе R=25мм не менее -20; толщина 1м² не менее 3,8мм","м2",{"$f":"1730.022/580*L49","v":{"v":3781.0525648965513,"d":"3,781 "}},{"v":1267.62,"d":"1,268 "},null,{"v":1267.62,"d":"1,268 "},{"v":506,"d":"506 "},null,null,9,null,"Каркас","Перепривязка",{"$nulls":235},{"v":1890.5262824482757,"d":"1,891"},{"v":1890.5262824482757,"d":"1,891"}]
[null,"2.5.2",null,"ЖК \"Светлая долина\" ПК-5 паркинг 5-2 на 506 м/м ",null,"Материал рулонный кровельный гидроизоляционный нижний слой","основа: полиэстeр;температура гибкости на брусе R=25мм не менее -20; толщина 1м² не менее 2,8мм","м2",{"$f":"1243.267/580*L50","v":{"v":2717.224335413793,"d":"2,717 "}},{"v":1267.62,"d":"1,268 "},null,{"v":1267.62,"d":"1,268 "},{"v":506,"d":"506 "},null,null,9,null,"Каркас","Перепривязка",{"$nulls":235},{"v":1358.6121677068966,"d":"1,359"},{"v":1358.6121677068966,"d":"1,359"}]
[71,"3.4.1","СНМ1.01.0.00.0","ЖР \"Седьмое Небо\" ЖК \"Мой ритм\" Микрорайон М-1 ПК-1",{"$f":"SUM(E52:E63)","v":0},{"$nulls":5},{"v":302780.69999999995,"d":"302,781 "},{"v":41413.37999999999,"d":"41,413 "},{"v":1890,"d":"1,890 "},{"v":6366,"d":"6,366 "},null,null,{"$f":"SUM(Q52:Q63)","v":12},null,null,{"$f":"SUM(T52:T63)","v":0},{"$f":"SUM(U52:U63)","v":0},null,{"$f":"SUM(IG51,#REF!,#REF!,#REF!,#REF!,#REF!,#REF!,#REF!)","v":{"$error":"#REF!"}},{"$f":"T51-W51-Y51","v":{"$error":"#REF!"}},{"$nulls":42},"2020-08-01","2022-08-30","2021-03-01","2023-03-30","2021-08-01","2023-09-30","2021-07-01","2023-12-30","2021-07-01","2023-12-30","2021-07-01","2023-12-30","2021-07-01","2023-12-30","2021-09-01","2023-12-30","2021-09-01","2023-12-30","2021-09-01","2023-12-30","2021-10-01","2023-12-30","2021-09-01","2023-12-30","2021-09-01","2023-12-30",{"$f":"MIN(CO52:CO63)","v":"2021-11-02"},{"$f":"MAX(CP52:CP63)","v":"2023-12-30"},{"$f":"MIN(CQ52:CQ63)","v":"2021-12-01"},{"$f":"MAX(CR52:CR63)","v":"2024-09-30"},{"$f":"MIN(CS52:CS63)","v":"2021-12-01"},{"$f":"MAX(CT52:CT63)","v":"2024-09-30"},{"$f":"MIN(CU52:CU63)","v":"2021-12-01"},{"$f":"MAX(CV52:CV63)","v":"2024-09-30"},{"$f":"MIN(CW52:CW63)","v":"2022-04-25"},{"$f":"MAX(CX52:CX63)","v":"2025-04-05"},{"$f":"MIN(CY52:CY63)","v":"2022-05-21"},{"$f":"MAX(CZ52:CZ63)","v":"2025-04-05"},{"$f":"MIN(DA52:DA63)","v":"2022-05-21"},{"$f":"MAX(DB52:DB63)","v":"2025-04-05"},{"$f":"MIN(DC52:DC63)","v":"2022-05-21"},{"$f":"MAX(DD52:DD63)","v":"2025-04-05"},{"$f":"MIN(DE52:DE63)","v":"2022-05-21"},{"$f":"MAX(DF52:DF63)","v":"2025-04-05"},{"$f":"MIN(DG52:DG63)","v":"2022-05-21"},{"$f":"MAX(DH52:DH63)","v":"2025-04-05"},{"$f":"MIN(DI52:DI63)","v":"2022-05-21"},{"$f":"MAX(DJ52:DJ63)","v":"2025-04-05"},{"$f":"MIN(DK52:DK63)","v":"2022-05-21"},{"$f":"MIN(DL52:DL63)","v":"2022-06-04"},{"$f":"MAX(DM52:DM63)","v":"2025-04-05"},{"$f":"MIN(DN52:DN63)","v":"2022-05-21"},{"$f":"MIN(DO52:DO63)","v":"2022-06-04"},{"$f":"MAX(DP52:DP63)","v":"2025-10-30"},{"$f":"MIN(DQ52:DQ63)","v":"2022-05-21"},{"$f":"MIN(DR52:DR63)","v":"2022-06-04"},{"$f":"MAX(DS52:DS63)","v":"2025-10-30"},{"$f":"MIN(DT52:DT63)","v":"2022-05-21"},{"$f":"MIN(DU52:DU63)","v":"2022-06-04"},{"$f":"MAX(DV52:DV63)","v":"2025-10-30"},{"$f":"MIN(DW52:DW63)","v":"2022-05-21"},{"$f":"MIN(DX52:DX63)","v":"2022-06-04"},{"$f":"MAX(DY52:DY63)","v":"2024-11-30"},"2022-05-21","2022-06-04","2024-11-30",{"$nulls":4},"2022-05-21","2022-06-04","2024-11-30",{"$f":"MIN(EJ52:EJ63)","v":"2022-06-10"},{"$f":"MIN(EK52:EK63)","v":"2022-06-24"},{"$f":"MAX(EL52:EL63)","v":"2024-11-30"},null,{"$f":"MIN(EN52:EN63)","v":"2022-06-10"},{"$f":"MIN(EO52:EO63)","v":"2022-06-24"},{"$f":"MAX(EP52:EP63)","v":"2025-08-30"},{"$f":"MIN(EQ52:EQ63)","v":"2022-06-10"},{"$f":"MIN(ER52:ER63)","v":"2022-06-24"},{"$f":"MAX(ES52:ES63)","v":"2025-08-30"},{"$f":"MIN(ET52:ET63)","v":"2022-06-10"},{"$f":"MIN(EU52:EU63)","v":"2022-06-24"},{"$f":"MAX(EV52:EV63)","v":"2025-08-30"},"2022-06-10","2022-06-24","2025-08-30",{"$f":"MIN(EZ52:EZ63)","v":"2022-08-26"},{"$f":"MIN(FA52:FA63)","v":"2022-09-09"},{"$f":"MAX(FB52:FB63)","v":"2025-11-30"},{"$f":"MIN(FC52:FC63)","v":"2022-08-26"},{"$f":"MIN(FD52:FD63)","v":"2022-09-15"},{"$f":"MAX(FE52:FE63)","v":"2025-11-30"},"2022-08-26","2022-09-15","2025-11-30",{"$f":"MIN(FI52:FI63)","v":"2022-08-26"},{"$f":"MIN(FJ52:FJ63)","v":"2022-09-15"},{"$f":"MAX(FK52:FK63)","v":"2025-11-30"},{"$f":"MIN(FL52:FL63)","v":"2022-09-15"},{"$f":"MIN(FM52:FM63)","v":"2022-09-29"},{"$f":"MAX(FN52:FN63)","v":"2025-11-30"},"2022-09-15","2022-11-01","2025-11-01",null,{"$f":"MIN(FS52:FS63)","v":"2022-09-15"},{"$f":"MIN(FT52:FT63)","v":"2022-11-01"},{"$f":"MAX(FU52:FU63)","v":"2025-11-30"},"2022-09-15","2022-11-01","2025-11-30",{"$f":"MIN(FY52:FY63)","v":"2022-09-15"},{"$f":"MIN(FZ52:FZ63)","v":"2022-11-01"},{"$f":"MAX(GA52:GA63)","v":"2025-11-30"},{"$f":"MIN(GB52:GB63)","v":"2022-09-30"},{"$f":"MIN(GC52:GC63)","v":"2022-11-01"},{"$f":"MAX(GD52:GD63)","v":"2025-11-30"},{"$f":"MIN(GE52:GE63)","v":"2022-10-31"},{"$f":"MIN(GF52:GF63)","v":"2022-11-14"},{"$f":"MAX(GG52:GG63)","v":"2025-11-30"},{"$f":"MIN(GH52:GH63)","v":"2022-10-31"},{"$f":"MIN(GI52:GI63)","v":"2022-11-14"},{"$f":"MAX(GJ52:GJ63)","v":"2025-11-30"},{"$f":"MIN(GK52:GK63)","v":"2022-11-25"},{"$f":"MIN(GL52:GL63)","v":"2022-12-09"},{"$f":"MAX(GM52:GM63)","v":"2025-11-30"},{"$f":"MIN(GN52:GN63)","v":"2022-11-25"},{"$f":"MIN(GO52:GO63)","v":"2022-12-09"},{"$f":"MAX(GP52:GP63)","v":"2025-11-30"},{"$f":"MIN(GQ52:GQ63)","v":"2022-11-25"},{"$f":"MIN(GR52:GR63)","v":"2022-12-09"},{"$f":"MAX(GS52:GS63)","v":"2025-11-30"},{"$f":"MIN(GT52:GT63)","v":"2022-11-25"},{"$f":"MIN(GU52:GU63)","v":"2022-12-09"},{"$f":"MAX(GV52:GV63)","v":"2025-11-30"},{"$f":"MIN(GW52:GW63)","v":"2022-11-30"},{"$f":"MIN(GX52:GX63)","v":"2022-12-14"},{"$f":"MAX(GY52:GY63)","v":"2025-11-30"},{"$f":"MIN(GZ52:GZ63)","v":"2022-11-30"},{"$f":"MIN(HA52:HA63)","v":"2022-12-14"},{"$f":"MAX(HB52:HB63)","v":"2025-11-30"},{"$f":"MIN(HC52:HC63)","v":"2022-12-10"},{"$f":"MIN(HD52:HD63)","v":"2022-12-24"},{"$f":"MAX(HE52:HE63)","v":"2025-11-30"},{"$f":"MIN(HF52:HF63)","v":"2022-12-10"},{"$f":"MIN(HG52:HG63)","v":"2022-12-24"},{"$f":"MAX(HH52:HH63)","v":"2025-11-30"},{"$f":"MIN(HI52:HI63)","v":"2022-12-20"},{"$f":"MIN(HJ52:HJ63)","v":"2023-01-13"},{"$f":"MAX(HK52:HK63)","v":"2025-11-30"},{"$f":"MIN(HL52:HL63)","v":"2022-12-20"},{"$f":"MIN(HM52:HM63)","v":"2023-01-13"},{"$f":"MAX(HN52:HN63)","v":"2025-11-30"},{"$nulls":5},{"$f":"MAX(HT52:HT63)","v":"2026-06-30"},{"$f":"SUM(HU52:HU63)","v":0},0,0,0,0,0,{"$f":"SUM(IA52:IA63)","v":0},0,0,0,0,0,0,{"$error":"#REF!"},{"$error":"#REF!"},{"v":344194.0799999999,"d":"344,194"}]
[72,"3.4.1.1","СНМ1.01.1.01.1","ЖР \"Седьмое Небо\" ЖК \"Мой ритм\" Микрорайон М-1 ПК-1 ж/д 1-1",null,"Плиты теплоизоляционные пенополистирольные ППС-25 150мм",null,"м3",{"v":581.7677727931035,"d":"582 "},{"$f":"K52+L52","v":{"v":30244.519999999997,"d":"30,245 "}},{"v":25747.42,"d":"25,747 "},{"v":4497.1,"d":"4,497 "},{"v":315,"d":"315 "},{"v":590,"d":"590 "},3,"21-26",1,"Монолит","Новое ",{"$nulls":3},{"$f":"SUM(IG52,#REF!,#REF!,#REF!,#REF!,#REF!,#REF!,#REF!)","v":{"$error":"#REF!"}},{"$error":"#REF!"},{"$nulls":4},"Прединвест",{"$nulls":13},"нет","2019-08-10","2019-09-12","2020-05-13","2021-10-30","2022-05-01","2022-06-04","Не требуется","Не требуется","2025-09-30","2025-11-29","2025-12-31","нет","2019-08-10","2019-09-12","2020-05-13","2021-10-30","2022-08-15","2022-09-26","Не требуется","Не требуется","2025-10-30","2025-12-29","2026-06-30","2020-08-01","2022-08-30","2021-03-01","2023-03-30","2021-08-01","2023-09-30","2021-07-01","2023-12-30","2021-07-01","2023-12-30","2021-07-01","2023-12-30","2021-07-01","2023-12-30","2021-09-01","2023-12-30","2021-09-01","2023-12-30","2021-09-01","2023-12-30","2021-10-01","2023-12-30","2021-09-01","2023-12-30","2021-09-01","2023-12-30","2021-11-02","2023-12-30","2021-12-01","2024-09-30","2021-12-01","2024-09-30","2021-12-01","2024-09-30","2022-04-25","2025-04-05","2022-05-21","2025-04-05","2022-05-21","2025-04-05","2022-05-21","2025-04-05","2022-05-21","2025-04-05","2022-05-21","2025-04-05","2022-05-21","2025-04-05","2022-05-21",{"$f":"DK52+14","v":"2022-06-04"},"2025-04-05","2022-05-21",{"$f":"DN52+14","v":"2022-06-04"},"2025-10-30","2022-05-21",{"$f":"DQ52+14","v":"2022-06-04"},"2025-10-30","2022-05-21",{"$f":"DT52+14","v":"2022-06-04"},"2025-10-30","2022-05-21",{"$f":"DW52+14","v":"2022-06-04"},"2024-11-30","2022-05-21","2022-06-04","2024-11-30",{"$f":"(DM52-DL52)/30","v":{"v":34.53333333333333,"d":"35"}},{"$f":"(DM52-DK52)/30","v":35},"2019-08-10","2020-05-13","2022-05-21","2022-06-04","2024-11-30","2022-06-10",{"$f":"EJ52+14","v":"2022-06-24"},"2024-11-30",{"$f":"(#REF!-#REF!)/30","v":{"$error":"#REF!"}},"2022-06-10",{"$f":"EN52+14","v":"2022-06-24"},"2025-08-30","2022-06-10",{"$f":"EQ52+14","v":"2022-06-24"},"2025-08-30","2022-06-10",{"$f":"ET52+14","v":"2022-06-24"},"2025-08-30","2022-06-10","2022-06-24","2025-08-30","2022-08-26",{"$f":"EZ52+14","v":"2022-09-09"},"2025-11-30","2022-08-26","2022-09-15","2025-11-30","2022-08-26","2022-09-15","2025-11-30","2022-08-26","2022-09-15","2025-11-30","2022-09-15",{"$f":"FL52+14","v":"2022-09-29"},"2025-11-30","2022-09-15","2022-11-01","2025-11-01",{"$f":"(FQ52-FP52)/30","v":{"v":36.53333333333333,"d":"37"}},"2022-09-15","2022-11-01","2025-11-30","2022-09-15","2022-11-01","2025-11-30","2022-09-15","2022-11-01","2025-11-30","2022-09-30","2022-11-01","2025-11-30","2022-10-31","2022-11-14","2025-11-30","2022-10-31","2022-11-14","2025-11-30","2022-11-25",{"$f":"GK52+14","v":"2022-12-09"},"2025-11-30","2022-11-25",{"$f":"GN52+14","v":"2022-12-09"},"2025-11-30","2022-11-25",{"$f":"GQ52+14","v":"2022-12-09"},"2025-11-30","2022-11-25",{"$f":"GT52+14","v":"2022-12-09"},"2025-11-30","2022-11-30",{"$f":"GW52+14","v":"2022-12-14"},"2025-11-30","2022-11-30",{"$f":"GZ52+14","v":"2022-12-14"},"2025-11-30","2022-12-10",{"$f":"HC52+14","v":"2022-12-24"},"2025-11-30","2022-12-10",{"$f":"HF52+14","v":"2022-12-24"},"2025-11-30","2022-12-20",{"$f":"HI52+24","v":"2023-01-13"},"2025-11-30","2022-12-20",{"$f":"HL52+24","v":"2023-01-13"},"2025-11-30",null,"АБ-1","ТИГП","Не определен",null,"2026-06-30",{"$nulls":9},"●",null,null,{"$f":"SUM(HU52:IF52)","v":0},{"$f":"IF(YEAR(#REF!)=HU$8,$J52,0)","v":{"$error":"#REF!"}},{"$f":"IF(AND(YEAR(#REF!)<=HU$8,YEAR(#REF!)>HU$8),$J52,0)","v":{"$error":"#REF!"}},{"$f":"J52","v":{"v":30244.519999999997,"d":"30,245"}},{"$nulls":9},{"$f":"I52/3","v":{"v":193.9225909310345,"d":"194"}},{"$f":"I52/3","v":{"v":193.9225909310345,"d":"194"}},{"$f":"I52/3","v":{"v":193.9225909310345,"d":"194"}}]
[72,"3.4.1.1","СНМ1.01.1.01.1","ЖР \"Седьмое Небо\" ЖК \"Мой ритм\" Микрорайон М-1 ПК-1 ж/д 1-1",null,"Керамзит М600",null,"м3",{"v":589.3771065,"d":"589 "},{"v":30244.519999999997,"d":"30,245 "},{"v":25747.42,"d":"25,747 "},{"v":4497.1,"d":"4,497 "},{"v":315,"d":"315 "},{"v":590,"d":"590 "},3,"21-26",1,"Монолит","Новое ",{"$nulls":3},{"$f":"SUM(IG53,#REF!,#REF!,#REF!,#REF!,#REF!,#REF!,#REF!)","v":{"$error":"#REF!"}},{"$error":"#REF!"},{"$nulls":4},"Прединвест",{"$nulls":13},"нет","2019-08-10","2019-09-12","2020-05-13","2021-10-30","2022-05-01","2022-06-04","Не требуется","Не требуется","2025-09-30","2025-11-29","2025-12-31","нет","2019-08-10","2019-09-12","2020-05-13","2021-10-30","2022-08-15","2022-09-26","Не требуется","Не требуется","2025-10-30","2025-12-29","2026-06-30","2020-08-01","2022-08-30","2021-03-01","2023-03-30","2021-08-01","2023-09-30","2021-07-01","2023-12-30","2021-07-01","2023-12-30","2021-07-01","2023-12-30","2021-07-01","2023-12-30","2021-09-01","2023-12-30","2021-09-01","2023-12-30","2021-09-01","2023-12-30","2021-10-01","2023-12-30","2021-09-01","2023-12-30","2021-09-01","2023-12-30","2021-11-02","2023-12-30","2021-12-01","2024-09-30","2021-12-01","2024-09-30","2021-12-01","2024-09-30","2022-04-25","2025-04-05","2022-05-21","2025-04-05","2022-05-21","2025-04-05","2022-05-21","2025-04-05","2022-05-21","2025-04-05","2022-05-21","2025-04-05","2022-05-21","2025-04-05","2022-05-21","2022-06-04","2025-04-05","2022-05-21","2022-06-04","2025-10-30","2022-05-21","2022-06-04","2025-10-30","2022-05-21","2022-06-04","2025-10-30","2022-05-21","2022-06-04","2024-11-30","2022-05-21","2022-06-04","2024-11-30",{"v":34.53333333333333,"d":"35"},35,"2019-08-10","2020-05-13","2022-05-21","2022-06-04","2024-11-30","2022-06-10","2022-06-24","2024-11-30",{"$f":"(#REF!-#REF!)/30","v":{"$error":"#REF!"}},"2022-06-10","2022-06-24","2025-08-30","2022-06-10","2022-06-24","2025-08-30","2022-06-10","2022-06-24","2025-08-30","2022-06-10","2022-06-24","2025-08-30","2022-08-26","2022-09-09","2025-11-30","2022-08-26","2022-09-15","2025-11-30","2022-08-26","2022-09-15","2025-11-30","2022-08-26","2022-09-15","2025-11-30","2022-09-15","2022-09-29","2025-11-30","2022-09-15","2022-11-01","2025-11-01",{"v":36.53333333333333,"d":"37"},"2022-09-15","2022-11-01","2025-11-30","2022-09-15","2022-11-01","2025-11-30","2022-09-15","2022-11-01","2025-11-30","2022-09-30","2022-11-01","2025-11-30","2022-10-31","2022-11-14","2025-11-30","2022-10-31","2022-11-14","2025-11-30","2022-11-25","2022-12-09","2025-11-30","2022-11-25","2022-12-09","2025-11-30","2022-11-25","2022-12-09","2025-11-30","2022-11-25","2022-12-09","2025-11-30","2022-11-30","2022-12-14","2025-11-30","2022-11-30","2022-12-14","2025-11-30","2022-12-10","2022-12-24","2025-11-30","2022-12-10","2022-12-24","2025-11-30","2022-12-20","2023-01-13","2025-11-30","2022-12-20","2023-01-13","2025-11-30",null,"АБ-1","ТИГП","Не определен",null,"2026-06-30",{"$nulls":9},"●",null,null,0,{"$f":"IF(YEAR(#REF!)=HU$8,$J53,0)","v":{"$error":"#REF!"}},{"$f":"IF(AND(YEAR(#REF!)<=HU$8,YEAR(#REF!)>HU$8),$J53,0)","v":{"$error":"#REF!"}},{"v":30244.519999999997,"d":"30,245"},{"$nulls":9},{"$f":"I53/3","v":{"v":196.4590355,"d":"196"}},{"$f":"I53/3","v":{"v":196.4590355,"d":"196"}},{"$f":"I53/3","v":{"v":196.4590355,"d":"196"}}]
[72,"3.4.1.1","СНМ1.01.1.01.1","ЖР \"Седьмое Небо\" ЖК \"Мой ритм\" Микрорайон М-1 ПК-1 ж/д 1-1",null,"Плиты теплоизоляционные пенополистирольные экструдированные 100мм",null,"м3",{"v":58.66029134482759,"d":"59 "},{"v":30244.519999999997,"d":"30,245 "},{"v":25747.42,"d":"25,747 "},{"v":4497.1,"d":"4,497 "},{"v":315,"d":"315 "},{"v":590,"d":"590 "},3,"21-26",1,"Монолит","Новое ",{"$nulls":3},{"$f":"SUM(IG54,#REF!,#REF!,#REF!,#REF!,#REF!,#REF!,#REF!)","v":{"$error":"#REF!"}},{"$error":"#REF!"},{"$nulls":4},"Прединвест",{"$nulls":13},"нет","2019-08-10","2019-09-12","2020-05-13","2021-10-30","2022-05-01","2022-06-04","Не требуется","Не требуется","2025-09-30","2025-11-29","2025-12-31","нет","2019-08-10","2019-09-12","2020-05-13","2021-10-30","2022-08-15","2022-09-26","Не требуется","Не требуется","2025-10-30","2025-12-29","2026-06-30","2020-08-01","2022-08-30","2021-03-01","2023-03-30","2021-08-01","2023-09-30","2021-07-01","2023-12-30","2021-07-01","2023-12-30","2021-07-01","2023-12-30","2021-07-01","2023-12-30","2021-09-01","2023-12-30","2021-09-01","2023-12-30","2021-09-01","2023-12-30","2021-10-01","2023-12-30","2021-09-01","2023-12-30","2021-09-01","2023-12-30","2021-11-02","2023-12-30","2021-12-01","2024-09-30","2021-12-01","2024-09-30","2021-12-01","2024-09-30","2022-04-25","2025-04-05","2022-05-21","2025-04-05","2022-05-21","2025-04-05","2022-05-21","2025-04-05","2022-05-21","2025-04-05","2022-05-21","2025-04-05","2022-05-21","2025-04-05","2022-05-21","2022-06-04","2025-04-05","2022-05-21","2022-06-04","2025-10-30","2022-05-21","2022-06-04","2025-10-30","2022-05-21","2022-06-04","2025-10-30","2022-05-21","2022-06-04","2024-11-30","2022-05-21","2022-06-04","2024-11-30",{"v":34.53333333333333,"d":"35"},35,"2019-08-10","2020-05-13","2022-05-21","2022-06-04","2024-11-30","2022-06-10","2022-06-24","2024-11-30",{"$f":"(#REF!-#REF!)/30","v":{"$error":"#REF!"}},"2022-06-10","2022-06-24","2025-08-30","2022-06-10","2022-06-24","2025-08-30","2022-06-10","2022-06-24","2025-08-30","2022-06-10","2022-06-24","2025-08-30","2022-08-26","2022-09-09","2025-11-30","2022-08-26","2022-09-15","2025-11-30","2022-08-26","2022-09-15","2025-11-30","2022-08-26","2022-09-15","2025-11-30","2022-09-15","2022-09-29","2025-11-30","2022-09-15","2022-11-01","2025-11-01",{"v":36.53333333333333,"d":"37"},"2022-09-15","2022-11-01","2025-11-30","2022-09-15","2022-11-01","2025-11-30","2022-09-15","2022-11-01","2025-11-30","2022-09-30","2022-11-01","2025-11-30","2022-10-31","2022-11-14","2025-11-30","2022-10-31","2022-11-14","2025-11-30","2022-11-25","2022-12-09","2025-11-30","2022-11-25","2022-12-09","2025-11-30","2022-11-25","2022-12-09","2025-11-30","2022-11-25","2022-12-09","2025-11-30","2022-11-30","2022-12-14","2025-11-30","2022-11-30","2022-12-14","2025-11-30","2022-12-10","2022-12-24","2025-11-30","2022-12-10","2022-12-24","2025-11-30","2022-12-20","2023-01-13","2025-11-30","2022-12-20","2023-01-13","2025-11-30",null,"АБ-1","ТИГП","Не определен",null,"2026-06-30",{"$nulls":9},"●",null,null,0,{"$f":"IF(YEAR(#REF!)=HU$8,$J54,0)","v":{"$error":"#REF!"}},{"$f":"IF(AND(YEAR(#REF!)<=HU$8,YEAR(#REF!)>HU$8),$J54,0)","v":{"$error":"#REF!"}},{"v":30244.519999999997,"d":"30,245"},{"$nulls":9},{"v":19.553430448275865,"d":"20"},{"v":19.553430448275865,"d":"20"},{"v":19.553430448275865,"d":"20"}]
[72,"3.4.1.1","СНМ1.01.1.01.1","ЖР \"Седьмое Небо\" ЖК \"Мой ритм\" Микрорайон М-1 ПК-1 ж/д 1-1",null,"Плиты теплоизоляционные пенополистирольные экструдированные 50мм",null,"м3",{"v":16.334150120689657,"d":"16 "},{"v":30244.519999999997,"d":"30,245 "},{"v":25747.42,"d":"25,747 "},{"v":4497.1,"d":"4,497 "},{"v":315,"d":"315 "},{"v":590,"d":"590 "},3,"21-26",1,"Монолит","Новое ",{"$nulls":3},{"$f":"SUM(IG55,#REF!,#REF!,#REF!,#REF!,#REF!,#REF!,#REF!)","v":{"$error":"#REF!"}},{"$error":"#REF!"},{"$nulls":4},"Прединвест",{"$nulls":13},"нет","2019-08-10","2019-09-12","2020-05-13","2021-10-30","2022-05-01","2022-06-04","Не требуется","Не требуется","2025-09-30","2025-11-29","2025-12-31","нет","2019-08-10","2019-09-12","2020-05-13","2021-10-30","2022-08-15","2022-09-26","Не требуется","Не требуется","2025-10-30","2025-12-29","2026-06-30","2020-08-01","2022-08-30","2021-03-01","2023-03-30","2021-08-01","2023-09-30","2021-07-01","2023-12-30","2021-07-01","2023-12-30","2021-07-01","2023-12-30","2021-07-01","2023-12-30","2021-09-01","2023-12-30","2021-09-01","2023-12-30","2021-09-01","2023-12-30","2021-10-01","2023-12-30","2021-09-01","2023-12-30","2021-09-01","2023-12-30","2021-11-02","2023-12-30","2021-12-01","2024-09-30","2021-12-01","2024-09-30","2021-12-01","2024-09-30","2022-04-25","2025-04-05","2022-05-21","2025-04-05","2022-05-21","2025-04-05","2022-05-21","2025-04-05","2022-05-21","2025-04-05","2022-05-21","2025-04-05","2022-05-21","2025-04-05","2022-05-21","2022-06-04","2025-04-05","2022-05-21","2022-06-04","2025-10-30","2022-05-21","2022-06-04","2025-10-30","2022-05-21","2022-06-04","2025-10-30","2022-05-21","2022-06-04","2024-11-30","2022-05-21","2022-06-04","2024-11-30",{"v":34.53333333333333,"d":"35"},35,"2019-08-10","2020-05-13","2022-05-21","2022-06-04","2024-11-30","2022-06-10","2022-06-24","2024-11-30",{"$f":"(#REF!-#REF!)/30","v":{"$error":"#REF!"}},"2022-06-10","2022-06-24","2025-08-30","2022-06-10","2022-06-24","2025-08-30","2022-06-10","2022-06-24","2025-08-30","2022-06-10","2022-06-24","2025-08-30","2022-08-26","2022-09-09","2025-11-30","2022-08-26","2022-09-15","2025-11-30","2022-08-26","2022-09-15","2025-11-30","2022-08-26","2022-09-15","2025-11-30","2022-09-15","2022-09-29","2025-11-30","2022-09-15","2022-11-01","2025-11-01",{"v":36.53333333333333,"d":"37"},"2022-09-15","2022-11-01","2025-11-30","2022-09-15","2022-11-01","2025-11-30","2022-09-15","2022-11-01","2025-11-30","2022-09-30","2022-11-01","2025-11-30","2022-10-31","2022-11-14","2025-11-30","2022-10-31","2022-11-14","2025-11-30","2022-11-25","2022-12-09","2025-11-30","2022-11-25","2022-12-09","2025-11-30","2022-11-25","2022-12-09","2025-11-30","2022-11-25","2022-12-09","2025-11-30","2022-11-30","2022-12-14","2025-11-30","2022-11-30","2022-12-14","2025-11-30","2022-12-10","2022-12-24","2025-11-30","2022-12-10","2022-12-24","2025-11-30","2022-12-20","2023-01-13","2025-11-30","2022-12-20","2023-01-13","2025-11-30",null,"АБ-1","ТИГП","Не определен",null,"2026-06-30",{"$nulls":9},"●",null,null,0,{"$f":"IF(YEAR(#REF!)=HU$8,$J55,0)","v":{"$error":"#REF!"}},{"$f":"IF(AND(YEAR(#REF!)<=HU$8,YEAR(#REF!)>HU$8),$J55,0)","v":{"$error":"#REF!"}},{"v":30244.519999999997,"d":"30,245"},{"$nulls":9},{"v":5.4447167068965525,"d":"5"},{"v":5.4447167068965525,"d":"5"},{"v":5.4447167068965525,"d":"5"}]
[72,"3.4.1.1","СНМ1.01.1.01.1","ЖР \"Седьмое Небо\" ЖК \"Мой ритм\" Микрорайон М-1 ПК-1 ж/д 1-1",null,"Материал рулонный кровельный гидроизоляционный верхний слой","основа: полиэстeр;температура гибкости на брусе R=25мм не менее -20; толщина 1м² не менее 3,8мм","м2",{"v":7174.013470448276,"d":"7,174 "},{"v":30244.519999999997,"d":"30,245 "},{"v":25747.42,"d":"25,747 "},{"v":4497.1,"d":"4,497 "},{"v":315,"d":"315 "},{"v":590,"d":"590 "},3,"21-26",1,"Монолит","Новое ",{"$nulls":3},{"$f":"SUM(IG56,#REF!,#REF!,#REF!,#REF!,#REF!,#REF!,#REF!)","v":{"$error":"#REF!"}},{"$error":"#REF!"},{"$nulls":4},"Прединвест",{"$nulls":13},"нет","2019-08-10","2019-09-12","2020-05-13","2021-10-30","2022-05-01","2022-06-04","Не требуется","Не требуется","2025-09-30","2025-11-29","2025-12-31","нет","2019-08-10","2019-09-12","2020-05-13","2021-10-30","2022-08-15","2022-09-26","Не требуется","Не требуется","2025-10-30","2025-12-29","2026-06-30","2020-08-01","2022-08-30","2021-03-01","2023-03-30","2021-08-01","2023-09-30","2021-07-01","2023-12-30","2021-07-01","2023-12-30","2021-07-01","2023-12-30","2021-07-01","2023-12-30","2021-09-01","2023-12-30","2021-09-01","2023-12-30","2021-09-01","2023-12-30","2021-10-01","2023-12-30","2021-09-01","2023-12-30","2021-09-01","2023-12-30","2021-11-02","2023-12-30","2021-12-01","2024-09-30","2021-12-01","2024-09-30","2021-12-01","2024-09-30","2022-04-25","2025-04-05","2022-05-21","2025-04-05","2022-05-21","2025-04-05","2022-05-21","2025-04-05","2022-05-21","2025-04-05","2022-05-21","2025-04-05","2022-05-21","2025-04-05","2022-05-21","2022-06-04","2025-04-05","2022-05-21","2022-06-04","2025-10-30","2022-05-21","2022-06-04","2025-10-30","2022-05-21","2022-06-04","2025-10-30","2022-05-21","2022-06-04","2024-11-30","2022-05-21","2022-06-04","2024-11-30",{"v":34.53333333333333,"d":"35"},35,"2019-08-10","2020-05-13","2022-05-21","2022-06-04","2024-11-30","2022-06-10","2022-06-24","2024-11-30",{"$f":"(#REF!-#REF!)/30","v":{"$error":"#REF!"}},"2022-06-10","2022-06-24","2025-08-30","2022-06-10","2022-06-24","2025-08-30","2022-06-10","2022-06-24","2025-08-30","2022-06-10","2022-06-24","2025-08-30","2022-08-26","2022-09-09","2025-11-30","2022-08-26","2022-09-15","2025-11-30","2022-08-26","2022-09-15","2025-11-30","2022-08-26","2022-09-15","2025-11-30","2022-09-15","2022-09-29","2025-11-30","2022-09-15","2022-11-01","2025-11-01",{"v":36.53333333333333,"d":"37"},"2022-09-15","2022-11-01","2025-11-30","2022-09-15","2022-11-01","2025-11-30","2022-09-15","2022-11-01","2025-11-30","2022-09-30","2022-11-01","2025-11-30","2022-10-31","2022-11-14","2025-11-30","2022-10-31","2022-11-14","2025-11-30","2022-11-25","2022-12-09","2025-11-30","2022-11-25","2022-12-09","2025-11-30","2022-11-25","2022-12-09","2025-11-30","2022-11-25","2022-12-09","2025-11-30","2022-11-30","2022-12-14","2025-11-30","2022-11-30","2022-12-14","2025-11-30","2022-12-10","2022-12-24","2025-11-30","2022-12-10","2022-12-24","2025-11-30","2022-12-20","2023-01-13","2025-11-30","2022-12-20","2023-01-13","2025-11-30",null,"АБ-1","ТИГП","Не определен",null,"2026-06-30",{"$nulls":9},"●",null,null,0,{"$f":"IF(YEAR(#REF!)=HU$8,$J56,0)","v":{"$error":"#REF!"}},{"$f":"IF(AND(YEAR(#REF!)<=HU$8,YEAR(#REF!)>HU$8),$J56,0)","v":{"$error":"#REF!"}},{"v":30244.519999999997,"d":"30,245"},{"$nulls":9},{"v":2391.3378234827587,"d":"2,391"},{"v":2391.3378234827587,"d":"2,391"},{"v":2391.3378234827587,"d":"2,391"}]
[72,"3.4.1.1","СНМ1.01.1.01.1","ЖР \"Седьмое Небо\" ЖК \"Мой ритм\" Микрорайон М-1 ПК-1 ж/д 1-1",null,"Материал рулонный кровельный гидроизоляционный нижний слой","основа: полиэстeр;температура гибкости на брусе R=25мм не менее -20; толщина 1м² не менее 2,8мм","м2",{"v":5155.549585706897,"d":"5,156 "},{"v":30244.519999999997,"d":"30,245 "},{"v":25747.42,"d":"25,747 "},{"v":4497.1,"d":"4,497 "},{"v":315,"d":"315 "},{"v":590,"d":"590 "},3,"21-26",1,"Монолит","Новое ",{"$nulls":3},{"$f":"SUM(IG57,#REF!,#REF!,#REF!,#REF!,#REF!,#REF!,#REF!)","v":{"$error":"#REF!"}},{"$error":"#REF!"},{"$nulls":4},"Прединвест",{"$nulls":13},"нет","2019-08-10","2019-09-12","2020-05-13","2021-10-30","2022-05-01","2022-06-04","Не требуется","Не требуется","2025-09-30","2025-11-29","2025-12-31","нет","2019-08-10","2019-09-12","2020-05-13","2021-10-30","2022-08-15","2022-09-26","Не требуется","Не требуется","2025-10-30","2025-12-29","2026-06-30","2020-08-01","2022-08-30","2021-03-01","2023-03-30","2021-08-01","2023-09-30","2021-07-01","2023-12-30","2021-07-01","2023-12-30","2021-07-01","2023-12-30","2021-07-01","2023-12-30","2021-09-01","2023-12-30","2021-09-01","2023-12-30","2021-09-01","2023-12-30","2021-10-01","2023-12-30","2021-09-01","2023-12-30","2021-09-01","2023-12-30","2021-11-02","2023-12-30","2021-12-01","2024-09-30","2021-12-01","2024-09-30","2021-12-01","2024-09-30","2022-04-25","2025-04-05","2022-05-21","2025-04-05","2022-05-21","2025-04-05","2022-05-21","2025-04-05","2022-05-21","2025-04-05","2022-05-21","2025-04-05","2022-05-21","2025-04-05","2022-05-21","2022-06-04","2025-04-05","2022-05-21","2022-06-04","2025-10-30","2022-05-21","2022-06-04","2025-10-30","2022-05-21","2022-06-04","2025-10-30","2022-05-21","2022-06-04","2024-11-30","2022-05-21","2022-06-04","2024-11-30",{"v":34.53333333333333,"d":"35"},35,"2019-08-10","2020-05-13","2022-05-21","2022-06-04","2024-11-30","2022-06-10","2022-06-24","2024-11-30",{"$f":"(#REF!-#REF!)/30","v":{"$error":"#REF!"}},"2022-06-10","2022-06-24","2025-08-30","2022-06-10","2022-06-24","2025-08-30","2022-06-10","2022-06-24","2025-08-30","2022-06-10","2022-06-24","2025-08-30","2022-08-26","2022-09-09","2025-11-30","2022-08-26","2022-09-15","2025-11-30","2022-08-26","2022-09-15","2025-11-30","2022-08-26","2022-09-15","2025-11-30","2022-09-15","2022-09-29","2025-11-30","2022-09-15","2022-11-01","2025-11-01",{"v":36.53333333333333,"d":"37"},"2022-09-15","2022-11-01","2025-11-30","2022-09-15","2022-11-01","2025-11-30","2022-09-15","2022-11-01","2025-11-30","2022-09-30","2022-11-01","2025-11-30","2022-10-31","2022-11-14","2025-11-30","2022-10-31","2022-11-14","2025-11-30","2022-11-25","2022-12-09","2025-11-30","2022-11-25","2022-12-09","2025-11-30","2022-11-25","2022-12-09","2025-11-30","2022-11-25","2022-12-09","2025-11-30","2022-11-30","2022-12-14","2025-11-30","2022-11-30","2022-12-14","2025-11-30","2022-12-10","2022-12-24","2025-11-30","2022-12-10","2022-12-24","2025-11-30","2022-12-20","2023-01-13","2025-11-30","2022-12-20","2023-01-13","2025-11-30",null,"АБ-1","ТИГП","Не определен",null,"2026-06-30",{"$nulls":9},"●",null,null,0,{"$f":"IF(YEAR(#REF!)=HU$8,$J57,0)","v":{"$error":"#REF!"}},{"$f":"IF(AND(YEAR(#REF!)<=HU$8,YEAR(#REF!)>HU$8),$J57,0)","v":{"$error":"#REF!"}},{"v":30244.519999999997,"d":"30,245"},{"$nulls":9},{"v":1718.5165285689657,"d":"1,719"},{"v":1718.5165285689657,"d":"1,719"},{"v":1718.5165285689657,"d":"1,719"}]
[73,"3.4.1.2","СНМ1.01.1.01.2","ЖР \"Седьмое Небо\" ЖК \"Мой ритм\" Микрорайон М-1 ПК-1 ж/д 1-2",null,"Плиты теплоизоляционные пенополистирольные ППС-25 150мм",null,"м3",{"$f":"140.294/580*L58","v":{"v":581.7677727931035,"d":"582 "}},{"v":27121.16,"d":"27,121 "},{"v":24716.03,"d":"24,716 "},{"v":2405.13,"d":"2,405 "},null,{"v":471,"d":"471 "},7," 11-18",1,"Монолит","Новое ",{"$nulls":3},{"$f":"SUM(IG58,#REF!,#REF!,#REF!,#REF!,#REF!,#REF!,#REF!)","v":{"$error":"#REF!"}},{"$error":"#REF!"},{"$nulls":4},"Прединвест",{"$nulls":13},"нет","2019-08-10","2019-09-12","2020-05-13","2021-10-30","2022-05-01","2022-06-04","Не требуется","Не требуется","2025-09-30","2025-11-29","2025-12-31","нет","2019-08-10","2019-09-12","2020-05-13","2021-10-30","2022-08-15","2022-09-26","Не требуется","Не требуется","2025-10-30","2025-12-29","2026-06-30","2020-08-01","2022-08-30","2021-03-01","2023-03-30","2021-08-01","2023-09-30","2021-07-01","2023-08-30","2021-07-01","2023-08-30","2021-07-01","2023-08-30","2021-07-01","2023-08-30","2021-09-01","2023-12-30","2021-09-01","2023-12-30","2021-09-01","2023-12-30","2021-10-01","2023-12-30","2021-09-01","2023-12-30","2021-09-01","2023-12-30","2021-11-02","2023-12-30","2021-12-01","2024-09-30","2021-12-01","2024-09-30","2021-12-01","2024-09-30","2022-04-25","2025-04-05","2022-05-21","2025-04-05","2022-05-21","2025-04-05","2022-05-21","2025-04-05","2022-05-21","2025-04-05","2022-05-21","2025-04-05","2022-05-21","2025-04-05","2022-05-21","2022-06-04","2025-04-05","2022-05-21","2022-06-04","2025-10-30","2022-05-21","2022-06-04","2025-10-30","2022-05-21","2022-06-04","2025-10-30","2022-05-21","2022-06-04","2024-11-30","2022-05-21","2022-06-04","2024-11-30",{"v":34.53333333333333,"d":"35"},35,"2019-08-10","2020-05-13","2022-05-21","2022-06-04","2024-11-30","2022-06-10","2022-06-24","2024-11-30",{"$f":"(#REF!-#REF!)/30","v":{"$error":"#REF!"}},"2022-06-10","2022-06-24","2025-08-30","2022-06-10","2022-06-24","2025-08-30","2022-06-10","2022-06-24","2025-08-30","2022-06-10","2022-06-24","2025-08-30","2022-08-26","2022-09-09","2025-11-30","2022-08-26","2022-09-15","2025-11-30","2022-08-26","2022-09-15","2025-11-30","2022-08-26","2022-09-15","2025-11-30","2022-09-15","2022-09-29","2025-11-30","2022-09-15","2022-11-01","2025-11-01",{"v":36.53333333333333,"d":"37"},"2022-09-15","2022-11-01","2025-11-30","2022-09-15","2022-11-01","2025-11-30","2022-09-15","2022-11-01","2025-11-30","2022-09-30","2022-11-01","2025-11-30","2022-10-31","2022-11-14","2025-11-30","2022-10-31","2022-11-14","2025-11-30","2022-11-25","2022-12-09","2025-11-30","2022-11-25","2022-12-09","2025-11-30","2022-11-25","2022-12-09","2025-11-30","2022-11-25","2022-12-09","2025-11-30","2022-11-30","2022-12-14","2025-11-30","2022-11-30","2022-12-14","2025-11-30","2022-12-10","2022-12-24","2025-11-30","2022-12-10","2022-12-24","2025-11-30","2022-12-20","2023-01-13","2025-11-30","2022-12-20","2023-01-13","2025-11-30",null,"АБ-1","ТИГП","Не определен",null,"2026-06-30",{"$nulls":9},"●",null,null,0,{"$f":"IF(YEAR(#REF!)=HU$8,$J58,0)","v":{"$error":"#REF!"}},{"$f":"IF(AND(YEAR(#REF!)<=HU$8,YEAR(#REF!)>HU$8),$J58,0)","v":{"$error":"#REF!"}},{"v":27121.16,"d":"27,121"},{"$nulls":9},{"v":193.9225909310345,"d":"194"},{"v":193.9225909310345,"d":"194"},{"v":193.9225909310345,"d":"194"}]
[73,"3.4.1.2","СНМ1.01.1.01.2","ЖР \"Седьмое Небо\" ЖК \"Мой ритм\" Микрорайон М-1 ПК-1 ж/д 1-2",null,"Керамзит М600",null,"м3",{"$f":"142.129/580*L59","v":{"v":589.3771065,"d":"589 "}},{"v":27121.16,"d":"27,121 "},{"v":24716.03,"d":"24,716 "},{"v":2405.13,"d":"2,405 "},null,{"v":471,"d":"471 "},7," 11-18",1,"Монолит","Новое ",{"$nulls":3},{"$f":"SUM(IG59,#REF!,#REF!,#REF!,#REF!,#REF!,#REF!,#REF!)","v":{"$error":"#REF!"}},{"$error":"#REF!"},{"$nulls":4},"Прединвест",{"$nulls":13},"нет","2019-08-10","2019-09-12","2020-05-13","2021-10-30","2022-05-01","2022-06-04","Не требуется","Не требуется","2025-09-30","2025-11-29","2025-12-31","нет","2019-08-10","2019-09-12","2020-05-13","2021-10-30","2022-08-15","2022-09-26","Не требуется","Не требуется","2025-10-30","2025-12-29","2026-06-30","2020-08-01","2022-08-30","2021-03-01","2023-03-30","2021-08-01","2023-09-30","2021-07-01","2023-08-30","2021-07-01","2023-08-30","2021-07-01","2023-08-30","2021-07-01","2023-08-30","2021-09-01","2023-12-30","2021-09-01","2023-12-30","2021-09-01","2023-12-30","2021-10-01","2023-12-30","2021-09-01","2023-12-30","2021-09-01","2023-12-30","2021-11-02","2023-12-30","2021-12-01","2024-09-30","2021-12-01","2024-09-30","2021-12-01","2024-09-30","2022-04-25","2025-04-05","2022-05-21","2025-04-05","2022-05-21","2025-04-05","2022-05-21","2025-04-05","2022-05-21","2025-04-05","2022-05-21","2025-04-05","2022-05-21","2025-04-05","2022-05-21","2022-06-04","2025-04-05","2022-05-21","2022-06-04","2025-10-30","2022-05-21","2022-06-04","2025-10-30","2022-05-21","2022-06-04","2025-10-30","2022-05-21","2022-06-04","2024-11-30","2022-05-21","2022-06-04","2024-11-30",{"v":34.53333333333333,"d":"35"},35,"2019-08-10","2020-05-13","2022-05-21","2022-06-04","2024-11-30","2022-06-10","2022-06-24","2024-11-30",{"$f":"(#REF!-#REF!)/30","v":{"$error":"#REF!"}},"2022-06-10","2022-06-24","2025-08-30","2022-06-10","2022-06-24","2025-08-30","2022-06-10","2022-06-24","2025-08-30","2022-06-10","2022-06-24","2025-08-30","2022-08-26","2022-09-09","2025-11-30","2022-08-26","2022-09-15","2025-11-30","2022-08-26","2022-09-15","2025-11-30","2022-08-26","2022-09-15","2025-11-30","2022-09-15","2022-09-29","2025-11-30","2022-09-15","2022-11-01","2025-11-01",{"v":36.53333333333333,"d":"37"},"2022-09-15","2022-11-01","2025-11-30","2022-09-15","2022-11-01","2025-11-30","2022-09-15","2022-11-01","2025-11-30","2022-09-30","2022-11-01","2025-11-30","2022-10-31","2022-11-14","2025-11-30","2022-10-31","2022-11-14","2025-11-30","2022-11-25","2022-12-09","2025-11-30","2022-11-25","2022-12-09","2025-11-30","2022-11-25","2022-12-09","2025-11-30","2022-11-25","2022-12-09","2025-11-30","2022-11-30","2022-12-14","2025-11-30","2022-11-30","2022-12-14","2025-11-30","2022-12-10","2022-12-24","2025-11-30","2022-12-10","2022-12-24","2025-11-30","2022-12-20","2023-01-13","2025-11-30","2022-12-20","2023-01-13","2025-11-30",null,"АБ-1","ТИГП","Не определен",null,"2026-06-30",{"$nulls":9},"●",null,null,0,{"$f":"IF(YEAR(#REF!)=HU$8,$J59,0)","v":{"$error":"#REF!"}},{"$f":"IF(AND(YEAR(#REF!)<=HU$8,YEAR(#REF!)>HU$8),$J59,0)","v":{"$error":"#REF!"}},{"v":27121.16,"d":"27,121"},{"$nulls":9},{"v":196.4590355,"d":"196"},{"v":196.4590355,"d":"196"},{"v":196.4590355,"d":"196"}]
[73,"3.4.1.2","СНМ1.01.1.01.2","ЖР \"Седьмое Небо\" ЖК \"Мой ритм\" Микрорайон М-1 ПК-1 ж/д 1-2",null,"Плиты теплоизоляционные пенополистирольные экструдированные 100мм",null,"м3",{"$f":"14.146/580*L60","v":{"v":58.66029134482759,"d":"59 "}},{"v":27121.16,"d":"27,121 "},{"v":24716.03,"d":"24,716 "},{"v":2405.13,"d":"2,405 "},null,{"v":471,"d":"471 "},7," 11-18",1,"Монолит","Новое ",{"$nulls":3},{"$f":"SUM(IG60,#REF!,#REF!,#REF!,#REF!,#REF!,#REF!,#REF!)","v":{"$error":"#REF!"}},{"$error":"#REF!"},{"$nulls":4},"Прединвест",{"$nulls":13},"нет","2019-08-10","2019-09-12","2020-05-13","2021-10-30","2022-05-01","2022-06-04","Не требуется","Не требуется","2025-09-30","2025-11-29","2025-12-31","нет","2019-08-10","2019-09-12","2020-05-13","2021-10-30","2022-08-15","2022-09-26","Не требуется","Не требуется","2025-10-30","2025-12-29","2026-06-30","2020-08-01","2022-08-30","2021-03-01","2023-03-30","2021-08-01","2023-09-30","2021-07-01","2023-08-30","2021-07-01","2023-08-30","2021-07-01","2023-08-30","2021-07-01","2023-08-30","2021-09-01","2023-12-30","2021-09-01","2023-12-30","2021-09-01","2023-12-30","2021-10-01","2023-12-30","2021-09-01","2023-12-30","2021-09-01","2023-12-30","2021-11-02","2023-12-30","2021-12-01","2024-09-30","2021-12-01","2024-09-30","2021-12-01","2024-09-30","2022-04-25","2025-04-05","2022-05-21","2025-04-05","2022-05-21","2025-04-05","2022-05-21","2025-04-05","2022-05-21","2025-04-05","2022-05-21","2025-04-05","2022-05-21","2025-04-05","2022-05-21","2022-06-04","2025-04-05","2022-05-21","2022-06-04","2025-10-30","2022-05-21","2022-06-04","2025-10-30","2022-05-21","2022-06-04","2025-10-30","2022-05-21","2022-06-04","2024-11-30","2022-05-21","2022-06-04","2024-11-30",{"v":34.53333333333333,"d":"35"},35,"2019-08-10","2020-05-13","2022-05-21","2022-06-04","2024-11-30","2022-06-10","2022-06-24","2024-11-30",{"$f":"(#REF!-#REF!)/30","v":{"$error":"#REF!"}},"2022-06-10","2022-06-24","2025-08-30","2022-06-10","2022-06-24","2025-08-30","2022-06-10","2022-06-24","2025-08-30","2022-06-10","2022-06-24","2025-08-30","2022-08-26","2022-09-09","2025-11-30","2022-08-26","2022-09-15","2025-11-30","2022-08-26","2022-09-15","2025-11-30","2022-08-26","2022-09-15","2025-11-30","2022-09-15","2022-09-29","2025-11-30","2022-09-15","2022-11-01","2025-11-01",{"v":36.53333333333333,"d":"37"},"2022-09-15","2022-11-01","2025-11-30","2022-09-15","2022-11-01","2025-11-30","2022-09-15","2022-11-01","2025-11-30","2022-09-30","2022-11-01","2025-11-30","2022-10-31","2022-11-14","2025-11-30","2022-10-31","2022-11-14","2025-11-30","2022-11-25","2022-12-09","2025-11-30","2022-11-25","2022-12-09","2025-11-30","2022-11-25","2022-12-09","2025-11-30","2022-11-25","2022-12-09","2025-11-30","2022-11-30","2022-12-14","2025-11-30","2022-11-30","2022-12-14","2025-11-30","2022-12-10","2022-12-24","2025-11-30","2022-12-10","2022-12-24","2025-11-30","2022-12-20","2023-01-13","2025-11-30","2022-12-20","2023-01-13","2025-11-30",null,"АБ-1","ТИГП","Не определен",null,"2026-06-30",{"$nulls":9},"●",null,null,0,{"$f":"IF(YEAR(#REF!)=HU$8,$J60,0)","v":{"$error":"#REF!"}},{"$f":"IF(AND(YEAR(#REF!)<=HU$8,YEAR(#REF!)>HU$8),$J60,0)","v":{"$error":"#REF!"}},{"v":27121.16,"d":"27,121"},{"$nulls":9},{"v":19.553430448275865,"d":"20"},{"v":19.553430448275865,"d":"20"},{"v":19.553430448275865,"d":"20"}]
[73,"3.4.1.2","СНМ1.01.1.01.2","ЖР \"Седьмое Небо\" ЖК \"Мой ритм\" Микрорайон М-1 ПК-1 ж/д 1-2",null,"Плиты теплоизоляционные пенополистирольные экструдированные 50мм",null,"м3",{"$f":"3.939/580*L61","v":{"v":16.334150120689657,"d":"16 "}},{"v":27121.16,"d":"27,121 "},{"v":24716.03,"d":"24,716 "},{"v":2405.13,"d":"2,405 "},null,{"v":471,"d":"471 "},7," 11-18",1,"Монолит","Новое ",{"$nulls":3},{"$f":"SUM(IG61,#REF!,#REF!,#REF!,#REF!,#REF!,#REF!,#REF!)","v":{"$error":"#REF!"}},{"$error":"#REF!"},{"$nulls":4},"Прединвест",{"$nulls":13},"нет","2019-08-10","2019-09-12","2020-05-13","2021-10-30","2022-05-01","2022-06-04","Не требуется","Не требуется","2025-09-30","2025-11-29","2025-12-31","нет","2019-08-10","2019-09-12","2020-05-13","2021-10-30","2022-08-15","2022-09-26","Не требуется","Не требуется","2025-10-30","2025-12-29","2026-06-30","2020-08-01","2022-08-30","2021-03-01","2023-03-30","2021-08-01","2023-09-30","2021-07-01","2023-08-30","2021-07-01","2023-08-30","2021-07-01","2023-08-30","2021-07-01","2023-08-30","2021-09-01","2023-12-30","2021-09-01","2023-12-30","2021-09-01","2023-12-30","2021-10-01","2023-12-30","2021-09-01","2023-12-30","2021-09-01","2023-12-30","2021-11-02","2023-12-30","2021-12-01","2024-09-30","2021-12-01","2024-09-30","2021-12-01","2024-09-30","2022-04-25","2025-04-05","2022-05-21","2025-04-05","2022-05-21","2025-04-05","2022-05-21","2025-04-05","2022-05-21","2025-04-05","2022-05-21","2025-04-05","2022-05-21","2025-04-05","2022-05-21","2022-06-04","2025-04-05","2022-05-21","2022-06-04","2025-10-30","2022-05-21","2022-06-04","2025-10-30","2022-05-21","2022-06-04","2025-10-30","2022-05-21","2022-06-04","2024-11-30","2022-05-21","2022-06-04","2024-11-30",{"v":34.53333333333333,"d":"35"},35,"2019-08-10","2020-05-13","2022-05-21","2022-06-04","2024-11-30","2022-06-10","2022-06-24","2024-11-30",{"$f":"(#REF!-#REF!)/30","v":{"$error":"#REF!"}},"2022-06-10","2022-06-24","2025-08-30","2022-06-10","2022-06-24","2025-08-30","2022-06-10","2022-06-24","2025-08-30","2022-06-10","2022-06-24","2025-08-30","2022-08-26","2022-09-09","2025-11-30","2022-08-26","2022-09-15","2025-11-30","2022-08-26","2022-09-15","2025-11-30","2022-08-26","2022-09-15","2025-11-30","2022-09-15","2022-09-29","2025-11-30","2022-09-15","2022-11-01","2025-11-01",{"v":36.53333333333333,"d":"37"},"2022-09-15","2022-11-01","2025-11-30","2022-09-15","2022-11-01","2025-11-30","2022-09-15","2022-11-01","2025-11-30","2022-09-30","2022-11-01","2025-11-30","2022-10-31","2022-11-14","2025-11-30","2022-10-31","2022-11-14","2025-11-30","2022-11-25","2022-12-09","2025-11-30","2022-11-25","2022-12-09","2025-11-30","2022-11-25","2022-12-09","2025-11-30","2022-11-25","2022-12-09","2025-11-30","2022-11-30","2022-12-14","2025-11-30","2022-11-30","2022-12-14","2025-11-30","2022-12-10","2022-12-24","2025-11-30","2022-12-10","2022-12-24","2025-11-30","2022-12-20","2023-01-13","2025-11-30","2022-12-20","2023-01-13","2025-11-30",null,"АБ-1","ТИГП","Не определен",null,"2026-06-30",{"$nulls":9},"●",null,null,0,{"$f":"IF(YEAR(#REF!)=HU$8,$J61,0)","v":{"$error":"#REF!"}},{"$f":"IF(AND(YEAR(#REF!)<=HU$8,YEAR(#REF!)>HU$8),$J61,0)","v":{"$error":"#REF!"}},{"v":27121.16,"d":"27,121"},{"$nulls":9},{"v":5.4447167068965525,"d":"5"},{"v":5.4447167068965525,"d":"5"},{"v":5.4447167068965525,"d":"5"}]
[73,"3.4.1.2","СНМ1.01.1.01.2","ЖР \"Седьмое Небо\" ЖК \"Мой ритм\" Микрорайон М-1 ПК-1 ж/д 1-2",null,"Материал рулонный кровельный гидроизоляционный верхний слой","основа: полиэстeр;температура гибкости на брусе R=25мм не менее -20; толщина 1м² не менее 3,8мм","м2",{"$f":"1730.022/580*L62","v":{"v":7174.013470448276,"d":"7,174 "}},{"v":27121.16,"d":"27,121 "},{"v":24716.03,"d":"24,716 "},{"v":2405.13,"d":"2,405 "},null,{"v":471,"d":"471 "},7," 11-18",1,"Монолит","Новое ",{"$nulls":3},{"$f":"SUM(IG62,#REF!,#REF!,#REF!,#REF!,#REF!,#REF!,#REF!)","v":{"$error":"#REF!"}},{"$error":"#REF!"},{"$nulls":4},"Прединвест",{"$nulls":13},"нет","2019-08-10","2019-09-12","2020-05-13","2021-10-30","2022-05-01","2022-06-04","Не требуется","Не требуется","2025-09-30","2025-11-29","2025-12-31","нет","2019-08-10","2019-09-12","2020-05-13","2021-10-30","2022-08-15","2022-09-26","Не требуется","Не требуется","2025-10-30","2025-12-29","2026-06-30","2020-08-01","2022-08-30","2021-03-01","2023-03-30","2021-08-01","2023-09-30","2021-07-01","2023-08-30","2021-07-01","2023-08-30","2021-07-01","2023-08-30","2021-07-01","2023-08-30","2021-09-01","2023-12-30","2021-09-01","2023-12-30","2021-09-01","2023-12-30","2021-10-01","2023-12-30","2021-09-01","2023-12-30","2021-09-01","2023-12-30","2021-11-02","2023-12-30","2021-12-01","2024-09-30","2021-12-01","2024-09-30","2021-12-01","2024-09-30","2022-04-25","2025-04-05","2022-05-21","2025-04-05","2022-05-21","2025-04-05","2022-05-21","2025-04-05","2022-05-21","2025-04-05","2022-05-21","2025-04-05","2022-05-21","2025-04-05","2022-05-21","2022-06-04","2025-04-05","2022-05-21","2022-06-04","2025-10-30","2022-05-21","2022-06-04","2025-10-30","2022-05-21","2022-06-04","2025-10-30","2022-05-21","2022-06-04","2024-11-30","2022-05-21","2022-06-04","2024-11-30",{"v":34.53333333333333,"d":"35"},35,"2019-08-10","2020-05-13","2022-05-21","2022-06-04","2024-11-30","2022-06-10","2022-06-24","2024-11-30",{"$f":"(#REF!-#REF!)/30","v":{"$error":"#REF!"}},"2022-06-10","2022-06-24","2025-08-30","2022-06-10","2022-06-24","2025-08-30","2022-06-10","2022-06-24","2025-08-30","2022-06-10","2022-06-24","2025-08-30","2022-08-26","2022-09-09","2025-11-30","2022-08-26","2022-09-15","2025-11-30","2022-08-26","2022-09-15","2025-11-30","2022-08-26","2022-09-15","2025-11-30","2022-09-15","2022-09-29","2025-11-30","2022-09-15","2022-11-01","2025-11-01",{"v":36.53333333333333,"d":"37"},"2022-09-15","2022-11-01","2025-11-30","2022-09-15","2022-11-01","2025-11-30","2022-09-15","2022-11-01","2025-11-30","2022-09-30","2022-11-01","2025-11-30","2022-10-31","2022-11-14","2025-11-30","2022-10-31","2022-11-14","2025-11-30","2022-11-25","2022-12-09","2025-11-30","2022-11-25","2022-12-09","2025-11-30","2022-11-25","2022-12-09","2025-11-30","2022-11-25","2022-12-09","2025-11-30","2022-11-30","2022-12-14","2025-11-30","2022-11-30","2022-12-14","2025-11-30","2022-12-10","2022-12-24","2025-11-30","2022-12-10","2022-12-24","2025-11-30","2022-12-20","2023-01-13","2025-11-30","2022-12-20","2023-01-13","2025-11-30",null,"АБ-1","ТИГП","Не определен",null,"2026-06-30",{"$nulls":9},"●",null,null,0,{"$f":"IF(YEAR(#REF!)=HU$8,$J62,0)","v":{"$error":"#REF!"}},{"$f":"IF(AND(YEAR(#REF!)<=HU$8,YEAR(#REF!)>HU$8),$J62,0)","v":{"$error":"#REF!"}},{"v":27121.16,"d":"27,121"},{"$nulls":9},{"v":2391.3378234827587,"d":"2,391"},{"v":2391.3378234827587,"d":"2,391"},{"v":2391.3378234827587,"d":"2,391"}]
[73,"3.4.1.2","СНМ1.01.1.01.2","ЖР \"Седьмое Небо\" ЖК \"Мой ритм\" Микрорайон М-1 ПК-1 ж/д 1-2",null,"Материал рулонный кровельный гидроизоляционный нижний слой","основа: полиэстeр;температура гибкости на брусе R=25мм не менее -20; толщина 1м² не менее 2,8мм","м2",{"$f":"1243.267/580*L63","v":{"v":5155.549585706897,"d":"5,156 "}},{"v":27121.16,"d":"27,121 "},{"v":24716.03,"d":"24,716 "},{"v":2405.13,"d":"2,405 "},null,{"v":471,"d":"471 "},7," 11-18",1,"Монолит","Новое ",{"$nulls":3},{"$f":"SUM(IG63,#REF!,#REF!,#REF!,#REF!,#REF!,#REF!,#REF!)","v":{"$error":"#REF!"}},{"$error":"#REF!"},{"$nulls":4},"Прединвест",{"$nulls":13},"нет","2019-08-10","2019-09-12","2020-05-13","2021-10-30","2022-05-01","2022-06-04","Не требуется","Не требуется","2025-09-30","2025-11-29","2025-12-31","нет","2019-08-10","2019-09-12","2020-05-13","2021-10-30","2022-08-15","2022-09-26","Не требуется","Не требуется","2025-10-30","2025-12-29","2026-06-30","2020-08-01","2022-08-30","2021-03-01","2023-03-30","2021-08-01","2023-09-30","2021-07-01","2023-08-30","2021-07-01","2023-08-30","2021-07-01","2023-08-30","2021-07-01","2023-08-30","2021-09-01","2023-12-30","2021-09-01","2023-12-30","2021-09-01","2023-12-30","2021-10-01","2023-12-30","2021-09-01","2023-12-30","2021-09-01","2023-12-30","2021-11-02","2023-12-30","2021-12-01","2024-09-30","2021-12-01","2024-09-30","2021-12-01","2024-09-30","2022-04-25","2025-04-05","2022-05-21","2025-04-05","2022-05-21","2025-04-05","2022-05-21","2025-04-05","2022-05-21","2025-04-05","2022-05-21","2025-04-05","2022-05-21","2025-04-05","2022-05-21","2022-06-04","2025-04-05","2022-05-21","2022-06-04","2025-10-30","2022-05-21","2022-06-04","2025-10-30","2022-05-21","2022-06-04","2025-10-30","2022-05-21","2022-06-04","2024-11-30","2022-05-21","2022-06-04","2024-11-30",{"v":34.53333333333333,"d":"35"},35,"2019-08-10","2020-05-13","2022-05-21","2022-06-04","2024-11-30","2022-06-10","2022-06-24","2024-11-30",{"$f":"(#REF!-#REF!)/30","v":{"$error":"#REF!"}},"2022-06-10","2022-06-24","2025-08-30","2022-06-10","2022-06-24","2025-08-30","2022-06-10","2022-06-24","2025-08-30","2022-06-10","2022-06-24","2025-08-30","2022-08-26","2022-09-09","2025-11-30","2022-08-26","2022-09-15","2025-11-30","2022-08-26","2022-09-15","2025-11-30","2022-08-26","2022-09-15","2025-11-30","2022-09-15","2022-09-29","2025-11-30","2022-09-15","2022-11-01","2025-11-01",{"v":36.53333333333333,"d":"37"},"2022-09-15","2022-11-01","2025-11-30","2022-09-15","2022-11-01","2025-11-30","2022-09-15","2022-11-01","2025-11-30","2022-09-30","2022-11-01","2025-11-30","2022-10-31","2022-11-14","2025-11-30","2022-10-31","2022-11-14","2025-11-30","2022-11-25","2022-12-09","2025-11-30","2022-11-25","2022-12-09","2025-11-30","2022-11-25","2022-12-09","2025-11-30","2022-11-25","2022-12-09","2025-11-30","2022-11-30","2022-12-14","2025-11-30","2022-11-30","2022-12-14","2025-11-30","2022-12-10","2022-12-24","2025-11-30","2022-12-10","2022-12-24","2025-11-30","2022-12-20","2023-01-13","2025-11-30","2022-12-20","2023-01-13","2025-11-30",null,"АБ-1","ТИГП","Не определен",null,"2026-06-30",{"$nulls":9},"●",null,null,0,{"$f":"IF(YEAR(#REF!)=HU$8,$J63,0)","v":{"$error":"#REF!"}},{"$f":"IF(AND(YEAR(#REF!)<=HU$8,YEAR(#REF!)>HU$8),$J63,0)","v":{"$error":"#REF!"}},{"v":27121.16,"d":"27,121"},{"$nulls":9},{"v":1718.5165285689657,"d":"1,719"},{"v":1718.5165285689657,"d":"1,719"},{"v":1718.5165285689657,"d":"1,719"}]
[266,"13.1.2","СК00.01.0.00.0","ЖК \"Салават Купере\"  Квартал №1",{"$f":"SUM(E65:E131)","v":0},{"$nulls":5},{"$f":"SUM(K65:K131)","v":{"v":503344.9600000001,"d":"503,345 "}},{"$f":"SUM(L65:L131)","v":{"v":34069.24,"d":"34,069 "}},{"$f":"SUM(M65:M131)","v":0},{"$f":"SUM(N65:N131)","v":{"v":9568,"d":"9,568 "}},null,null,{"$f":"SUM(Q65:Q131)","v":67},null,null,{"$f":"SUM(T65:T131)","v":{"v":338398.0592,"d":"338,398 "}},{"$f":"SUM(U65:U131)","v":{"v":265980.87453119986,"d":"265,981 "}},{"$f":"SUM(V65:V131)","v":{"v":24870.545200000022,"d":"24,871 "}},{"$f":"SUM(IG64,#REF!,#REF!,#REF!,#REF!,#REF!,#REF!,#REF!)","v":{"$error":"#REF!"}},{"$error":"#REF!"},{"$f":"SUM(Y65:Y131)","v":0},{"$f":"IG64+#REF!+#REF!+#REF!+#REF!+#REF!+#REF!+#REF!","v":{"$error":"#REF!"}},{"$f":"J64-Z64","v":{"$error":"#REF!"}},{"$nulls":39},"2020-08-01","2022-06-30","2020-07-01","2022-11-30","2020-07-01","2022-08-30","2020-06-01","2022-07-03","2020-06-01","2022-07-03","2020-06-01","2022-07-03","2020-06-01","2022-07-03","2020-06-01","2022-07-03","2020-06-01","2022-07-03","2020-06-01","2022-07-03","2020-06-01","2022-07-03","2020-06-01","2022-07-03","2020-06-01","2022-07-03",{"$f":"MIN(CO65:CO131)","v":"00:00:00"},{"$f":"MAX(CP65:CP131)","v":"00:00:00"},{"$f":"MIN(CQ65:CQ131)","v":"00:00:00"},{"$f":"MAX(CR65:CR131)","v":"00:00:00"},{"$f":"MIN(CS65:CS131)","v":"00:00:00"},{"$f":"MAX(CT65:CT131)","v":"00:00:00"},{"$f":"MIN(CU65:CU131)","v":"00:00:00"},{"$f":"MAX(CV65:CV131)","v":"00:00:00"},{"$f":"MIN(CW65:CW131)","v":"00:00:00"},{"$f":"MAX(CX65:CX131)","v":"00:00:00"},{"$f":"MIN(CY65:CY131)","v":"00:00:00"},{"$f":"MAX(CZ65:CZ131)","v":"00:00:00"},{"$f":"MIN(DA65:DA131)","v":"00:00:00"},{"$f":"MAX(DB65:DB131)","v":"00:00:00"},{"$f":"MIN(DC65:DC131)","v":"00:00:00"},{"$f":"MAX(DD65:DD131)","v":"00:00:00"},{"$f":"MIN(DE65:DE131)","v":"00:00:00"},{"$f":"MAX(DF65:DF131)","v":"00:00:00"},{"$f":"MIN(DG65:DG131)","v":"00:00:00"},{"$f":"MAX(DH65:DH131)","v":"00:00:00"},{"$f":"MIN(DI65:DI131)","v":"00:00:00"},{"$f":"MAX(DJ65:DJ131)","v":"00:00:00"},{"$f":"MIN(DK65:DK131)","v":"00:00:00"},{"$f":"MIN(DL65:DL131)","v":"00:00:00"},{"$f":"MAX(DM65:DM131)","v":"00:00:00"},{"$f":"MIN(DN65:DN131)","v":"00:00:00"},{"$f":"MIN(DO65:DO131)","v":"00:00:00"},{"$f":"MAX(DP65:DP131)","v":"00:00:00"},{"$f":"MIN(DQ65:DQ131)","v":"00:00:00"},{"$f":"MIN(DR65:DR131)","v":"00:00:00"},{"$f":"MAX(DS65:DS131)","v":"00:00:00"},{"$f":"MIN(DT65:DT131)","v":"00:00:00"},{"$f":"MIN(DU65:DU131)","v":"00:00:00"},{"$f":"MAX(DV65:DV131)","v":"00:00:00"},{"$f":"MIN(DW65:DW131)","v":"00:00:00"},{"$f":"MIN(DX65:DX131)","v":"00:00:00"},{"$f":"MAX(DY65:DY131)","v":"00:00:00"},"2020-07-01","2020-06-01","2022-07-03",{"$nulls":4},"2020-07-01","2020-06-01","2022-07-03",{"$f":"MIN(EJ65:EJ131)","v":"00:00:00"},{"$f":"MIN(EK65:EK131)","v":"00:00:00"},{"$f":"MAX(EL65:EL131)","v":"00:00:00"},null,{"$f":"MIN(EN65:EN131)","v":"00:00:00"},{"$f":"MIN(EO65:EO131)","v":"00:00:00"},{"$f":"MAX(EP65:EP131)","v":"00:00:00"},{"$f":"MIN(EQ65:EQ131)","v":"00:00:00"},{"$f":"MIN(ER65:ER131)","v":"00:00:00"},{"$f":"MAX(ES65:ES131)","v":"00:00:00"},{"$f":"MIN(ET65:ET131)","v":"00:00:00"},{"$f":"MIN(EU65:EU131)","v":"00:00:00"},{"$f":"MAX(EV65:EV131)","v":"00:00:00"},"2020-07-01","2020-07-01","2022-07-03",{"$f":"MIN(EZ65:EZ131)","v":"00:00:00"},{"$f":"MIN(FA65:FA131)","v":"00:00:00"},{"$f":"MAX(FB65:FB131)","v":"00:00:00"},{"$f":"MIN(FC65:FC131)","v":"00:00:00"},{"$f":"MIN(FD65:FD131)","v":"00:00:00"},{"$f":"MAX(FE65:FE131)","v":"00:00:00"},"2020-07-01","2020-07-01","2022-07-03",{"$f":"MIN(FI65:FI131)","v":"00:00:00"},{"$f":"MIN(FJ65:FJ131)","v":"00:00:00"},{"$f":"MAX(FK65:FK131)","v":"00:00:00"},{"$f":"MIN(FL65:FL131)","v":"00:00:00"},{"$f":"MIN(FM65:FM131)","v":"00:00:00"},{"$f":"MAX(FN65:FN131)","v":"00:00:00"},"2020-07-01","2020-07-01","2022-07-03",null,{"$f":"MIN(FS65:FS131)","v":"2022-08-01"},{"$f":"MIN(FT65:FT131)","v":"2022-08-15"},{"$f":"MAX(FU65:FU131)","v":"2025-01-21"},"2022-09-30","2022-07-15","2024-12-30",{"$f":"MIN(FY65:FY131)","v":"2022-09-30"},{"$f":"MIN(FZ65:FZ131)","v":"2022-07-15"},{"$f":"MAX(GA65:GA131)","v":"2024-12-30"},{"$f":"MIN(GB65:GB131)","v":"2022-09-30"},{"$f":"MIN(GC65:GC131)","v":"2022-07-15"},{"$f":"MAX(GD65:GD131)","v":"2024-12-30"},{"$f":"MIN(GE65:GE131)","v":"2022-09-30"},{"$f":"MIN(GF65:GF131)","v":"2022-07-15"},{"$f":"MAX(GG65:GG131)","v":"2024-12-30"},{"$f":"MIN(GH65:GH131)","v":"2022-09-30"},{"$f":"MIN(GI65:GI131)","v":"2022-07-15"},{"$f":"MAX(GJ65:GJ131)","v":"2024-12-30"},{"$f":"MIN(GK65:GK131)","v":"2022-09-30"},{"$f":"MIN(GL65:GL131)","v":"2022-07-01"},{"$f":"MAX(GM65:GM131)","v":"2024-12-30"},{"$f":"MIN(GN65:GN131)","v":"2022-09-30"},{"$f":"MIN(GO65:GO131)","v":"2022-07-01"},{"$f":"MAX(GP65:GP131)","v":"2024-10-30"},{"$f":"MIN(GQ65:GQ131)","v":"2022-09-30"},{"$f":"MIN(GR65:GR131)","v":"2022-07-01"},{"$f":"MAX(GS65:GS131)","v":"2024-10-30"},{"$f":"MIN(GT65:GT131)","v":"2022-09-30"},{"$f":"MIN(GU65:GU131)","v":"2022-07-01"},{"$f":"MAX(GV65:GV131)","v":"2024-10-30"},{"$f":"MIN(GW65:GW131)","v":"2022-09-30"},{"$f":"MIN(GX65:GX131)","v":"2022-07-01"},{"$f":"MAX(GY65:GY131)","v":"2025-11-30"},{"$f":"MIN(GZ65:GZ131)","v":"2022-09-30"},{"$f":"MIN(HA65:HA131)","v":"2022-07-01"},{"$f":"MAX(HB65:HB131)","v":"2025-11-30"},{"$f":"MIN(HC65:HC131)","v":"2022-09-30"},{"$f":"MIN(HD65:HD131)","v":"2022-07-01"},{"$f":"MAX(HE65:HE131)","v":"2024-12-30"},{"$f":"MIN(HF65:HF131)","v":"2022-11-30"},{"$f":"MIN(HG65:HG131)","v":"2022-07-01"},{"$f":"MAX(HH65:HH131)","v":"2024-12-30"},{"$f":"MIN(HI65:HI131)","v":"2022-11-30"},{"$f":"MIN(HJ65:HJ131)","v":"2022-07-01"},{"$f":"MAX(HK65:HK131)","v":"2024-12-30"},{"$f":"MIN(HL65:HL131)","v":"2022-11-30"},{"$f":"MIN(HM65:HM131)","v":"2022-07-01"},{"$f":"MAX(HN65:HN131)","v":"2024-12-30"},{"$nulls":6},{"$f":"SUM(HU65:HU131)","v":0},0,0,0,0,0,0,0,0,0,0,0,0,{"$error":"#REF!"},{"$error":"#REF!"},0]
[279,"13.1.2.1","СК00.01.1.05.1","ЖК \"Салават Купере\" Квартал №1 ж/д 5-1",null,"Плиты теплоизоляционные пенополистирольные ППС-25 150мм",null,"м3",{"v":110.74,"d":"111 "},{"v":5325.370000000001,"d":"5,325 "},{"v":4914.6,"d":"4,915 "},{"v":410.77,"d":"411 "},null,{"v":72,"d":"72 "},null,null,1,"КПД, 1 каркас","Перепривязка",{"v":3636.804,"d":"3,637 "},{"$f":"T65*0.786","v":{"v":2858.5279440000004,"d":"2,859 "}},{"v":299.8621,"d":"300 "},{"$f":"SUM(IG65,#REF!,#REF!,#REF!,#REF!,#REF!,#REF!,#REF!)","v":{"$error":"#REF!"}},{"$error":"#REF!"},{"$nulls":150},"2022-08-01",{"$f":"FS65+14","v":"2022-08-15"},"2023-11-24","2022-09-30","2022-07-15","2023-10-30","2022-09-30","2022-07-15","2023-10-30","2022-09-30","2022-07-15","2023-10-30","2022-09-30","2022-07-15","2023-10-30","2022-09-30","2022-07-15","2023-10-30","2022-09-30","2022-07-01","2023-10-30","2022-09-30","2022-07-01","2023-10-30","2022-09-30","2022-07-01","2023-10-30","2022-09-30","2022-07-01","2023-10-30","2022-09-30","2022-07-01","2023-10-30","2022-09-30","2022-07-01","2023-10-30","2022-09-30","2022-07-01","2023-10-30","2022-11-30","2022-07-01","2023-10-30","2022-11-30","2022-07-01","2023-10-30","2022-11-30","2022-07-01","2023-10-30",null,"АБ-1","АБ-1","АБСт",null,"-",{"$nulls":12},{"$f":"SUM(HU65:IF65)","v":0},{"$f":"IF(YEAR(#REF!)=HU$8,$J65,0)","v":{"$error":"#REF!"}},{"$f":"IF(AND(YEAR(#REF!)<=HU$8,YEAR(#REF!)>HU$8),$J65,0)","v":{"$error":"#REF!"}},{"$nulls":3},{"$f":"I65","v":{"v":110.74,"d":"111"}},{"$nulls":5},"▪"]
[279,"13.1.2.1","СК00.01.1.05.1","ЖК \"Салават Купере\" Квартал №1 ж/д 5-1",null,"Керамзит М600",null,"м3",{"$f":"104.47","v":{"v":104.47,"d":"104 "}},{"v":5325.370000000001,"d":"5,325 "},{"v":4914.6,"d":"4,915 "},{"v":410.77,"d":"411 "},null,{"v":72,"d":"72 "},null,null,1,"КПД, 1 каркас","Перепривязка",{"v":3636.804,"d":"3,637 "},{"$f":"T66*0.786","v":{"v":2858.5279440000004,"d":"2,859 "}},{"v":299.8621,"d":"300 "},{"$f":"SUM(IG66,#REF!,#REF!,#REF!,#REF!,#REF!,#REF!,#REF!)","v":{"$error":"#REF!"}},{"$error":"#REF!"},{"$nulls":150},"2022-08-01",{"$f":"FS66+14","v":"2022-08-15"},"2023-11-24","2022-09-30","2022-07-15","2023-10-30","2022-09-30","2022-07-15","2023-10-30","2022-09-30","2022-07-15","2023-10-30","2022-09-30","2022-07-15","2023-10-30","2022-09-30","2022-07-15","2023-10-30","2022-09-30","2022-07-01","2023-10-30","2022-09-30","2022-07-01","2023-10-30","2022-09-30","2022-07-01","2023-10-30","2022-09-30","2022-07-01","2023-10-30","2022-09-30","2022-07-01","2023-10-30","2022-09-30","2022-07-01","2023-10-30","2022-09-30","2022-07-01","2023-10-30","2022-11-30","2022-07-01","2023-10-30","2022-11-30","2022-07-01","2023-10-30","2022-11-30","2022-07-01","2023-10-30",null,"АБ-1","АБ-1","АБСт",null,"-",{"$nulls":12},{"$f":"SUM(HU66:IF66)","v":0},{"$f":"IF(YEAR(#REF!)=HU$8,$J66,0)","v":{"$error":"#REF!"}},{"$f":"IF(AND(YEAR(#REF!)<=HU$8,YEAR(#REF!)>HU$8),$J66,0)","v":{"$error":"#REF!"}},{"$nulls":3},{"$f":"I66","v":{"v":104.47,"d":"104"}},{"$nulls":5},"▪"]
[279,"13.1.2.1","СК00.01.1.05.1","ЖК \"Салават Купере\" Квартал №1 ж/д 5-1",null,"Плиты теплоизоляционные пенополистирольные экструдированные 100мм",null,"м3",{"v":14.146,"d":"14 "},{"v":5325.370000000001,"d":"5,325 "},{"v":4914.6,"d":"4,915 "},{"v":410.77,"d":"411 "},null,{"v":72,"d":"72 "},null,null,1,"КПД, 1 каркас","Перепривязка",{"v":3636.804,"d":"3,637 "},{"v":2858.5279440000004,"d":"2,859 "},{"v":299.8621,"d":"300 "},{"$f":"SUM(IG67,#REF!,#REF!,#REF!,#REF!,#REF!,#REF!,#REF!)","v":{"$error":"#REF!"}},{"$error":"#REF!"},{"$nulls":150},"2022-08-01","2022-08-15","2023-11-24","2022-09-30","2022-07-15","2023-10-30","2022-09-30","2022-07-15","2023-10-30","2022-09-30","2022-07-15","2023-10-30","2022-09-30","2022-07-15","2023-10-30","2022-09-30","2022-07-15","2023-10-30","2022-09-30","2022-07-01","2023-10-30","2022-09-30","2022-07-01","2023-10-30","2022-09-30","2022-07-01","2023-10-30","2022-09-30","2022-07-01","2023-10-30","2022-09-30","2022-07-01","2023-10-30","2022-09-30","2022-07-01","2023-10-30","2022-09-30","2022-07-01","2023-10-30","2022-11-30","2022-07-01","2023-10-30","2022-11-30","2022-07-01","2023-10-30","2022-11-30","2022-07-01","2023-10-30",null,"АБ-1","АБ-1","АБСт",null,"-",{"$nulls":12},0,{"$f":"IF(YEAR(#REF!)=HU$8,$J67,0)","v":{"$error":"#REF!"}},{"$f":"IF(AND(YEAR(#REF!)<=HU$8,YEAR(#REF!)>HU$8),$J67,0)","v":{"$error":"#REF!"}},{"$nulls":3},{"v":14.146,"d":"14"},{"$nulls":5},"▪"]
[279,"13.1.2.1","СК00.01.1.05.1","ЖК \"Салават Купере\" Квартал №1 ж/д 5-1",null,"Плиты теплоизоляционные пенополистирольные экструдированные 50мм",null,"м3",{"v":3.939,"d":"4 "},{"v":5325.370000000001,"d":"5,325 "},{"v":4914.6,"d":"4,915 "},{"v":410.77,"d":"411 "},null,{"v":72,"d":"72 "},null,null,1,"КПД, 1 каркас","Перепривязка",{"v":3636.804,"d":"3,637 "},{"$f":"T68*0.786","v":{"v":2858.5279440000004,"d":"2,859 "}},{"v":299.8621,"d":"300 "},{"$f":"SUM(IG68,#REF!,#REF!,#REF!,#REF!,#REF!,#REF!,#REF!)","v":{"$error":"#REF!"}},{"$error":"#REF!"},{"$nulls":150},"2022-08-01",{"$f":"FS68+14","v":"2022-08-15"},"2023-11-24","2022-09-30","2022-07-15","2023-10-30","2022-09-30","2022-07-15","2023-10-30","2022-09-30","2022-07-15","2023-10-30","2022-09-30","2022-07-15","2023-10-30","2022-09-30","2022-07-15","2023-10-30","2022-09-30","2022-07-01","2023-10-30","2022-09-30","2022-07-01","2023-10-30","2022-09-30","2022-07-01","2023-10-30","2022-09-30","2022-07-01","2023-10-30","2022-09-30","2022-07-01","2023-10-30","2022-09-30","2022-07-01","2023-10-30","2022-09-30","2022-07-01","2023-10-30","2022-11-30","2022-07-01","2023-10-30","2022-11-30","2022-07-01","2023-10-30","2022-11-30","2022-07-01","2023-10-30",null,"АБ-1","АБ-1","АБСт",null,"-",{"$nulls":12},{"$f":"SUM(HU68:IF68)","v":0},{"$f":"IF(YEAR(#REF!)=HU$8,$J68,0)","v":{"$error":"#REF!"}},{"$f":"IF(AND(YEAR(#REF!)<=HU$8,YEAR(#REF!)>HU$8),$J68,0)","v":{"$error":"#REF!"}},{"$nulls":3},{"v":3.939,"d":"4"},{"$nulls":5},"▪"]
[279,"13.1.2.1","СК00.01.1.05.1","ЖК \"Салават Купере\" Квартал №1 ж/д 5-1",null,"Материал рулонный кровельный гидроизоляционный верхний слой","основа: полиэстeр;температура гибкости на брусе R=25мм не менее -20; толщина 1м² не менее 3,8мм","м2",{"v":1730.022,"d":"1,730 "},{"v":5325.370000000001,"d":"5,325 "},{"v":4914.6,"d":"4,915 "},{"v":410.77,"d":"411 "},null,{"v":72,"d":"72 "},null,null,1,"КПД, 1 каркас","Перепривязка",{"v":3636.804,"d":"3,637 "},{"v":2858.5279440000004,"d":"2,859 "},{"v":299.8621,"d":"300 "},{"$f":"SUM(IG69,#REF!,#REF!,#REF!,#REF!,#REF!,#REF!,#REF!)","v":{"$error":"#REF!"}},{"$error":"#REF!"},{"$nulls":150},"2022-08-01","2022-08-15","2023-11-24","2022-09-30","2022-07-15","2023-10-30","2022-09-30","2022-07-15","2023-10-30","2022-09-30","2022-07-15","2023-10-30","2022-09-30","2022-07-15","2023-10-30","2022-09-30","2022-07-15","2023-10-30","2022-09-30","2022-07-01","2023-10-30","2022-09-30","2022-07-01","2023-10-30","2022-09-30","2022-07-01","2023-10-30","2022-09-30","2022-07-01","2023-10-30","2022-09-30","2022-07-01","2023-10-30","2022-09-30","2022-07-01","2023-10-30","2022-09-30","2022-07-01","2023-10-30","2022-11-30","2022-07-01","2023-10-30","2022-11-30","2022-07-01","2023-10-30","2022-11-30","2022-07-01","2023-10-30",null,"АБ-1","АБ-1","АБСт",null,"-",{"$nulls":12},0,{"$f":"IF(YEAR(#REF!)=HU$8,$J69,0)","v":{"$error":"#REF!"}},{"$f":"IF(AND(YEAR(#REF!)<=HU$8,YEAR(#REF!)>HU$8),$J69,0)","v":{"$error":"#REF!"}},{"$nulls":3},{"v":1730.022,"d":"1,730"},{"$nulls":5},"▪"]
[279,"13.1.2.1","СК00.01.1.05.1","ЖК \"Салават Купере\" Квартал №1 ж/д 5-1",null,"Материал рулонный кровельный гидроизоляционный нижний слой","основа: полиэстeр;температура гибкости на брусе R=25мм не менее -20; толщина 1м² не менее 2,8мм","м2",{"v":1243.267,"d":"1,243 "},{"v":5325.370000000001,"d":"5,325 "},{"v":4914.6,"d":"4,915 "},{"v":410.77,"d":"411 "},null,{"v":72,"d":"72 "},null,null,1,"КПД, 1 каркас","Перепривязка",{"v":3636.804,"d":"3,637 "},{"$f":"T70*0.786","v":{"v":2858.5279440000004,"d":"2,859 "}},{"v":299.8621,"d":"300 "},{"$f":"SUM(IG70,#REF!,#REF!,#REF!,#REF!,#REF!,#REF!,#REF!)","v":{"$error":"#REF!"}},{"$error":"#REF!"},{"$nulls":150},"2022-08-01",{"$f":"FS70+14","v":"2022-08-15"},"2023-11-24","2022-09-30","2022-07-15","2023-10-30","2022-09-30","2022-07-15","2023-10-30","2022-09-30","2022-07-15","2023-10-30","2022-09-30","2022-07-15","2023-10-30","2022-09-30","2022-07-15","2023-10-30","2022-09-30","2022-07-01","2023-10-30","2022-09-30","2022-07-01","2023-10-30","2022-09-30","2022-07-01","2023-10-30","2022-09-30","2022-07-01","2023-10-30","2022-09-30","2022-07-01","2023-10-30","2022-09-30","2022-07-01","2023-10-30","2022-09-30","2022-07-01","2023-10-30","2022-11-30","2022-07-01","2023-10-30","2022-11-30","2022-07-01","2023-10-30","2022-11-30","2022-07-01","2023-10-30",null,"АБ-1","АБ-1","АБСт",null,"-",{"$nulls":12},{"$f":"SUM(HU70:IF70)","v":0},{"$f":"IF(YEAR(#REF!)=HU$8,$J70,0)","v":{"$error":"#REF!"}},{"$f":"IF(AND(YEAR(#REF!)<=HU$8,YEAR(#REF!)>HU$8),$J70,0)","v":{"$error":"#REF!"}},{"$nulls":3},{"v":1243.267,"d":"1,243"},{"$nulls":5},"▪"]
[279,"13.1.2.2","СК00.01.1.05.2","ЖК \"Салават Купере\" Квартал №1 ж/д 5-2",null,"Плиты теплоизоляционные пенополистирольные ППС-25 150мм",null,"м3",{"v":110.74,"d":"111 "},{"v":5325.370000000001,"d":"5,325 "},{"v":4914.6,"d":"4,915 "},{"v":410.77,"d":"411 "},null,{"v":72,"d":"72 "},null,null,1,"КПД, 1 Каркас","Перепривязка",{"v":3636.804,"d":"3,637 "},{"$f":"T71*0.786","v":{"v":2858.5279440000004,"d":"2,859 "}},{"v":299.8621,"d":"300 "},{"$f":"SUM(IG71,#REF!,#REF!,#REF!,#REF!,#REF!,#REF!,#REF!)","v":{"$error":"#REF!"}},{"$error":"#REF!"},{"$nulls":150},"2022-08-01",{"$f":"FS71+14","v":"2022-08-15"},"2023-11-24","2022-09-30","2022-07-15","2023-10-30","2022-09-30","2022-07-15","2023-10-30","2022-09-30","2022-07-15","2023-10-30","2022-09-30","2022-07-15","2023-10-30","2022-09-30","2022-07-15","2023-10-30","2022-09-30","2022-07-01","2023-10-30","2022-09-30","2022-07-01","2023-10-30","2022-09-30","2022-07-01","2023-10-30","2022-09-30","2022-07-01","2023-10-30","2022-09-30","2022-07-01","2023-10-30","2022-09-30","2022-07-01","2023-10-30","2022-09-30","2022-07-01","2023-10-30","2022-11-30","2022-07-01","2023-10-30","2022-11-30","2022-07-01","2023-10-30","2022-11-30","2022-07-01","2023-10-30",null,"АБ-1","АБ-1","АБСт",null,"-",{"$nulls":12},{"$f":"SUM(HU71:IF71)","v":0},{"$f":"IF(YEAR(#REF!)=HU$8,$J71,0)","v":{"$error":"#REF!"}},{"$f":"IF(AND(YEAR(#REF!)<=HU$8,YEAR(#REF!)>HU$8),$J71,0)","v":{"$error":"#REF!"}},{"$nulls":4},{"$f":"I71","v":{"v":110.74,"d":"111"}},{"$nulls":4},"▪"]
[279,"13.1.2.2","СК00.01.1.05.2","ЖК \"Салават Купере\" Квартал №1 ж/д 5-2",null,"Керамзит М600",null,"м3",{"$f":"104.47","v":{"v":104.47,"d":"104 "}},{"v":5325.370000000001,"d":"5,325 "},{"v":4914.6,"d":"4,915 "},{"v":410.77,"d":"411 "},null,{"v":72,"d":"72 "},null,null,1,"КПД, 1 Каркас","Перепривязка",{"v":3636.804,"d":"3,637 "},{"v":2858.5279440000004,"d":"2,859 "},{"v":299.8621,"d":"300 "},{"$f":"SUM(IG72,#REF!,#REF!,#REF!,#REF!,#REF!,#REF!,#REF!)","v":{"$error":"#REF!"}},{"$error":"#REF!"},{"$nulls":150},"2022-08-01","2022-08-15","2023-11-24","2022-09-30","2022-07-15","2023-10-30","2022-09-30","2022-07-15","2023-10-30","2022-09-30","2022-07-15","2023-10-30","2022-09-30","2022-07-15","2023-10-30","2022-09-30","2022-07-15","2023-10-30","2022-09-30","2022-07-01","2023-10-30","2022-09-30","2022-07-01","2023-10-30","2022-09-30","2022-07-01","2023-10-30","2022-09-30","2022-07-01","2023-10-30","2022-09-30","2022-07-01","2023-10-30","2022-09-30","2022-07-01","2023-10-30","2022-09-30","2022-07-01","2023-10-30","2022-11-30","2022-07-01","2023-10-30","2022-11-30","2022-07-01","2023-10-30","2022-11-30","2022-07-01","2023-10-30",null,"АБ-1","АБ-1","АБСт",null,"-",{"$nulls":12},0,{"$f":"IF(YEAR(#REF!)=HU$8,$J72,0)","v":{"$error":"#REF!"}},{"$f":"IF(AND(YEAR(#REF!)<=HU$8,YEAR(#REF!)>HU$8),$J72,0)","v":{"$error":"#REF!"}},{"$nulls":4},{"$f":"I72","v":{"v":104.47,"d":"104"}},{"$nulls":4},"▪"]
[279,"13.1.2.2","СК00.01.1.05.2","ЖК \"Салават Купере\" Квартал №1 ж/д 5-2",null,"Плиты теплоизоляционные пенополистирольные экструдированные 100мм",null,"м3",{"v":14.146,"d":"14 "},{"v":5325.370000000001,"d":"5,325 "},{"v":4914.6,"d":"4,915 "},{"v":410.77,"d":"411 "},null,{"v":72,"d":"72 "},null,null,1,"КПД, 1 Каркас","Перепривязка",{"v":3636.804,"d":"3,637 "},{"$f":"T73*0.786","v":{"v":2858.5279440000004,"d":"2,859 "}},{"v":299.8621,"d":"300 "},{"$f":"SUM(IG73,#REF!,#REF!,#REF!,#REF!,#REF!,#REF!,#REF!)","v":{"$error":"#REF!"}},{"$error":"#REF!"},{"$nulls":150},"2022-08-01",{"$f":"FS73+14","v":"2022-08-15"},"2023-11-24","2022-09-30","2022-07-15","2023-10-30","2022-09-30","2022-07-15","2023-10-30","2022-09-30","2022-07-15","2023-10-30","2022-09-30","2022-07-15","2023-10-30","2022-09-30","2022-07-15","2023-10-30","2022-09-30","2022-07-01","2023-10-30","2022-09-30","2022-07-01","2023-10-30","2022-09-30","2022-07-01","2023-10-30","2022-09-30","2022-07-01","2023-10-30","2022-09-30","2022-07-01","2023-10-30","2022-09-30","2022-07-01","2023-10-30","2022-09-30","2022-07-01","2023-10-30","2022-11-30","2022-07-01","2023-10-30","2022-11-30","2022-07-01","2023-10-30","2022-11-30","2022-07-01","2023-10-30",null,"АБ-1","АБ-1","АБСт",null,"-",{"$nulls":12},{"$f":"SUM(HU73:IF73)","v":0},{"$f":"IF(YEAR(#REF!)=HU$8,$J73,0)","v":{"$error":"#REF!"}},{"$f":"IF(AND(YEAR(#REF!)<=HU$8,YEAR(#REF!)>HU$8),$J73,0)","v":{"$error":"#REF!"}},{"$nulls":4},{"v":14.146,"d":"14"},{"$nulls":4},"▪"]
[279,"13.1.2.2","СК00.01.1.05.2","ЖК \"Салават Купере\" Квартал №1 ж/д 5-2",null,"Плиты теплоизоляционные пенополистирольные экструдированные 50мм",null,"м3",{"v":3.939,"d":"4 "},{"v":5325.370000000001,"d":"5,325 "},{"v":4914.6,"d":"4,915 "},{"v":410.77,"d":"411 "},null,{"v":72,"d":"72 "},null,null,1,"КПД, 1 Каркас","Перепривязка",{"v":3636.804,"d":"3,637 "},{"$f":"T74*0.786","v":{"v":2858.5279440000004,"d":"2,859 "}},{"v":299.8621,"d":"300 "},{"$f":"SUM(IG74,#REF!,#REF!,#REF!,#REF!,#REF!,#REF!,#REF!)","v":{"$error":"#REF!"}},{"$error":"#REF!"},{"$nulls":150},"2022-08-01",{"$f":"FS74+14","v":"2022-08-15"},"2023-11-24","2022-09-30","2022-07-15","2023-10-30","2022-09-30","2022-07-15","2023-10-30","2022-09-30","2022-07-15","2023-10-30","2022-09-30","2022-07-15","2023-10-30","2022-09-30","2022-07-15","2023-10-30","2022-09-30","2022-07-01","2023-10-30","2022-09-30","2022-07-01","2023-10-30","2022-09-30","2022-07-01","2023-10-30","2022-09-30","2022-07-01","2023-10-30","2022-09-30","2022-07-01","2023-10-30","2022-09-30","2022-07-01","2023-10-30","2022-09-30","2022-07-01","2023-10-30","2022-11-30","2022-07-01","2023-10-30","2022-11-30","2022-07-01","2023-10-30","2022-11-30","2022-07-01","2023-10-30",null,"АБ-1","АБ-1","АБСт",null,"-",{"$nulls":12},{"$f":"SUM(HU74:IF74)","v":0},{"$f":"IF(YEAR(#REF!)=HU$8,$J74,0)","v":{"$error":"#REF!"}},{"$f":"IF(AND(YEAR(#REF!)<=HU$8,YEAR(#REF!)>HU$8),$J74,0)","v":{"$error":"#REF!"}},{"$nulls":4},{"v":3.939,"d":"4"},{"$nulls":4},"▪"]
[279,"13.1.2.2","СК00.01.1.05.2","ЖК \"Салават Купере\" Квартал №1 ж/д 5-2",null,"Материал рулонный кровельный гидроизоляционный верхний слой","основа: полиэстeр;температура гибкости на брусе R=25мм не менее -20; толщина 1м² не менее 3,8мм","м2",{"v":1730.022,"d":"1,730 "},{"v":5325.370000000001,"d":"5,325 "},{"v":4914.6,"d":"4,915 "},{"v":410.77,"d":"411 "},null,{"v":72,"d":"72 "},null,null,1,"КПД, 1 Каркас","Перепривязка",{"v":3636.804,"d":"3,637 "},{"$f":"T75*0.786","v":{"v":2858.5279440000004,"d":"2,859 "}},{"v":299.8621,"d":"300 "},{"$f":"SUM(IG75,#REF!,#REF!,#REF!,#REF!,#REF!,#REF!,#REF!)","v":{"$error":"#REF!"}},{"$error":"#REF!"},{"$nulls":150},"2022-08-01",{"$f":"FS75+14","v":"2022-08-15"},"2023-11-24","2022-09-30","2022-07-15","2023-10-30","2022-09-30","2022-07-15","2023-10-30","2022-09-30","2022-07-15","2023-10-30","2022-09-30","2022-07-15","2023-10-30","2022-09-30","2022-07-15","2023-10-30","2022-09-30","2022-07-01","2023-10-30","2022-09-30","2022-07-01","2023-10-30","2022-09-30","2022-07-01","2023-10-30","2022-09-30","2022-07-01","2023-10-30","2022-09-30","2022-07-01","2023-10-30","2022-09-30","2022-07-01","2023-10-30","2022-09-30","2022-07-01","2023-10-30","2022-11-30","2022-07-01","2023-10-30","2022-11-30","2022-07-01","2023-10-30","2022-11-30","2022-07-01","2023-10-30",null,"АБ-1","АБ-1","АБСт",null,"-",{"$nulls":12},{"$f":"SUM(HU75:IF75)","v":0},{"$f":"IF(YEAR(#REF!)=HU$8,$J75,0)","v":{"$error":"#REF!"}},{"$f":"IF(AND(YEAR(#REF!)<=HU$8,YEAR(#REF!)>HU$8),$J75,0)","v":{"$error":"#REF!"}},{"$nulls":4},{"v":1730.022,"d":"1,730"},{"$nulls":4},"▪"]
[279,"13.1.2.2","СК00.01.1.05.2","ЖК \"Салават Купере\" Квартал №1 ж/д 5-2",null,"Материал рулонный кровельный гидроизоляционный нижний слой","основа: полиэстeр;температура гибкости на брусе R=25мм не менее -20; толщина 1м² не менее 2,8мм","м2",{"v":1243.267,"d":"1,243 "},{"v":5325.370000000001,"d":"5,325 "},{"v":4914.6,"d":"4,915 "},{"v":410.77,"d":"411 "},null,{"v":72,"d":"72 "},null,null,1,"КПД, 1 Каркас","Перепривязка",{"v":3636.804,"d":"3,637 "},{"$f":"T76*0.786","v":{"v":2858.5279440000004,"d":"2,859 "}},{"v":299.8621,"d":"300 "},{"$f":"SUM(IG76,#REF!,#REF!,#REF!,#REF!,#REF!,#REF!,#REF!)","v":{"$error":"#REF!"}},{"$error":"#REF!"},{"$nulls":150},"2022-08-01",{"$f":"FS76+14","v":"2022-08-15"},"2023-11-24","2022-09-30","2022-07-15","2023-10-30","2022-09-30","2022-07-15","2023-10-30","2022-09-30","2022-07-15","2023-10-30","2022-09-30","2022-07-15","2023-10-30","2022-09-30","2022-07-15","2023-10-30","2022-09-30","2022-07-01","2023-10-30","2022-09-30","2022-07-01","2023-10-30","2022-09-30","2022-07-01","2023-10-30","2022-09-30","2022-07-01","2023-10-30","2022-09-30","2022-07-01","2023-10-30","2022-09-30","2022-07-01","2023-10-30","2022-09-30","2022-07-01","2023-10-30","2022-11-30","2022-07-01","2023-10-30","2022-11-30","2022-07-01","2023-10-30","2022-11-30","2022-07-01","2023-10-30",null,"АБ-1","АБ-1","АБСт",null,"-",{"$nulls":12},{"$f":"SUM(HU76:IF76)","v":0},{"$f":"IF(YEAR(#REF!)=HU$8,$J76,0)","v":{"$error":"#REF!"}},{"$f":"IF(AND(YEAR(#REF!)<=HU$8,YEAR(#REF!)>HU$8),$J76,0)","v":{"$error":"#REF!"}},{"$nulls":4},{"v":1243.267,"d":"1,243"},{"$nulls":4},"▪"]
[267,"13.1.2.3","СК00.01.1.03.1","ЖК \"Салават Купере\" Квартал №1 ж/д 3-1",null,"Плиты теплоизоляционные пенополистирольные ППС-25 150мм",null,"м3",{"v":106.3,"d":"106 "},{"v":7765.68,"d":"7,766 "},{"v":7365.68,"d":"7,366 "},{"v":400,"d":"400 "},null,{"v":140,"d":"140 "},null,null,1,"КПД, 1 Каркас","Новое ",{"v":4787.692,"d":"4,788 "},{"v":3763.125912,"d":"3,763 "},{"v":292,"d":"292 "},{"$f":"SUM(IG77,#REF!,#REF!,#REF!,#REF!,#REF!,#REF!,#REF!)","v":{"$error":"#REF!"}},{"$error":"#REF!"},{"$nulls":150},"2022-11-01","2022-11-15","2024-06-23","2022-12-30","2022-09-30","2023-12-30","2022-12-30","2022-09-30","2023-12-30","2022-12-30","2022-09-30","2023-12-30","2022-12-30","2022-09-30","2023-12-30","2022-12-30","2022-09-30","2023-12-30","2022-12-30","2022-09-30","2023-12-30","2022-12-30","2022-09-30","2023-12-30","2022-12-30","2022-09-30","2023-12-30","2022-12-30","2022-09-30","2023-12-30","2022-12-30","2022-09-30","2023-12-30","2022-12-30","2022-09-30","2023-12-30","2022-12-30","2022-09-30","2023-12-30","2022-12-30","2022-09-30","2023-12-30","2022-12-30","2022-09-30","2023-12-30","2022-12-30","2022-09-30","2023-12-30",null,"АБ-1","АБ-1","АБСт",null,"-",{"$nulls":12},0,{"$f":"IF(YEAR(#REF!)=HU$8,$J77,0)","v":{"$error":"#REF!"}},{"$f":"IF(AND(YEAR(#REF!)<=HU$8,YEAR(#REF!)>HU$8),$J77,0)","v":{"$error":"#REF!"}},{"$nulls":4},{"v":106.3,"d":"106"},{"$nulls":6},"▪"]
[267,"13.1.2.3","СК00.01.1.03.1","ЖК \"Салават Купере\" Квартал №1 ж/д 3-1",null,"Керамзит М600",null,"м3",{"v":86.152,"d":"86 "},{"v":7765.68,"d":"7,766 "},{"v":7365.68,"d":"7,366 "},{"v":400,"d":"400 "},null,{"v":140,"d":"140 "},null,null,1,"КПД, 1 Каркас","Новое ",{"v":4787.692,"d":"4,788 "},{"$f":"T78*0.786","v":{"v":3763.125912,"d":"3,763 "}},{"v":292,"d":"292 "},{"$f":"SUM(IG78,#REF!,#REF!,#REF!,#REF!,#REF!,#REF!,#REF!)","v":{"$error":"#REF!"}},{"$error":"#REF!"},{"$nulls":150},"2022-11-01",{"$f":"FS78+14","v":"2022-11-15"},"2024-06-23","2022-12-30","2022-09-30","2023-12-30","2022-12-30","2022-09-30","2023-12-30","2022-12-30","2022-09-30","2023-12-30","2022-12-30","2022-09-30","2023-12-30","2022-12-30","2022-09-30","2023-12-30","2022-12-30","2022-09-30","2023-12-30","2022-12-30","2022-09-30","2023-12-30","2022-12-30","2022-09-30","2023-12-30","2022-12-30","2022-09-30","2023-12-30","2022-12-30","2022-09-30","2023-12-30","2022-12-30","2022-09-30","2023-12-30","2022-12-30","2022-09-30","2023-12-30","2022-12-30","2022-09-30","2023-12-30","2022-12-30","2022-09-30","2023-12-30","2022-12-30","2022-09-30","2023-12-30",null,"АБ-1","АБ-1","АБСт",null,"-",{"$nulls":12},{"$f":"SUM(HU78:IF78)","v":0},{"$f":"IF(YEAR(#REF!)=HU$8,$J78,0)","v":{"$error":"#REF!"}},{"$f":"IF(AND(YEAR(#REF!)<=HU$8,YEAR(#REF!)>HU$8),$J78,0)","v":{"$error":"#REF!"}},{"$nulls":4},{"v":86.152,"d":"86"},{"$nulls":6},"▪"]
[267,"13.1.2.3","СК00.01.1.03.1","ЖК \"Салават Купере\" Квартал №1 ж/д 3-1",null,"Плиты теплоизоляционные пенополистирольные экструдированные 100мм",null,"м3",{"v":14.146,"d":"14 "},{"v":7765.68,"d":"7,766 "},{"v":7365.68,"d":"7,366 "},{"v":400,"d":"400 "},null,{"v":140,"d":"140 "},null,null,1,"КПД, 1 Каркас","Новое ",{"v":4787.692,"d":"4,788 "},{"v":3763.125912,"d":"3,763 "},{"v":292,"d":"292 "},{"$f":"SUM(IG79,#REF!,#REF!,#REF!,#REF!,#REF!,#REF!,#REF!)","v":{"$error":"#REF!"}},{"$error":"#REF!"},{"$nulls":150},"2022-11-01","2022-11-15","2024-06-23","2022-12-30","2022-09-30","2023-12-30","2022-12-30","2022-09-30","2023-12-30","2022-12-30","2022-09-30","2023-12-30","2022-12-30","2022-09-30","2023-12-30","2022-12-30","2022-09-30","2023-12-30","2022-12-30","2022-09-30","2023-12-30","2022-12-30","2022-09-30","2023-12-30","2022-12-30","2022-09-30","2023-12-30","2022-12-30","2022-09-30","2023-12-30","2022-12-30","2022-09-30","2023-12-30","2022-12-30","2022-09-30","2023-12-30","2022-12-30","2022-09-30","2023-12-30","2022-12-30","2022-09-30","2023-12-30","2022-12-30","2022-09-30","2023-12-30","2022-12-30","2022-09-30","2023-12-30",null,"АБ-1","АБ-1","АБСт",null,"-",{"$nulls":12},0,{"$f":"IF(YEAR(#REF!)=HU$8,$J79,0)","v":{"$error":"#REF!"}},{"$f":"IF(AND(YEAR(#REF!)<=HU$8,YEAR(#REF!)>HU$8),$J79,0)","v":{"$error":"#REF!"}},{"$nulls":4},{"v":14.146,"d":"14"},{"$nulls":6},"▪"]
[267,"13.1.2.3","СК00.01.1.03.1","ЖК \"Салават Купере\" Квартал №1 ж/д 3-1",null,"Плиты теплоизоляционные пенополистирольные экструдированные 50мм",null,"м3",{"v":3.939,"d":"4 "},{"v":7765.68,"d":"7,766 "},{"v":7365.68,"d":"7,366 "},{"v":400,"d":"400 "},null,{"v":140,"d":"140 "},null,null,1,"КПД, 1 Каркас","Новое ",{"v":4787.692,"d":"4,788 "},{"v":3763.125912,"d":"3,763 "},{"v":292,"d":"292 "},{"$f":"SUM(IG80,#REF!,#REF!,#REF!,#REF!,#REF!,#REF!,#REF!)","v":{"$error":"#REF!"}},{"$error":"#REF!"},{"$nulls":150},"2022-11-01","2022-11-15","2024-06-23","2022-12-30","2022-09-30","2023-12-30","2022-12-30","2022-09-30","2023-12-30","2022-12-30","2022-09-30","2023-12-30","2022-12-30","2022-09-30","2023-12-30","2022-12-30","2022-09-30","2023-12-30","2022-12-30","2022-09-30","2023-12-30","2022-12-30","2022-09-30","2023-12-30","2022-12-30","2022-09-30","2023-12-30","2022-12-30","2022-09-30","2023-12-30","2022-12-30","2022-09-30","2023-12-30","2022-12-30","2022-09-30","2023-12-30","2022-12-30","2022-09-30","2023-12-30","2022-12-30","2022-09-30","2023-12-30","2022-12-30","2022-09-30","2023-12-30","2022-12-30","2022-09-30","2023-12-30",null,"АБ-1","АБ-1","АБСт",null,"-",{"$nulls":12},0,{"$f":"IF(YEAR(#REF!)=HU$8,$J80,0)","v":{"$error":"#REF!"}},{"$f":"IF(AND(YEAR(#REF!)<=HU$8,YEAR(#REF!)>HU$8),$J80,0)","v":{"$error":"#REF!"}},{"$nulls":4},{"v":3.939,"d":"4"},{"$nulls":6},"▪"]
[267,"13.1.2.3","СК00.01.1.03.1","ЖК \"Салават Купере\" Квартал №1 ж/д 3-1",null,"Материал рулонный кровельный гидроизоляционный верхний слой","основа: полиэстeр;температура гибкости на брусе R=25мм не менее -20; толщина 1м² не менее 3,8мм","м2",{"v":1730.022,"d":"1,730 "},{"v":7765.68,"d":"7,766 "},{"v":7365.68,"d":"7,366 "},{"v":400,"d":"400 "},null,{"v":140,"d":"140 "},null,null,1,"КПД, 1 Каркас","Новое ",{"v":4787.692,"d":"4,788 "},{"v":3763.125912,"d":"3,763 "},{"v":292,"d":"292 "},{"$f":"SUM(IG81,#REF!,#REF!,#REF!,#REF!,#REF!,#REF!,#REF!)","v":{"$error":"#REF!"}},{"$error":"#REF!"},{"$nulls":150},"2022-11-01","2022-11-15","2024-06-23","2022-12-30","2022-09-30","2023-12-30","2022-12-30","2022-09-30","2023-12-30","2022-12-30","2022-09-30","2023-12-30","2022-12-30","2022-09-30","2023-12-30","2022-12-30","2022-09-30","2023-12-30","2022-12-30","2022-09-30","2023-12-30","2022-12-30","2022-09-30","2023-12-30","2022-12-30","2022-09-30","2023-12-30","2022-12-30","2022-09-30","2023-12-30","2022-12-30","2022-09-30","2023-12-30","2022-12-30","2022-09-30","2023-12-30","2022-12-30","2022-09-30","2023-12-30","2022-12-30","2022-09-30","2023-12-30","2022-12-30","2022-09-30","2023-12-30","2022-12-30","2022-09-30","2023-12-30",null,"АБ-1","АБ-1","АБСт",null,"-",{"$nulls":12},0,{"$f":"IF(YEAR(#REF!)=HU$8,$J81,0)","v":{"$error":"#REF!"}},{"$f":"IF(AND(YEAR(#REF!)<=HU$8,YEAR(#REF!)>HU$8),$J81,0)","v":{"$error":"#REF!"}},{"$nulls":4},{"v":1730.022,"d":"1,730"},{"$nulls":6},"▪"]
[267,"13.1.2.3","СК00.01.1.03.1","ЖК \"Салават Купере\" Квартал №1 ж/д 3-1",null,"Материал рулонный кровельный гидроизоляционный нижний слой","основа: полиэстeр;температура гибкости на брусе R=25мм не менее -20; толщина 1м² не менее 2,8мм","м2",{"v":1243.267,"d":"1,243 "},{"v":7765.68,"d":"7,766 "},{"v":7365.68,"d":"7,366 "},{"v":400,"d":"400 "},null,{"v":140,"d":"140 "},null,null,1,"КПД, 1 Каркас","Новое ",{"v":4787.692,"d":"4,788 "},{"v":3763.125912,"d":"3,763 "},{"v":292,"d":"292 "},{"$f":"SUM(IG82,#REF!,#REF!,#REF!,#REF!,#REF!,#REF!,#REF!)","v":{"$error":"#REF!"}},{"$error":"#REF!"},{"$nulls":150},"2022-11-01","2022-11-15","2024-06-23","2022-12-30","2022-09-30","2023-12-30","2022-12-30","2022-09-30","2023-12-30","2022-12-30","2022-09-30","2023-12-30","2022-12-30","2022-09-30","2023-12-30","2022-12-30","2022-09-30","2023-12-30","2022-12-30","2022-09-30","2023-12-30","2022-12-30","2022-09-30","2023-12-30","2022-12-30","2022-09-30","2023-12-30","2022-12-30","2022-09-30","2023-12-30","2022-12-30","2022-09-30","2023-12-30","2022-12-30","2022-09-30","2023-12-30","2022-12-30","2022-09-30","2023-12-30","2022-12-30","2022-09-30","2023-12-30","2022-12-30","2022-09-30","2023-12-30","2022-12-30","2022-09-30","2023-12-30",null,"АБ-1","АБ-1","АБСт",null,"-",{"$nulls":12},0,{"$f":"IF(YEAR(#REF!)=HU$8,$J82,0)","v":{"$error":"#REF!"}},{"$f":"IF(AND(YEAR(#REF!)<=HU$8,YEAR(#REF!)>HU$8),$J82,0)","v":{"$error":"#REF!"}},{"$nulls":4},{"v":1243.267,"d":"1,243"},{"$nulls":6},"▪"]
[268,"13.1.2.4","СК00.01.1.03.2","ЖК \"Салават Купере\" Квартал №1 ж/д 3-2",null,"Плиты теплоизоляционные пенополистирольные ППС-25 150мм",null,"м3",{"$f":"140.294/580*L83","v":{"v":140.294,"d":"140 "}},{"v":8789.44,"d":"8,789 "},{"v":8209.44,"d":"8,209 "},{"v":580,"d":"580 "},null,{"v":168,"d":"168 "},null,null,1,"КПД, 1 Каркас","Новое ",{"v":5336.136,"d":"5,336 "},{"v":4194.202896000001,"d":"4,194 "},{"v":423.4,"d":"423 "},{"$f":"SUM(IG83,#REF!,#REF!,#REF!,#REF!,#REF!,#REF!,#REF!)","v":{"$error":"#REF!"}},{"$f":"T83-W83-Y83","v":{"$error":"#REF!"}},{"$nulls":150},"2023-01-01",{"$f":"FS83+14","v":"2023-01-15"},"2024-08-23","2022-12-30","2022-09-30","2023-12-30","2022-12-30","2022-09-30","2023-12-30","2022-12-30","2022-09-30","2023-12-30","2022-12-30","2022-09-30","2023-12-30","2022-12-30","2022-09-30","2023-12-30","2022-12-30","2022-09-30","2023-12-30","2022-12-30","2022-09-30","2023-12-30","2022-12-30","2022-09-30","2023-12-30","2022-12-30","2022-09-30","2023-12-30","2022-12-30","2022-09-30","2023-12-30","2022-12-30","2022-09-30","2023-12-30","2022-12-30","2022-09-30","2023-12-30","2022-12-30","2022-09-30","2023-12-30","2022-12-30","2022-09-30","2023-12-30","2022-12-30","2022-09-30","2023-12-30",null,"АБ-1","АБ-1","АБСт",null,"-",{"$nulls":12},0,{"$f":"IF(YEAR(#REF!)=HU$8,$J83,0)","v":{"$error":"#REF!"}},{"$f":"IF(AND(YEAR(#REF!)<=HU$8,YEAR(#REF!)>HU$8),$J83,0)","v":{"$error":"#REF!"}},{"$nulls":5},{"$f":"I83/2","v":{"v":70.147,"d":"70"}},{"$f":"I83/2","v":{"v":70.147,"d":"70"}},{"$nulls":4},"▪"]
[268,"13.1.2.4","СК00.01.1.03.2","ЖК \"Салават Купере\" Квартал №1 ж/д 3-2",null,"Керамзит М600",null,"м3",{"$f":"142.129/580*L84","v":{"v":142.129,"d":"142 "}},{"v":8789.44,"d":"8,789 "},{"v":8209.44,"d":"8,209 "},{"v":580,"d":"580 "},null,{"v":168,"d":"168 "},null,null,1,"КПД, 1 Каркас","Новое ",{"v":5336.136,"d":"5,336 "},{"$f":"T84*0.786","v":{"v":4194.202896000001,"d":"4,194 "}},{"v":423.4,"d":"423 "},{"$f":"SUM(IG84,#REF!,#REF!,#REF!,#REF!,#REF!,#REF!,#REF!)","v":{"$error":"#REF!"}},{"$error":"#REF!"},{"$nulls":150},"2023-01-01","2023-01-15","2024-08-23","2022-12-30","2022-09-30","2023-12-30","2022-12-30","2022-09-30","2023-12-30","2022-12-30","2022-09-30","2023-12-30","2022-12-30","2022-09-30","2023-12-30","2022-12-30","2022-09-30","2023-12-30","2022-12-30","2022-09-30","2023-12-30","2022-12-30","2022-09-30","2023-12-30","2022-12-30","2022-09-30","2023-12-30","2022-12-30","2022-09-30","2023-12-30","2022-12-30","2022-09-30","2023-12-30","2022-12-30","2022-09-30","2023-12-30","2022-12-30","2022-09-30","2023-12-30","2022-12-30","2022-09-30","2023-12-30","2022-12-30","2022-09-30","2023-12-30","2022-12-30","2022-09-30","2023-12-30",null,"АБ-1","АБ-1","АБСт",null,"-",{"$nulls":12},{"$f":"SUM(HU84:IF84)","v":0},{"$f":"IF(YEAR(#REF!)=HU$8,$J84,0)","v":{"$error":"#REF!"}},{"$f":"IF(AND(YEAR(#REF!)<=HU$8,YEAR(#REF!)>HU$8),$J84,0)","v":{"$error":"#REF!"}},{"$nulls":5},{"$f":"I84/2","v":{"v":71.0645,"d":"71"}},{"$f":"I84/2","v":{"v":71.0645,"d":"71"}},{"$nulls":4},"▪"]
[268,"13.1.2.4","СК00.01.1.03.2","ЖК \"Салават Купере\" Квартал №1 ж/д 3-2",null,"Плиты теплоизоляционные пенополистирольные экструдированные 100мм",null,"м3",{"$f":"14.146/580*L85","v":{"v":14.146,"d":"14 "}},{"v":8789.44,"d":"8,789 "},{"v":8209.44,"d":"8,209 "},{"v":580,"d":"580 "},null,{"v":168,"d":"168 "},null,null,1,"КПД, 1 Каркас","Новое ",{"v":5336.136,"d":"5,336 "},{"v":4194.202896000001,"d":"4,194 "},{"v":423.4,"d":"423 "},{"$f":"SUM(IG85,#REF!,#REF!,#REF!,#REF!,#REF!,#REF!,#REF!)","v":{"$error":"#REF!"}},{"$error":"#REF!"},{"$nulls":150},"2023-01-01","2023-01-15","2024-08-23","2022-12-30","2022-09-30","2023-12-30","2022-12-30","2022-09-30","2023-12-30","2022-12-30","2022-09-30","2023-12-30","2022-12-30","2022-09-30","2023-12-30","2022-12-30","2022-09-30","2023-12-30","2022-12-30","2022-09-30","2023-12-30","2022-12-30","2022-09-30","2023-12-30","2022-12-30","2022-09-30","2023-12-30","2022-12-30","2022-09-30","2023-12-30","2022-12-30","2022-09-30","2023-12-30","2022-12-30","2022-09-30","2023-12-30","2022-12-30","2022-09-30","2023-12-30","2022-12-30","2022-09-30","2023-12-30","2022-12-30","2022-09-30","2023-12-30","2022-12-30","2022-09-30","2023-12-30",null,"АБ-1","АБ-1","АБСт",null,"-",{"$nulls":12},0,{"$f":"IF(YEAR(#REF!)=HU$8,$J85,0)","v":{"$error":"#REF!"}},{"$f":"IF(AND(YEAR(#REF!)<=HU$8,YEAR(#REF!)>HU$8),$J85,0)","v":{"$error":"#REF!"}},{"$nulls":5},{"v":7.073,"d":"7"},{"v":7.073,"d":"7"},{"$nulls":4},"▪"]
[268,"13.1.2.4","СК00.01.1.03.2","ЖК \"Салават Купере\" Квартал №1 ж/д 3-2",null,"Плиты теплоизоляционные пенополистирольные экструдированные 50мм",null,"м3",{"$f":"3.939/580*L86","v":{"v":3.9389999999999996,"d":"4 "}},{"v":8789.44,"d":"8,789 "},{"v":8209.44,"d":"8,209 "},{"v":580,"d":"580 "},null,{"v":168,"d":"168 "},null,null,1,"КПД, 1 Каркас","Новое ",{"v":5336.136,"d":"5,336 "},{"v":4194.202896000001,"d":"4,194 "},{"v":423.4,"d":"423 "},{"$f":"SUM(IG86,#REF!,#REF!,#REF!,#REF!,#REF!,#REF!,#REF!)","v":{"$error":"#REF!"}},{"$error":"#REF!"},{"$nulls":150},"2023-01-01","2023-01-15","2024-08-23","2022-12-30","2022-09-30","2023-12-30","2022-12-30","2022-09-30","2023-12-30","2022-12-30","2022-09-30","2023-12-30","2022-12-30","2022-09-30","2023-12-30","2022-12-30","2022-09-30","2023-12-30","2022-12-30","2022-09-30","2023-12-30","2022-12-30","2022-09-30","2023-12-30","2022-12-30","2022-09-30","2023-12-30","2022-12-30","2022-09-30","2023-12-30","2022-12-30","2022-09-30","2023-12-30","2022-12-30","2022-09-30","2023-12-30","2022-12-30","2022-09-30","2023-12-30","2022-12-30","2022-09-30","2023-12-30","2022-12-30","2022-09-30","2023-12-30","2022-12-30","2022-09-30","2023-12-30",null,"АБ-1","АБ-1","АБСт",null,"-",{"$nulls":12},0,{"$f":"IF(YEAR(#REF!)=HU$8,$J86,0)","v":{"$error":"#REF!"}},{"$f":"IF(AND(YEAR(#REF!)<=HU$8,YEAR(#REF!)>HU$8),$J86,0)","v":{"$error":"#REF!"}},{"$nulls":5},{"v":1.9694999999999998,"d":"2"},{"v":1.9694999999999998,"d":"2"},{"$nulls":4},"▪"]
[268,"13.1.2.4","СК00.01.1.03.2","ЖК \"Салават Купере\" Квартал №1 ж/д 3-2",null,"Материал рулонный кровельный гидроизоляционный верхний слой","основа: полиэстeр;температура гибкости на брусе R=25мм не менее -20; толщина 1м² не менее 3,8мм","м2",{"$f":"1730.022/580*L87","v":{"v":1730.022,"d":"1,730 "}},{"v":8789.44,"d":"8,789 "},{"v":8209.44,"d":"8,209 "},{"v":580,"d":"580 "},null,{"v":168,"d":"168 "},null,null,1,"КПД, 1 Каркас","Новое ",{"v":5336.136,"d":"5,336 "},{"v":4194.202896000001,"d":"4,194 "},{"v":423.4,"d":"423 "},{"$f":"SUM(IG87,#REF!,#REF!,#REF!,#REF!,#REF!,#REF!,#REF!)","v":{"$error":"#REF!"}},{"$error":"#REF!"},{"$nulls":150},"2023-01-01","2023-01-15","2024-08-23","2022-12-30","2022-09-30","2023-12-30","2022-12-30","2022-09-30","2023-12-30","2022-12-30","2022-09-30","2023-12-30","2022-12-30","2022-09-30","2023-12-30","2022-12-30","2022-09-30","2023-12-30","2022-12-30","2022-09-30","2023-12-30","2022-12-30","2022-09-30","2023-12-30","2022-12-30","2022-09-30","2023-12-30","2022-12-30","2022-09-30","2023-12-30","2022-12-30","2022-09-30","2023-12-30","2022-12-30","2022-09-30","2023-12-30","2022-12-30","2022-09-30","2023-12-30","2022-12-30","2022-09-30","2023-12-30","2022-12-30","2022-09-30","2023-12-30","2022-12-30","2022-09-30","2023-12-30",null,"АБ-1","АБ-1","АБСт",null,"-",{"$nulls":12},0,{"$f":"IF(YEAR(#REF!)=HU$8,$J87,0)","v":{"$error":"#REF!"}},{"$f":"IF(AND(YEAR(#REF!)<=HU$8,YEAR(#REF!)>HU$8),$J87,0)","v":{"$error":"#REF!"}},{"$nulls":5},{"v":865.011,"d":"865"},{"v":865.011,"d":"865"},{"$nulls":4},"▪"]
[268,"13.1.2.4","СК00.01.1.03.2","ЖК \"Салават Купере\" Квартал №1 ж/д 3-2",null,"Материал рулонный кровельный гидроизоляционный нижний слой","основа: полиэстeр;температура гибкости на брусе R=25мм не менее -20; толщина 1м² не менее 2,8мм","м2",{"$f":"1243.267/580*L88","v":{"v":1243.2670000000003,"d":"1,243 "}},{"v":8789.44,"d":"8,789 "},{"v":8209.44,"d":"8,209 "},{"v":580,"d":"580 "},null,{"v":168,"d":"168 "},null,null,1,"КПД, 1 Каркас","Новое ",{"v":5336.136,"d":"5,336 "},{"v":4194.202896000001,"d":"4,194 "},{"v":423.4,"d":"423 "},{"$f":"SUM(IG88,#REF!,#REF!,#REF!,#REF!,#REF!,#REF!,#REF!)","v":{"$error":"#REF!"}},{"$error":"#REF!"},{"$nulls":150},"2023-01-01","2023-01-15","2024-08-23","2022-12-30","2022-09-30","2023-12-30","2022-12-30","2022-09-30","2023-12-30","2022-12-30","2022-09-30","2023-12-30","2022-12-30","2022-09-30","2023-12-30","2022-12-30","2022-09-30","2023-12-30","2022-12-30","2022-09-30","2023-12-30","2022-12-30","2022-09-30","2023-12-30","2022-12-30","2022-09-30","2023-12-30","2022-12-30","2022-09-30","2023-12-30","2022-12-30","2022-09-30","2023-12-30","2022-12-30","2022-09-30","2023-12-30","2022-12-30","2022-09-30","2023-12-30","2022-12-30","2022-09-30","2023-12-30","2022-12-30","2022-09-30","2023-12-30","2022-12-30","2022-09-30","2023-12-30",null,"АБ-1","АБ-1","АБСт",null,"-",{"$nulls":12},0,{"$f":"IF(YEAR(#REF!)=HU$8,$J88,0)","v":{"$error":"#REF!"}},{"$f":"IF(AND(YEAR(#REF!)<=HU$8,YEAR(#REF!)>HU$8),$J88,0)","v":{"$error":"#REF!"}},{"$nulls":5},{"v":621.6335000000001,"d":"622"},{"v":621.6335000000001,"d":"622"},{"$nulls":4},"▪"]
[269,"13.1.2.5","СК00.01.1.03.3","ЖК \"Салават Купере\" Квартал №1 ж/д 3-3",null,"Плиты теплоизоляционные пенополистирольные ППС-25 150мм",null,"м3",{"v":140.294,"d":"140 "},{"v":6057.84,"d":"6,058 "},{"v":5477.84,"d":"5,478 "},{"v":580,"d":"580 "},null,{"v":112,"d":"112 "},null,null,1,"КПД, 1 Каркас","Новое ",{"v":4053.6016,"d":"4,054 "},{"$f":"T89*0.786","v":{"v":3186.1308576,"d":"3,186 "}},{"v":423.4,"d":"423 "},{"$f":"SUM(IG89,#REF!,#REF!,#REF!,#REF!,#REF!,#REF!,#REF!)","v":{"$error":"#REF!"}},{"$error":"#REF!"},{"$nulls":150},"2022-11-01",{"$f":"FS89+14","v":"2022-11-15"},"2024-02-24","2022-12-30","2022-09-30","2023-12-30","2022-12-30","2022-09-30","2023-12-30","2022-12-30","2022-09-30","2023-12-30","2022-12-30","2022-09-30","2023-12-30","2022-12-30","2022-09-30","2023-12-30","2022-12-30","2022-09-30","2023-12-30","2022-12-30","2022-09-30","2023-12-30","2022-12-30","2022-09-30","2023-12-30","2022-12-30","2022-09-30","2023-12-30","2022-12-30","2022-09-30","2023-12-30","2022-12-30","2022-09-30","2023-12-30","2022-12-30","2022-09-30","2023-12-30","2022-12-30","2022-09-30","2023-12-30","2022-12-30","2022-09-30","2023-12-30","2022-12-30","2022-09-30","2023-12-30",null,"АБ-1","АБ-1","АБСт",null,"-",{"$nulls":12},{"$f":"SUM(HU89:IF89)","v":0},{"$f":"IF(YEAR(#REF!)=HU$8,$J89,0)","v":{"$error":"#REF!"}},{"$f":"IF(AND(YEAR(#REF!)<=HU$8,YEAR(#REF!)>HU$8),$J89,0)","v":{"$error":"#REF!"}},{"$nulls":3},{"$f":"I89","v":{"v":140.294,"d":"140"}},{"$nulls":7},"▪"]
[269,"13.1.2.5","СК00.01.1.03.3","ЖК \"Салават Купере\" Квартал №1 ж/д 3-3",null,"Керамзит М600",null,"м3",{"v":142.129,"d":"142 "},{"v":6057.84,"d":"6,058 "},{"v":5477.84,"d":"5,478 "},{"v":580,"d":"580 "},null,{"v":112,"d":"112 "},null,null,1,"КПД, 1 Каркас","Новое ",{"v":4053.6016,"d":"4,054 "},{"$f":"T90*0.786","v":{"v":3186.1308576,"d":"3,186 "}},{"v":423.4,"d":"423 "},{"$f":"SUM(IG90,#REF!,#REF!,#REF!,#REF!,#REF!,#REF!,#REF!)","v":{"$error":"#REF!"}},{"$error":"#REF!"},{"$nulls":150},"2022-11-01",{"$f":"FS90+14","v":"2022-11-15"},"2024-02-24","2022-12-30","2022-09-30","2023-12-30","2022-12-30","2022-09-30","2023-12-30","2022-12-30","2022-09-30","2023-12-30","2022-12-30","2022-09-30","2023-12-30","2022-12-30","2022-09-30","2023-12-30","2022-12-30","2022-09-30","2023-12-30","2022-12-30","2022-09-30","2023-12-30","2022-12-30","2022-09-30","2023-12-30","2022-12-30","2022-09-30","2023-12-30","2022-12-30","2022-09-30","2023-12-30","2022-12-30","2022-09-30","2023-12-30","2022-12-30","2022-09-30","2023-12-30","2022-12-30","2022-09-30","2023-12-30","2022-12-30","2022-09-30","2023-12-30","2022-12-30","2022-09-30","2023-12-30",null,"АБ-1","АБ-1","АБСт",null,"-",{"$nulls":12},{"$f":"SUM(HU90:IF90)","v":0},{"$f":"IF(YEAR(#REF!)=HU$8,$J90,0)","v":{"$error":"#REF!"}},{"$f":"IF(AND(YEAR(#REF!)<=HU$8,YEAR(#REF!)>HU$8),$J90,0)","v":{"$error":"#REF!"}},{"$nulls":3},{"$f":"I90","v":{"v":142.129,"d":"142"}},{"$nulls":7},"▪"]
[269,"13.1.2.5","СК00.01.1.03.3","ЖК \"Салават Купере\" Квартал №1 ж/д 3-3",null,"Плиты теплоизоляционные пенополистирольные экструдированные 100мм",null,"м3",{"v":14.146,"d":"14 "},{"v":6057.84,"d":"6,058 "},{"v":5477.84,"d":"5,478 "},{"v":580,"d":"580 "},null,{"v":112,"d":"112 "},null,null,1,"КПД, 1 Каркас","Новое ",{"v":4053.6016,"d":"4,054 "},{"$f":"T91*0.786","v":{"v":3186.1308576,"d":"3,186 "}},{"v":423.4,"d":"423 "},{"$f":"SUM(IG91,#REF!,#REF!,#REF!,#REF!,#REF!,#REF!,#REF!)","v":{"$error":"#REF!"}},{"$error":"#REF!"},{"$nulls":150},"2022-11-01",{"$f":"FS91+14","v":"2022-11-15"},"2024-02-24","2022-12-30","2022-09-30","2023-12-30","2022-12-30","2022-09-30","2023-12-30","2022-12-30","2022-09-30","2023-12-30","2022-12-30","2022-09-30","2023-12-30","2022-12-30","2022-09-30","2023-12-30","2022-12-30","2022-09-30","2023-12-30","2022-12-30","2022-09-30","2023-12-30","2022-12-30","2022-09-30","2023-12-30","2022-12-30","2022-09-30","2023-12-30","2022-12-30","2022-09-30","2023-12-30","2022-12-30","2022-09-30","2023-12-30","2022-12-30","2022-09-30","2023-12-30","2022-12-30","2022-09-30","2023-12-30","2022-12-30","2022-09-30","2023-12-30","2022-12-30","2022-09-30","2023-12-30",null,"АБ-1","АБ-1","АБСт",null,"-",{"$nulls":12},{"$f":"SUM(HU91:IF91)","v":0},{"$f":"IF(YEAR(#REF!)=HU$8,$J91,0)","v":{"$error":"#REF!"}},{"$f":"IF(AND(YEAR(#REF!)<=HU$8,YEAR(#REF!)>HU$8),$J91,0)","v":{"$error":"#REF!"}},{"$nulls":3},{"v":14.146,"d":"14"},{"$nulls":7},"▪"]
[269,"13.1.2.5","СК00.01.1.03.3","ЖК \"Салават Купере\" Квартал №1 ж/д 3-3",null,"Плиты теплоизоляционные пенополистирольные экструдированные 50мм",null,"м3",{"v":3.939,"d":"4 "},{"v":6057.84,"d":"6,058 "},{"v":5477.84,"d":"5,478 "},{"v":580,"d":"580 "},null,{"v":112,"d":"112 "},null,null,1,"КПД, 1 Каркас","Новое ",{"v":4053.6016,"d":"4,054 "},{"$f":"T92*0.786","v":{"v":3186.1308576,"d":"3,186 "}},{"v":423.4,"d":"423 "},{"$f":"SUM(IG92,#REF!,#REF!,#REF!,#REF!,#REF!,#REF!,#REF!)","v":{"$error":"#REF!"}},{"$error":"#REF!"},{"$nulls":150},"2022-11-01",{"$f":"FS92+14","v":"2022-11-15"},"2024-02-24","2022-12-30","2022-09-30","2023-12-30","2022-12-30","2022-09-30","2023-12-30","2022-12-30","2022-09-30","2023-12-30","2022-12-30","2022-09-30","2023-12-30","2022-12-30","2022-09-30","2023-12-30","2022-12-30","2022-09-30","2023-12-30","2022-12-30","2022-09-30","2023-12-30","2022-12-30","2022-09-30","2023-12-30","2022-12-30","2022-09-30","2023-12-30","2022-12-30","2022-09-30","2023-12-30","2022-12-30","2022-09-30","2023-12-30","2022-12-30","2022-09-30","2023-12-30","2022-12-30","2022-09-30","2023-12-30","2022-12-30","2022-09-30","2023-12-30","2022-12-30","2022-09-30","2023-12-30",null,"АБ-1","АБ-1","АБСт",null,"-",{"$nulls":12},{"$f":"SUM(HU92:IF92)","v":0},{"$f":"IF(YEAR(#REF!)=HU$8,$J92,0)","v":{"$error":"#REF!"}},{"$f":"IF(AND(YEAR(#REF!)<=HU$8,YEAR(#REF!)>HU$8),$J92,0)","v":{"$error":"#REF!"}},{"$nulls":3},{"v":3.939,"d":"4"},{"$nulls":7},"▪"]
[269,"13.1.2.5","СК00.01.1.03.3","ЖК \"Салават Купере\" Квартал №1 ж/д 3-3",null,"Материал рулонный кровельный гидроизоляционный верхний слой","основа: полиэстeр;температура гибкости на брусе R=25мм не менее -20; толщина 1м² не менее 3,8мм","м2",{"v":1730.022,"d":"1,730 "},{"v":6057.84,"d":"6,058 "},{"v":5477.84,"d":"5,478 "},{"v":580,"d":"580 "},null,{"v":112,"d":"112 "},null,null,1,"КПД, 1 Каркас","Новое ",{"v":4053.6016,"d":"4,054 "},{"$f":"T93*0.786","v":{"v":3186.1308576,"d":"3,186 "}},{"v":423.4,"d":"423 "},{"$f":"SUM(IG93,#REF!,#REF!,#REF!,#REF!,#REF!,#REF!,#REF!)","v":{"$error":"#REF!"}},{"$error":"#REF!"},{"$nulls":150},"2022-11-01",{"$f":"FS93+14","v":"2022-11-15"},"2024-02-24","2022-12-30","2022-09-30","2023-12-30","2022-12-30","2022-09-30","2023-12-30","2022-12-30","2022-09-30","2023-12-30","2022-12-30","2022-09-30","2023-12-30","2022-12-30","2022-09-30","2023-12-30","2022-12-30","2022-09-30","2023-12-30","2022-12-30","2022-09-30","2023-12-30","2022-12-30","2022-09-30","2023-12-30","2022-12-30","2022-09-30","2023-12-30","2022-12-30","2022-09-30","2023-12-30","2022-12-30","2022-09-30","2023-12-30","2022-12-30","2022-09-30","2023-12-30","2022-12-30","2022-09-30","2023-12-30","2022-12-30","2022-09-30","2023-12-30","2022-12-30","2022-09-30","2023-12-30",null,"АБ-1","АБ-1","АБСт",null,"-",{"$nulls":12},{"$f":"SUM(HU93:IF93)","v":0},{"$f":"IF(YEAR(#REF!)=HU$8,$J93,0)","v":{"$error":"#REF!"}},{"$f":"IF(AND(YEAR(#REF!)<=HU$8,YEAR(#REF!)>HU$8),$J93,0)","v":{"$error":"#REF!"}},{"$nulls":3},{"v":1730.022,"d":"1,730"},{"$nulls":7},"▪"]
[269,"13.1.2.5","СК00.01.1.03.3","ЖК \"Салават Купере\" Квартал №1 ж/д 3-3",null,"Материал рулонный кровельный гидроизоляционный нижний слой","основа: полиэстeр;температура гибкости на брусе R=25мм не менее -20; толщина 1м² не менее 2,8мм","м2",{"v":1243.267,"d":"1,243 "},{"v":6057.84,"d":"6,058 "},{"v":5477.84,"d":"5,478 "},{"v":580,"d":"580 "},null,{"v":112,"d":"112 "},null,null,1,"КПД, 1 Каркас","Новое ",{"v":4053.6016,"d":"4,054 "},{"v":3186.1308576,"d":"3,186 "},{"v":423.4,"d":"423 "},{"$f":"SUM(IG94,#REF!,#REF!,#REF!,#REF!,#REF!,#REF!,#REF!)","v":{"$error":"#REF!"}},{"$error":"#REF!"},{"$nulls":150},"2022-11-01","2022-11-15","2024-02-24","2022-12-30","2022-09-30","2023-12-30","2022-12-30","2022-09-30","2023-12-30","2022-12-30","2022-09-30","2023-12-30","2022-12-30","2022-09-30","2023-12-30","2022-12-30","2022-09-30","2023-12-30","2022-12-30","2022-09-30","2023-12-30","2022-12-30","2022-09-30","2023-12-30","2022-12-30","2022-09-30","2023-12-30","2022-12-30","2022-09-30","2023-12-30","2022-12-30","2022-09-30","2023-12-30","2022-12-30","2022-09-30","2023-12-30","2022-12-30","2022-09-30","2023-12-30","2022-12-30","2022-09-30","2023-12-30","2022-12-30","2022-09-30","2023-12-30","2022-12-30","2022-09-30","2023-12-30",null,"АБ-1","АБ-1","АБСт",null,"-",{"$nulls":12},0,{"$f":"IF(YEAR(#REF!)=HU$8,$J94,0)","v":{"$error":"#REF!"}},{"$f":"IF(AND(YEAR(#REF!)<=HU$8,YEAR(#REF!)>HU$8),$J94,0)","v":{"$error":"#REF!"}},{"$nulls":3},{"v":1243.267,"d":"1,243"},{"$nulls":7},"▪"]
[276,"13.1.2.6","СК00.01.1.04.1","ЖК \"Салават Купере\" Квартал №1 ж/д 4-1",null,"Плиты теплоизоляционные пенополистирольные ППС-25 150мм",null,"м3",{"$f":"140.294/580*L95","v":{"v":166.90148275862072,"d":"167 "}},{"$f":"K95+L95","v":{"v":13326.52,"d":"13,327 "}},{"v":12636.52,"d":"12,637 "},{"v":690,"d":"690 "},null,{"v":228,"d":"228 "},null,null,1,"КПД, 1 Каркас","Новое ",{"v":8213.738000000001,"d":"8,214 "},{"v":6455.998068000001,"d":"6,456 "},{"v":503.7,"d":"504 "},{"$f":"SUM(IG95,#REF!,#REF!,#REF!,#REF!,#REF!,#REF!,#REF!)","v":{"$error":"#REF!"}},{"$error":"#REF!"},{"$nulls":150},"2023-02-01",{"$f":"FS95+14","v":"2023-02-15"},"2024-09-23","2023-01-01","2023-06-01","2024-12-30","2023-01-01","2023-06-01","2024-12-30","2023-01-01","2023-06-01","2024-12-30","2023-01-01","2023-06-01","2024-12-30","2023-01-01","2023-06-01","2024-12-30","2023-01-01","2023-06-01","2024-12-30","2023-01-01","2023-01-01","2024-10-30","2023-01-01","2023-01-01","2024-10-30","2023-01-01","2023-01-01","2024-10-30","2023-01-01","2024-02-01","2025-09-01","2023-01-01","2024-02-01","2025-09-01","2023-01-01","2023-02-01","2024-09-01","2023-01-01","2023-02-01","2024-09-01","2023-01-01","2023-02-01","2024-09-01","2023-01-01","2023-02-01","2024-09-01",null,"АБ-1","АБ-1","АБСт",null,"-",{"$nulls":12},0,{"$f":"IF(YEAR(#REF!)=HU$8,$J95,0)","v":{"$error":"#REF!"}},{"$f":"IF(AND(YEAR(#REF!)<=HU$8,YEAR(#REF!)>HU$8),$J95,0)","v":{"$error":"#REF!"}},{"$nulls":12},{"$f":"I95","v":{"v":166.90148275862072,"d":"167"}}]
[276,"13.1.2.6","СК00.01.1.04.1","ЖК \"Салават Купере\" Квартал №1 ж/д 4-1",null,"Керамзит М600",null,"м3",{"$f":"142.129/580*L96","v":{"v":169.0845,"d":"169 "}},{"v":13326.52,"d":"13,327 "},{"v":12636.52,"d":"12,637 "},{"v":690,"d":"690 "},null,{"v":228,"d":"228 "},null,null,1,"КПД, 1 Каркас","Новое ",{"v":8213.738000000001,"d":"8,214 "},{"$f":"T96*0.786","v":{"v":6455.998068000001,"d":"6,456 "}},{"v":503.7,"d":"504 "},{"$f":"SUM(IG96,#REF!,#REF!,#REF!,#REF!,#REF!,#REF!,#REF!)","v":{"$error":"#REF!"}},{"$error":"#REF!"},{"$nulls":150},"2023-02-01","2023-02-15","2024-09-23","2023-01-01","2023-06-01","2024-12-30","2023-01-01","2023-06-01","2024-12-30","2023-01-01","2023-06-01","2024-12-30","2023-01-01","2023-06-01","2024-12-30","2023-01-01","2023-06-01","2024-12-30","2023-01-01","2023-06-01","2024-12-30","2023-01-01","2023-01-01","2024-10-30","2023-01-01","2023-01-01","2024-10-30","2023-01-01","2023-01-01","2024-10-30","2023-01-01","2024-02-01","2025-09-01","2023-01-01","2024-02-01","2025-09-01","2023-01-01","2023-02-01","2024-09-01","2023-01-01","2023-02-01","2024-09-01","2023-01-01","2023-02-01","2024-09-01","2023-01-01","2023-02-01","2024-09-01",null,"АБ-1","АБ-1","АБСт",null,"-",{"$nulls":12},{"$f":"SUM(HU96:IF96)","v":0},{"$f":"IF(YEAR(#REF!)=HU$8,$J96,0)","v":{"$error":"#REF!"}},{"$f":"IF(AND(YEAR(#REF!)<=HU$8,YEAR(#REF!)>HU$8),$J96,0)","v":{"$error":"#REF!"}},{"$nulls":12},{"$f":"I96","v":{"v":169.0845,"d":"169"}}]
[276,"13.1.2.6","СК00.01.1.04.1","ЖК \"Салават Купере\" Квартал №1 ж/д 4-1",null,"Плиты теплоизоляционные пенополистирольные экструдированные 100мм",null,"м3",{"$f":"14.146/580*L97","v":{"v":16.828862068965517,"d":"17 "}},{"v":13326.52,"d":"13,327 "},{"v":12636.52,"d":"12,637 "},{"v":690,"d":"690 "},null,{"v":228,"d":"228 "},null,null,1,"КПД, 1 Каркас","Новое ",{"v":8213.738000000001,"d":"8,214 "},{"v":6455.998068000001,"d":"6,456 "},{"v":503.7,"d":"504 "},{"$f":"SUM(IG97,#REF!,#REF!,#REF!,#REF!,#REF!,#REF!,#REF!)","v":{"$error":"#REF!"}},{"$error":"#REF!"},{"$nulls":150},"2023-02-01","2023-02-15","2024-09-23","2023-01-01","2023-06-01","2024-12-30","2023-01-01","2023-06-01","2024-12-30","2023-01-01","2023-06-01","2024-12-30","2023-01-01","2023-06-01","2024-12-30","2023-01-01","2023-06-01","2024-12-30","2023-01-01","2023-06-01","2024-12-30","2023-01-01","2023-01-01","2024-10-30","2023-01-01","2023-01-01","2024-10-30","2023-01-01","2023-01-01","2024-10-30","2023-01-01","2024-02-01","2025-09-01","2023-01-01","2024-02-01","2025-09-01","2023-01-01","2023-02-01","2024-09-01","2023-01-01","2023-02-01","2024-09-01","2023-01-01","2023-02-01","2024-09-01","2023-01-01","2023-02-01","2024-09-01",null,"АБ-1","АБ-1","АБСт",null,"-",{"$nulls":12},0,{"$f":"IF(YEAR(#REF!)=HU$8,$J97,0)","v":{"$error":"#REF!"}},{"$f":"IF(AND(YEAR(#REF!)<=HU$8,YEAR(#REF!)>HU$8),$J97,0)","v":{"$error":"#REF!"}},{"$nulls":12},{"v":16.828862068965517,"d":"17"}]
[276,"13.1.2.6","СК00.01.1.04.1","ЖК \"Салават Купере\" Квартал №1 ж/д 4-1",null,"Плиты теплоизоляционные пенополистирольные экструдированные 50мм",null,"м3",{"$f":"3.939/580*L98","v":{"v":4.686051724137931,"d":"5 "}},{"v":13326.52,"d":"13,327 "},{"v":12636.52,"d":"12,637 "},{"v":690,"d":"690 "},null,{"v":228,"d":"228 "},null,null,1,"КПД, 1 Каркас","Новое ",{"v":8213.738000000001,"d":"8,214 "},{"v":6455.998068000001,"d":"6,456 "},{"v":503.7,"d":"504 "},{"$f":"SUM(IG98,#REF!,#REF!,#REF!,#REF!,#REF!,#REF!,#REF!)","v":{"$error":"#REF!"}},{"$error":"#REF!"},{"$nulls":150},"2023-02-01","2023-02-15","2024-09-23","2023-01-01","2023-06-01","2024-12-30","2023-01-01","2023-06-01","2024-12-30","2023-01-01","2023-06-01","2024-12-30","2023-01-01","2023-06-01","2024-12-30","2023-01-01","2023-06-01","2024-12-30","2023-01-01","2023-06-01","2024-12-30","2023-01-01","2023-01-01","2024-10-30","2023-01-01","2023-01-01","2024-10-30","2023-01-01","2023-01-01","2024-10-30","2023-01-01","2024-02-01","2025-09-01","2023-01-01","2024-02-01","2025-09-01","2023-01-01","2023-02-01","2024-09-01","2023-01-01","2023-02-01","2024-09-01","2023-01-01","2023-02-01","2024-09-01","2023-01-01","2023-02-01","2024-09-01",null,"АБ-1","АБ-1","АБСт",null,"-",{"$nulls":12},0,{"$f":"IF(YEAR(#REF!)=HU$8,$J98,0)","v":{"$error":"#REF!"}},{"$f":"IF(AND(YEAR(#REF!)<=HU$8,YEAR(#REF!)>HU$8),$J98,0)","v":{"$error":"#REF!"}},{"$nulls":12},{"v":4.686051724137931,"d":"5"}]
[276,"13.1.2.6","СК00.01.1.04.1","ЖК \"Салават Купере\" Квартал №1 ж/д 4-1",null,"Материал рулонный кровельный гидроизоляционный верхний слой","основа: полиэстeр;температура гибкости на брусе R=25мм не менее -20; толщина 1м² не менее 3,8мм","м2",{"$f":"1730.022/580*L99","v":{"v":2058.129620689655,"d":"2,058 "}},{"v":13326.52,"d":"13,327 "},{"v":12636.52,"d":"12,637 "},{"v":690,"d":"690 "},null,{"v":228,"d":"228 "},null,null,1,"КПД, 1 Каркас","Новое ",{"v":8213.738000000001,"d":"8,214 "},{"v":6455.998068000001,"d":"6,456 "},{"v":503.7,"d":"504 "},{"$f":"SUM(IG99,#REF!,#REF!,#REF!,#REF!,#REF!,#REF!,#REF!)","v":{"$error":"#REF!"}},{"$error":"#REF!"},{"$nulls":150},"2023-02-01","2023-02-15","2024-09-23","2023-01-01","2023-06-01","2024-12-30","2023-01-01","2023-06-01","2024-12-30","2023-01-01","2023-06-01","2024-12-30","2023-01-01","2023-06-01","2024-12-30","2023-01-01","2023-06-01","2024-12-30","2023-01-01","2023-06-01","2024-12-30","2023-01-01","2023-01-01","2024-10-30","2023-01-01","2023-01-01","2024-10-30","2023-01-01","2023-01-01","2024-10-30","2023-01-01","2024-02-01","2025-09-01","2023-01-01","2024-02-01","2025-09-01","2023-01-01","2023-02-01","2024-09-01","2023-01-01","2023-02-01","2024-09-01","2023-01-01","2023-02-01","2024-09-01","2023-01-01","2023-02-01","2024-09-01",null,"АБ-1","АБ-1","АБСт",null,"-",{"$nulls":12},0,{"$f":"IF(YEAR(#REF!)=HU$8,$J99,0)","v":{"$error":"#REF!"}},{"$f":"IF(AND(YEAR(#REF!)<=HU$8,YEAR(#REF!)>HU$8),$J99,0)","v":{"$error":"#REF!"}},{"$nulls":12},{"v":2058.129620689655,"d":"2,058"}]
[276,"13.1.2.6","СК00.01.1.04.1","ЖК \"Салават Купере\" Квартал №1 ж/д 4-1",null,"Материал рулонный кровельный гидроизоляционный нижний слой","основа: полиэстeр;температура гибкости на брусе R=25мм не менее -20; толщина 1м² не менее 2,8мм","м2",{"$f":"1243.267/580*L100","v":{"v":1479.0590172413795,"d":"1,479 "}},{"v":13326.52,"d":"13,327 "},{"v":12636.52,"d":"12,637 "},{"v":690,"d":"690 "},null,{"v":228,"d":"228 "},null,null,1,"КПД, 1 Каркас","Новое ",{"v":8213.738000000001,"d":"8,214 "},{"v":6455.998068000001,"d":"6,456 "},{"v":503.7,"d":"504 "},{"$f":"SUM(IG100,#REF!,#REF!,#REF!,#REF!,#REF!,#REF!,#REF!)","v":{"$error":"#REF!"}},{"$error":"#REF!"},{"$nulls":150},"2023-02-01","2023-02-15","2024-09-23","2023-01-01","2023-06-01","2024-12-30","2023-01-01","2023-06-01","2024-12-30","2023-01-01","2023-06-01","2024-12-30","2023-01-01","2023-06-01","2024-12-30","2023-01-01","2023-06-01","2024-12-30","2023-01-01","2023-06-01","2024-12-30","2023-01-01","2023-01-01","2024-10-30","2023-01-01","2023-01-01","2024-10-30","2023-01-01","2023-01-01","2024-10-30","2023-01-01","2024-02-01","2025-09-01","2023-01-01","2024-02-01","2025-09-01","2023-01-01","2023-02-01","2024-09-01","2023-01-01","2023-02-01","2024-09-01","2023-01-01","2023-02-01","2024-09-01","2023-01-01","2023-02-01","2024-09-01",null,"АБ-1","АБ-1","АБСт",null,"-",{"$nulls":12},0,{"$f":"IF(YEAR(#REF!)=HU$8,$J100,0)","v":{"$error":"#REF!"}},{"$f":"IF(AND(YEAR(#REF!)<=HU$8,YEAR(#REF!)>HU$8),$J100,0)","v":{"$error":"#REF!"}},{"$nulls":12},{"v":1479.0590172413795,"d":"1,479"}]
[277,"13.1.2.7","СК00.01.1.04.2","ЖК \"Салават Купере\" Квартал №1 ж/д 4-2",null,"Плиты теплоизоляционные пенополистирольные ППС-25 150мм",null,"м3",{"$f":"140.294/580*L101","v":{"v":96.7544827586207,"d":"97 "}},{"$f":"K101+L101","v":{"v":7765.68,"d":"7,766 "}},{"v":7365.68,"d":"7,366 "},{"v":400,"d":"400 "},null,{"v":196,"d":"196 "},null,null,1,"КПД, 1 Каркас","Перепривязка",{"v":4787.692,"d":"4,788 "},{"v":3763.125912,"d":"3,763 "},{"v":292,"d":"292 "},{"$f":"SUM(IG101,#REF!,#REF!,#REF!,#REF!,#REF!,#REF!,#REF!)","v":{"$error":"#REF!"}},{"$error":"#REF!"},{"$nulls":150},"2022-12-01","2022-12-15","2024-07-23","2023-01-01","2023-06-01","2024-12-30","2023-01-01","2023-06-01","2024-12-30","2023-01-01","2023-06-01","2024-12-30","2023-01-01","2023-06-01","2024-12-30","2023-01-01","2023-06-01","2024-12-30","2023-01-01","2023-06-01","2024-12-30","2023-01-01","2022-09-01","2024-10-30","2023-01-01","2022-09-01","2024-10-30","2023-01-01","2022-09-01","2024-10-30","2023-01-01","2024-01-10","2025-09-01","2023-01-01","2024-01-10","2025-09-01","2023-01-01","2023-02-01","2024-09-01","2023-01-01","2023-02-01","2024-09-01","2023-01-01","2023-02-01","2024-09-01","2023-01-01","2023-02-01","2024-09-01",null,"АБ-1","АБ-1","АБСт",null,"-",{"$nulls":12},0,{"$f":"IF(YEAR(#REF!)=HU$8,$J101,0)","v":{"$error":"#REF!"}},{"$f":"IF(AND(YEAR(#REF!)<=HU$8,YEAR(#REF!)>HU$8),$J101,0)","v":{"$error":"#REF!"}},{"$nulls":7},{"$f":"I101/2","v":{"v":48.37724137931035,"d":"48"}},{"$f":"I101/2","v":{"v":48.37724137931035,"d":"48"}}]
[277,"13.1.2.7","СК00.01.1.04.2","ЖК \"Салават Купере\" Квартал №1 ж/д 4-2",null,"Керамзит М600",null,"м3",{"$f":"142.129/580*L102","v":{"v":98.02,"d":"98 "}},{"$f":"K102+L102","v":{"v":7765.68,"d":"7,766 "}},{"v":7365.68,"d":"7,366 "},{"v":400,"d":"400 "},null,{"v":196,"d":"196 "},null,null,1,"КПД, 1 Каркас","Перепривязка",{"v":4787.692,"d":"4,788 "},{"$f":"T102*0.786","v":{"v":3763.125912,"d":"3,763 "}},{"v":292,"d":"292 "},{"$f":"SUM(IG102,#REF!,#REF!,#REF!,#REF!,#REF!,#REF!,#REF!)","v":{"$error":"#REF!"}},{"$error":"#REF!"},{"$nulls":150},"2022-12-01",{"$f":"FS102+14","v":"2022-12-15"},"2024-07-23","2023-01-01","2023-06-01","2024-12-30","2023-01-01","2023-06-01","2024-12-30","2023-01-01","2023-06-01","2024-12-30","2023-01-01","2023-06-01","2024-12-30","2023-01-01","2023-06-01","2024-12-30","2023-01-01","2023-06-01","2024-12-30","2023-01-01","2022-09-01","2024-10-30","2023-01-01","2022-09-01","2024-10-30","2023-01-01","2022-09-01","2024-10-30","2023-01-01","2024-01-10","2025-09-01","2023-01-01","2024-01-10","2025-09-01","2023-01-01","2023-02-01","2024-09-01","2023-01-01","2023-02-01","2024-09-01","2023-01-01","2023-02-01","2024-09-01","2023-01-01","2023-02-01","2024-09-01",null,"АБ-1","АБ-1","АБСт",null,"-",{"$nulls":12},{"$f":"SUM(HU102:IF102)","v":0},{"$f":"IF(YEAR(#REF!)=HU$8,$J102,0)","v":{"$error":"#REF!"}},{"$f":"IF(AND(YEAR(#REF!)<=HU$8,YEAR(#REF!)>HU$8),$J102,0)","v":{"$error":"#REF!"}},{"$nulls":7},{"$f":"I102/2","v":{"v":49.01,"d":"49"}},{"$f":"I102/2","v":{"v":49.01,"d":"49"}}]
[277,"13.1.2.7","СК00.01.1.04.2","ЖК \"Салават Купере\" Квартал №1 ж/д 4-2",null,"Плиты теплоизоляционные пенополистирольные экструдированные 100мм",null,"м3",{"$f":"14.146/580*L103","v":{"v":9.755862068965518,"d":"10 "}},{"v":7765.68,"d":"7,766 "},{"v":7365.68,"d":"7,366 "},{"v":400,"d":"400 "},null,{"v":196,"d":"196 "},null,null,1,"КПД, 1 Каркас","Перепривязка",{"v":4787.692,"d":"4,788 "},{"v":3763.125912,"d":"3,763 "},{"v":292,"d":"292 "},{"$f":"SUM(IG103,#REF!,#REF!,#REF!,#REF!,#REF!,#REF!,#REF!)","v":{"$error":"#REF!"}},{"$error":"#REF!"},{"$nulls":150},"2022-12-01","2022-12-15","2024-07-23","2023-01-01","2023-06-01","2024-12-30","2023-01-01","2023-06-01","2024-12-30","2023-01-01","2023-06-01","2024-12-30","2023-01-01","2023-06-01","2024-12-30","2023-01-01","2023-06-01","2024-12-30","2023-01-01","2023-06-01","2024-12-30","2023-01-01","2022-09-01","2024-10-30","2023-01-01","2022-09-01","2024-10-30","2023-01-01","2022-09-01","2024-10-30","2023-01-01","2024-01-10","2025-09-01","2023-01-01","2024-01-10","2025-09-01","2023-01-01","2023-02-01","2024-09-01","2023-01-01","2023-02-01","2024-09-01","2023-01-01","2023-02-01","2024-09-01","2023-01-01","2023-02-01","2024-09-01",null,"АБ-1","АБ-1","АБСт",null,"-",{"$nulls":12},0,{"$f":"IF(YEAR(#REF!)=HU$8,$J103,0)","v":{"$error":"#REF!"}},{"$f":"IF(AND(YEAR(#REF!)<=HU$8,YEAR(#REF!)>HU$8),$J103,0)","v":{"$error":"#REF!"}},{"$nulls":7},{"v":4.877931034482759,"d":"5"},{"v":4.877931034482759,"d":"5"}]
[277,"13.1.2.7","СК00.01.1.04.2","ЖК \"Салават Купере\" Квартал №1 ж/д 4-2",null,"Плиты теплоизоляционные пенополистирольные экструдированные 50мм",null,"м3",{"$f":"3.939/580*L104","v":{"v":2.716551724137931,"d":"3 "}},{"v":7765.68,"d":"7,766 "},{"v":7365.68,"d":"7,366 "},{"v":400,"d":"400 "},null,{"v":196,"d":"196 "},null,null,1,"КПД, 1 Каркас","Перепривязка",{"v":4787.692,"d":"4,788 "},{"v":3763.125912,"d":"3,763 "},{"v":292,"d":"292 "},{"$f":"SUM(IG104,#REF!,#REF!,#REF!,#REF!,#REF!,#REF!,#REF!)","v":{"$error":"#REF!"}},{"$error":"#REF!"},{"$nulls":150},"2022-12-01","2022-12-15","2024-07-23","2023-01-01","2023-06-01","2024-12-30","2023-01-01","2023-06-01","2024-12-30","2023-01-01","2023-06-01","2024-12-30","2023-01-01","2023-06-01","2024-12-30","2023-01-01","2023-06-01","2024-12-30","2023-01-01","2023-06-01","2024-12-30","2023-01-01","2022-09-01","2024-10-30","2023-01-01","2022-09-01","2024-10-30","2023-01-01","2022-09-01","2024-10-30","2023-01-01","2024-01-10","2025-09-01","2023-01-01","2024-01-10","2025-09-01","2023-01-01","2023-02-01","2024-09-01","2023-01-01","2023-02-01","2024-09-01","2023-01-01","2023-02-01","2024-09-01","2023-01-01","2023-02-01","2024-09-01",null,"АБ-1","АБ-1","АБСт",null,"-",{"$nulls":12},0,{"$f":"IF(YEAR(#REF!)=HU$8,$J104,0)","v":{"$error":"#REF!"}},{"$f":"IF(AND(YEAR(#REF!)<=HU$8,YEAR(#REF!)>HU$8),$J104,0)","v":{"$error":"#REF!"}},{"$nulls":7},{"v":1.3582758620689654,"d":"1"},{"v":1.3582758620689654,"d":"1"}]
[277,"13.1.2.7","СК00.01.1.04.2","ЖК \"Салават Купере\" Квартал №1 ж/д 4-2",null,"Материал рулонный кровельный гидроизоляционный верхний слой","основа: полиэстeр;температура гибкости на брусе R=25мм не менее -20; толщина 1м² не менее 3,8мм","м2",{"$f":"1730.022/580*L105","v":{"v":1193.1186206896552,"d":"1,193 "}},{"v":7765.68,"d":"7,766 "},{"v":7365.68,"d":"7,366 "},{"v":400,"d":"400 "},null,{"v":196,"d":"196 "},null,null,1,"КПД, 1 Каркас","Перепривязка",{"v":4787.692,"d":"4,788 "},{"v":3763.125912,"d":"3,763 "},{"v":292,"d":"292 "},{"$f":"SUM(IG105,#REF!,#REF!,#REF!,#REF!,#REF!,#REF!,#REF!)","v":{"$error":"#REF!"}},{"$error":"#REF!"},{"$nulls":150},"2022-12-01","2022-12-15","2024-07-23","2023-01-01","2023-06-01","2024-12-30","2023-01-01","2023-06-01","2024-12-30","2023-01-01","2023-06-01","2024-12-30","2023-01-01","2023-06-01","2024-12-30","2023-01-01","2023-06-01","2024-12-30","2023-01-01","2023-06-01","2024-12-30","2023-01-01","2022-09-01","2024-10-30","2023-01-01","2022-09-01","2024-10-30","2023-01-01","2022-09-01","2024-10-30","2023-01-01","2024-01-10","2025-09-01","2023-01-01","2024-01-10","2025-09-01","2023-01-01","2023-02-01","2024-09-01","2023-01-01","2023-02-01","2024-09-01","2023-01-01","2023-02-01","2024-09-01","2023-01-01","2023-02-01","2024-09-01",null,"АБ-1","АБ-1","АБСт",null,"-",{"$nulls":12},0,{"$f":"IF(YEAR(#REF!)=HU$8,$J105,0)","v":{"$error":"#REF!"}},{"$f":"IF(AND(YEAR(#REF!)<=HU$8,YEAR(#REF!)>HU$8),$J105,0)","v":{"$error":"#REF!"}},{"$nulls":7},{"v":596.5593103448276,"d":"597"},{"v":596.5593103448276,"d":"597"}]
[277,"13.1.2.7","СК00.01.1.04.2","ЖК \"Салават Купере\" Квартал №1 ж/д 4-2",null,"Материал рулонный кровельный гидроизоляционный нижний слой","основа: полиэстeр;температура гибкости на брусе R=25мм не менее -20; толщина 1м² не менее 2,8мм","м2",{"$f":"1243.267/580*L106","v":{"v":857.4255172413795,"d":"857 "}},{"v":7765.68,"d":"7,766 "},{"v":7365.68,"d":"7,366 "},{"v":400,"d":"400 "},null,{"v":196,"d":"196 "},null,null,1,"КПД, 1 Каркас","Перепривязка",{"v":4787.692,"d":"4,788 "},{"v":3763.125912,"d":"3,763 "},{"v":292,"d":"292 "},{"$f":"SUM(IG106,#REF!,#REF!,#REF!,#REF!,#REF!,#REF!,#REF!)","v":{"$error":"#REF!"}},{"$error":"#REF!"},{"$nulls":150},"2022-12-01","2022-12-15","2024-07-23","2023-01-01","2023-06-01","2024-12-30","2023-01-01","2023-06-01","2024-12-30","2023-01-01","2023-06-01","2024-12-30","2023-01-01","2023-06-01","2024-12-30","2023-01-01","2023-06-01","2024-12-30","2023-01-01","2023-06-01","2024-12-30","2023-01-01","2022-09-01","2024-10-30","2023-01-01","2022-09-01","2024-10-30","2023-01-01","2022-09-01","2024-10-30","2023-01-01","2024-01-10","2025-09-01","2023-01-01","2024-01-10","2025-09-01","2023-01-01","2023-02-01","2024-09-01","2023-01-01","2023-02-01","2024-09-01","2023-01-01","2023-02-01","2024-09-01","2023-01-01","2023-02-01","2024-09-01",null,"АБ-1","АБ-1","АБСт",null,"-",{"$nulls":12},0,{"$f":"IF(YEAR(#REF!)=HU$8,$J106,0)","v":{"$error":"#REF!"}},{"$f":"IF(AND(YEAR(#REF!)<=HU$8,YEAR(#REF!)>HU$8),$J106,0)","v":{"$error":"#REF!"}},{"$nulls":7},{"v":428.7127586206897,"d":"429"},{"v":428.7127586206897,"d":"429"}]
[278,"13.1.2.8","СК00.01.1.04.3","ЖК \"Салават Купере\" Квартал №1 ж/д 4-3",null,"Плиты теплоизоляционные пенополистирольные ППС-25 150мм",null,"м3",{"$f":"140.294/580*L107","v":{"v":140.294,"d":"140 "}},{"v":10078.28,"d":"10,078 "},{"v":9498.28,"d":"9,498 "},{"v":580,"d":"580 "},null,{"v":140,"d":"140 "},null,null,1,"КПД, 1 Каркас","Новое ",{"v":6173.8820000000005,"d":"6,174 "},{"v":4852.671252000001,"d":"4,853 "},{"v":423.4,"d":"423 "},{"$f":"SUM(IG107,#REF!,#REF!,#REF!,#REF!,#REF!,#REF!,#REF!)","v":{"$error":"#REF!"}},{"$error":"#REF!"},{"$nulls":150},"2023-04-01","2023-04-15","2024-11-21","2023-01-01","2023-06-01","2024-12-30","2023-01-01","2023-06-01","2024-12-30","2023-01-01","2023-06-01","2024-12-30","2023-01-01","2023-06-01","2024-12-30","2023-01-01","2023-06-01","2024-12-30","2023-01-10","2023-01-10","2024-12-30","2023-01-10","2022-12-01","2024-10-30","2023-01-10","2022-12-01","2024-10-30","2023-01-10","2022-12-01","2024-10-30","2023-01-10","2024-01-10","2025-09-01","2023-01-10","2024-01-10","2025-09-01","2023-01-10","2023-02-01","2024-09-01","2023-01-10","2023-02-01","2024-09-01","2023-01-10","2023-02-01","2024-09-01","2023-01-10","2023-02-01","2024-09-01",null,"АБ-1","АБ-1","АБСт",null,"-",{"$nulls":12},0,{"$f":"IF(YEAR(#REF!)=HU$8,$J107,0)","v":{"$error":"#REF!"}},{"$f":"IF(AND(YEAR(#REF!)<=HU$8,YEAR(#REF!)>HU$8),$J107,0)","v":{"$error":"#REF!"}},{"$nulls":10},{"$f":"I107/2","v":{"v":70.147,"d":"70"}},{"$f":"I107/2","v":{"v":70.147,"d":"70"}}]
[278,"13.1.2.8","СК00.01.1.04.3","ЖК \"Салават Купере\" Квартал №1 ж/д 4-3",null,"Керамзит М600",null,"м3",{"$f":"142.129/580*L108","v":{"v":142.129,"d":"142 "}},{"$f":"K108+L108","v":{"v":10078.28,"d":"10,078 "}},{"v":9498.28,"d":"9,498 "},{"v":580,"d":"580 "},null,{"v":140,"d":"140 "},null,null,1,"КПД, 1 Каркас","Новое ",{"v":6173.8820000000005,"d":"6,174 "},{"$f":"T108*0.786","v":{"v":4852.671252000001,"d":"4,853 "}},{"v":423.4,"d":"423 "},{"$f":"SUM(IG108,#REF!,#REF!,#REF!,#REF!,#REF!,#REF!,#REF!)","v":{"$error":"#REF!"}},{"$error":"#REF!"},{"$nulls":150},"2023-04-01",{"$f":"FS108+14","v":"2023-04-15"},"2024-11-21","2023-01-01","2023-06-01","2024-12-30","2023-01-01","2023-06-01","2024-12-30","2023-01-01","2023-06-01","2024-12-30","2023-01-01","2023-06-01","2024-12-30","2023-01-01","2023-06-01","2024-12-30","2023-01-10","2023-01-10","2024-12-30","2023-01-10","2022-12-01","2024-10-30","2023-01-10","2022-12-01","2024-10-30","2023-01-10","2022-12-01","2024-10-30","2023-01-10","2024-01-10","2025-09-01","2023-01-10","2024-01-10","2025-09-01","2023-01-10","2023-02-01","2024-09-01","2023-01-10","2023-02-01","2024-09-01","2023-01-10","2023-02-01","2024-09-01","2023-01-10","2023-02-01","2024-09-01",null,"АБ-1","АБ-1","АБСт",null,"-",{"$nulls":12},{"$f":"SUM(HU108:IF108)","v":0},{"$f":"IF(YEAR(#REF!)=HU$8,$J108,0)","v":{"$error":"#REF!"}},{"$f":"IF(AND(YEAR(#REF!)<=HU$8,YEAR(#REF!)>HU$8),$J108,0)","v":{"$error":"#REF!"}},{"$nulls":10},{"$f":"I108/2","v":{"v":71.0645,"d":"71"}},{"$f":"I108/2","v":{"v":71.0645,"d":"71"}}]
[278,"13.1.2.8","СК00.01.1.04.3","ЖК \"Салават Купере\" Квартал №1 ж/д 4-3",null,"Плиты теплоизоляционные пенополистирольные экструдированные 100мм",null,"м3",{"$f":"14.146/580*L109","v":{"v":14.146,"d":"14 "}},{"$f":"K109+L109","v":{"v":10078.28,"d":"10,078 "}},{"v":9498.28,"d":"9,498 "},{"v":580,"d":"580 "},null,{"v":140,"d":"140 "},null,null,1,"КПД, 1 Каркас","Новое ",{"v":6173.8820000000005,"d":"6,174 "},{"$f":"T109*0.786","v":{"v":4852.671252000001,"d":"4,853 "}},{"v":423.4,"d":"423 "},{"$f":"SUM(IG109,#REF!,#REF!,#REF!,#REF!,#REF!,#REF!,#REF!)","v":{"$error":"#REF!"}},{"$error":"#REF!"},{"$nulls":150},"2023-04-01",{"$f":"FS109+14","v":"2023-04-15"},"2024-11-21","2023-01-01","2023-06-01","2024-12-30","2023-01-01","2023-06-01","2024-12-30","2023-01-01","2023-06-01","2024-12-30","2023-01-01","2023-06-01","2024-12-30","2023-01-01","2023-06-01","2024-12-30","2023-01-10","2023-01-10","2024-12-30","2023-01-10","2022-12-01","2024-10-30","2023-01-10","2022-12-01","2024-10-30","2023-01-10","2022-12-01","2024-10-30","2023-01-10","2024-01-10","2025-09-01","2023-01-10","2024-01-10","2025-09-01","2023-01-10","2023-02-01","2024-09-01","2023-01-10","2023-02-01","2024-09-01","2023-01-10","2023-02-01","2024-09-01","2023-01-10","2023-02-01","2024-09-01",null,"АБ-1","АБ-1","АБСт",null,"-",{"$nulls":12},{"$f":"SUM(HU109:IF109)","v":0},{"$f":"IF(YEAR(#REF!)=HU$8,$J109,0)","v":{"$error":"#REF!"}},{"$f":"IF(AND(YEAR(#REF!)<=HU$8,YEAR(#REF!)>HU$8),$J109,0)","v":{"$error":"#REF!"}},{"$nulls":10},{"v":7.073,"d":"7"},{"v":7.073,"d":"7"}]
[278,"13.1.2.8","СК00.01.1.04.3","ЖК \"Салават Купере\" Квартал №1 ж/д 4-3",null,"Плиты теплоизоляционные пенополистирольные экструдированные 50мм",null,"м3",{"$f":"3.939/580*L110","v":{"v":3.9389999999999996,"d":"4 "}},{"$f":"K110+L110","v":{"v":10078.28,"d":"10,078 "}},{"v":9498.28,"d":"9,498 "},{"v":580,"d":"580 "},null,{"v":140,"d":"140 "},null,null,1,"КПД, 1 Каркас","Новое ",{"v":6173.8820000000005,"d":"6,174 "},{"$f":"T110*0.786","v":{"v":4852.671252000001,"d":"4,853 "}},{"v":423.4,"d":"423 "},{"$f":"SUM(IG110,#REF!,#REF!,#REF!,#REF!,#REF!,#REF!,#REF!)","v":{"$error":"#REF!"}},{"$error":"#REF!"},{"$nulls":150},"2023-04-01",{"$f":"FS110+14","v":"2023-04-15"},"2024-11-21","2023-01-01","2023-06-01","2024-12-30","2023-01-01","2023-06-01","2024-12-30","2023-01-01","2023-06-01","2024-12-30","2023-01-01","2023-06-01","2024-12-30","2023-01-01","2023-06-01","2024-12-30","2023-01-10","2023-01-10","2024-12-30","2023-01-10","2022-12-01","2024-10-30","2023-01-10","2022-12-01","2024-10-30","2023-01-10","2022-12-01","2024-10-30","2023-01-10","2024-01-10","2025-09-01","2023-01-10","2024-01-10","2025-09-01","2023-01-10","2023-02-01","2024-09-01","2023-01-10","2023-02-01","2024-09-01","2023-01-10","2023-02-01","2024-09-01","2023-01-10","2023-02-01","2024-09-01",null,"АБ-1","АБ-1","АБСт",null,"-",{"$nulls":12},{"$f":"SUM(HU110:IF110)","v":0},{"$f":"IF(YEAR(#REF!)=HU$8,$J110,0)","v":{"$error":"#REF!"}},{"$f":"IF(AND(YEAR(#REF!)<=HU$8,YEAR(#REF!)>HU$8),$J110,0)","v":{"$error":"#REF!"}},{"$nulls":10},{"v":1.9694999999999998,"d":"2"},{"v":1.9694999999999998,"d":"2"}]
[278,"13.1.2.8","СК00.01.1.04.3","ЖК \"Салават Купере\" Квартал №1 ж/д 4-3",null,"Материал рулонный кровельный гидроизоляционный верхний слой","основа: полиэстeр;температура гибкости на брусе R=25мм не менее -20; толщина 1м² не менее 3,8мм","м2",{"$f":"1730.022/580*L111","v":{"v":1730.022,"d":"1,730 "}},{"$f":"K111+L111","v":{"v":10078.28,"d":"10,078 "}},{"v":9498.28,"d":"9,498 "},{"v":580,"d":"580 "},null,{"v":140,"d":"140 "},null,null,1,"КПД, 1 Каркас","Новое ",{"v":6173.8820000000005,"d":"6,174 "},{"$f":"T111*0.786","v":{"v":4852.671252000001,"d":"4,853 "}},{"v":423.4,"d":"423 "},{"$f":"SUM(IG111,#REF!,#REF!,#REF!,#REF!,#REF!,#REF!,#REF!)","v":{"$error":"#REF!"}},{"$error":"#REF!"},{"$nulls":150},"2023-04-01",{"$f":"FS111+14","v":"2023-04-15"},"2024-11-21","2023-01-01","2023-06-01","2024-12-30","2023-01-01","2023-06-01","2024-12-30","2023-01-01","2023-06-01","2024-12-30","2023-01-01","2023-06-01","2024-12-30","2023-01-01","2023-06-01","2024-12-30","2023-01-10","2023-01-10","2024-12-30","2023-01-10","2022-12-01","2024-10-30","2023-01-10","2022-12-01","2024-10-30","2023-01-10","2022-12-01","2024-10-30","2023-01-10","2024-01-10","2025-09-01","2023-01-10","2024-01-10","2025-09-01","2023-01-10","2023-02-01","2024-09-01","2023-01-10","2023-02-01","2024-09-01","2023-01-10","2023-02-01","2024-09-01","2023-01-10","2023-02-01","2024-09-01",null,"АБ-1","АБ-1","АБСт",null,"-",{"$nulls":12},{"$f":"SUM(HU111:IF111)","v":0},{"$f":"IF(YEAR(#REF!)=HU$8,$J111,0)","v":{"$error":"#REF!"}},{"$f":"IF(AND(YEAR(#REF!)<=HU$8,YEAR(#REF!)>HU$8),$J111,0)","v":{"$error":"#REF!"}},{"$nulls":10},{"v":865.011,"d":"865"},{"v":865.011,"d":"865"}]
[278,"13.1.2.8","СК00.01.1.04.3","ЖК \"Салават Купере\" Квартал №1 ж/д 4-3",null,"Материал рулонный кровельный гидроизоляционный нижний слой","основа: полиэстeр;температура гибкости на брусе R=25мм не менее -20; толщина 1м² не менее 2,8мм","м2",{"$f":"1243.267/580*L112","v":{"v":1243.2670000000003,"d":"1,243 "}},{"v":10078.28,"d":"10,078 "},{"v":9498.28,"d":"9,498 "},{"v":580,"d":"580 "},null,{"v":140,"d":"140 "},null,null,1,"КПД, 1 Каркас","Новое ",{"v":6173.8820000000005,"d":"6,174 "},{"v":4852.671252000001,"d":"4,853 "},{"v":423.4,"d":"423 "},{"$f":"SUM(IG112,#REF!,#REF!,#REF!,#REF!,#REF!,#REF!,#REF!)","v":{"$error":"#REF!"}},{"$error":"#REF!"},{"$nulls":150},"2023-04-01","2023-04-15","2024-11-21","2023-01-01","2023-06-01","2024-12-30","2023-01-01","2023-06-01","2024-12-30","2023-01-01","2023-06-01","2024-12-30","2023-01-01","2023-06-01","2024-12-30","2023-01-01","2023-06-01","2024-12-30","2023-01-10","2023-01-10","2024-12-30","2023-01-10","2022-12-01","2024-10-30","2023-01-10","2022-12-01","2024-10-30","2023-01-10","2022-12-01","2024-10-30","2023-01-10","2024-01-10","2025-09-01","2023-01-10","2024-01-10","2025-09-01","2023-01-10","2023-02-01","2024-09-01","2023-01-10","2023-02-01","2024-09-01","2023-01-10","2023-02-01","2024-09-01","2023-01-10","2023-02-01","2024-09-01",null,"АБ-1","АБ-1","АБСт",null,"-",{"$nulls":12},0,{"$f":"IF(YEAR(#REF!)=HU$8,$J112,0)","v":{"$error":"#REF!"}},{"$f":"IF(AND(YEAR(#REF!)<=HU$8,YEAR(#REF!)>HU$8),$J112,0)","v":{"$error":"#REF!"}},{"$nulls":10},{"v":621.6335000000001,"d":"622"},{"v":621.6335000000001,"d":"622"}]
[267,"13.1.2.9","СК00.01.1.01.1","ЖК \"Салават Купере\" Квартал №1 ж/д 1-1",null,"Плиты теплоизоляционные пенополистирольные ППС-25 150мм",null,"м3",{"$f":"140.294/580*L113","v":{"v":96.7544827586207,"d":"97 "}},{"$f":"K113+L113","v":{"v":8817.92,"d":"8,818 "}},{"v":8417.92,"d":"8,418 "},{"v":400,"d":"400 "},null,{"v":160,"d":"160 "},null,null,1,"КПД, 1 Каркас","Новое ",{"v":5471.648,"d":"5,472 "},{"$f":"T113*0.786","v":{"v":4300.715328,"d":"4,301 "}},{"v":292,"d":"292 "},{"$f":"SUM(IG113,#REF!,#REF!,#REF!,#REF!,#REF!,#REF!,#REF!)","v":{"$error":"#REF!"}},{"$error":"#REF!"},{"$nulls":150},"2023-05-01","2023-05-15","2024-12-21","2023-04-01","2022-10-30","2024-08-30","2023-04-01","2022-10-30","2024-08-30","2023-04-01","2022-10-30","2024-08-30","2023-04-01","2022-10-30","2024-08-30","2023-04-01","2022-10-30","2024-08-30","2023-04-01","2022-10-30","2024-08-30","2023-04-01","2022-10-01","2024-07-30","2023-04-01","2022-10-01","2024-07-30","2023-04-01","2022-10-01","2024-07-30","2023-04-01","2024-01-10","2025-09-01","2023-04-01","2024-01-10","2025-09-01","2023-04-01","2023-04-01","2024-12-01","2023-04-01","2023-04-01","2024-12-01","2023-04-01","2023-04-01","2024-12-01","2023-04-01","2023-04-01","2024-12-01",null,"АБ-1","АБ-1","АБСт",null,"-",{"$nulls":12},{"$f":"SUM(HU113:IF113)","v":0},{"$f":"IF(YEAR(#REF!)=HU$8,$J113,0)","v":{"$error":"#REF!"}},{"$f":"IF(AND(YEAR(#REF!)<=HU$8,YEAR(#REF!)>HU$8),$J113,0)","v":{"$error":"#REF!"}},{"$nulls":11},{"$f":"I113","v":{"v":96.7544827586207,"d":"97"}}]
[267,"13.1.2.9","СК00.01.1.01.1","ЖК \"Салават Купере\" Квартал №1 ж/д 1-1",null,"Керамзит М600",null,"м3",{"$f":"142.129/580*L114","v":{"v":98.02,"d":"98 "}},{"$f":"K114+L114","v":{"v":8817.92,"d":"8,818 "}},{"v":8417.92,"d":"8,418 "},{"v":400,"d":"400 "},null,{"v":160,"d":"160 "},null,null,1,"КПД, 1 Каркас","Новое ",{"v":5471.648,"d":"5,472 "},{"$f":"T114*0.786","v":{"v":4300.715328,"d":"4,301 "}},{"v":292,"d":"292 "},{"$f":"SUM(IG114,#REF!,#REF!,#REF!,#REF!,#REF!,#REF!,#REF!)","v":{"$error":"#REF!"}},{"$error":"#REF!"},{"$nulls":150},"2023-05-01",{"$f":"FS114+14","v":"2023-05-15"},"2024-12-21","2023-04-01","2022-10-30","2024-08-30","2023-04-01","2022-10-30","2024-08-30","2023-04-01","2022-10-30","2024-08-30","2023-04-01","2022-10-30","2024-08-30","2023-04-01","2022-10-30","2024-08-30","2023-04-01","2022-10-30","2024-08-30","2023-04-01","2022-10-01","2024-07-30","2023-04-01","2022-10-01","2024-07-30","2023-04-01","2022-10-01","2024-07-30","2023-04-01","2024-01-10","2025-09-01","2023-04-01","2024-01-10","2025-09-01","2023-04-01","2023-04-01","2024-12-01","2023-04-01","2023-04-01","2024-12-01","2023-04-01","2023-04-01","2024-12-01","2023-04-01","2023-04-01","2024-12-01",null,"АБ-1","АБ-1","АБСт",null,"-",{"$nulls":12},{"$f":"SUM(HU114:IF114)","v":0},{"$f":"IF(YEAR(#REF!)=HU$8,$J114,0)","v":{"$error":"#REF!"}},{"$f":"IF(AND(YEAR(#REF!)<=HU$8,YEAR(#REF!)>HU$8),$J114,0)","v":{"$error":"#REF!"}},{"$nulls":11},{"$f":"I114","v":{"v":98.02,"d":"98"}}]
[267,"13.1.2.9","СК00.01.1.01.1","ЖК \"Салават Купере\" Квартал №1 ж/д 1-1",null,"Плиты теплоизоляционные пенополистирольные экструдированные 100мм",null,"м3",{"$f":"14.146/580*L115","v":{"v":9.755862068965518,"d":"10 "}},{"$f":"K115+L115","v":{"v":8817.92,"d":"8,818 "}},{"v":8417.92,"d":"8,418 "},{"v":400,"d":"400 "},null,{"v":160,"d":"160 "},null,null,1,"КПД, 1 Каркас","Новое ",{"v":5471.648,"d":"5,472 "},{"$f":"T115*0.786","v":{"v":4300.715328,"d":"4,301 "}},{"v":292,"d":"292 "},{"$f":"SUM(IG115,#REF!,#REF!,#REF!,#REF!,#REF!,#REF!,#REF!)","v":{"$error":"#REF!"}},{"$f":"T115-W115-Y115","v":{"$error":"#REF!"}},{"$nulls":150},"2023-05-01",{"$f":"FS115+14","v":"2023-05-15"},"2024-12-21","2023-04-01","2022-10-30","2024-08-30","2023-04-01","2022-10-30","2024-08-30","2023-04-01","2022-10-30","2024-08-30","2023-04-01","2022-10-30","2024-08-30","2023-04-01","2022-10-30","2024-08-30","2023-04-01","2022-10-30","2024-08-30","2023-04-01","2022-10-01","2024-07-30","2023-04-01","2022-10-01","2024-07-30","2023-04-01","2022-10-01","2024-07-30","2023-04-01","2024-01-10","2025-09-01","2023-04-01","2024-01-10","2025-09-01","2023-04-01","2023-04-01","2024-12-01","2023-04-01","2023-04-01","2024-12-01","2023-04-01","2023-04-01","2024-12-01","2023-04-01","2023-04-01","2024-12-01",null,"АБ-1","АБ-1","АБСт",null,"-",{"$nulls":12},{"$f":"SUM(HU115:IF115)","v":0},{"$f":"IF(YEAR(#REF!)=HU$8,$J115,0)","v":{"$error":"#REF!"}},{"$f":"IF(AND(YEAR(#REF!)<=HU$8,YEAR(#REF!)>HU$8),$J115,0)","v":{"$error":"#REF!"}},{"$nulls":11},{"v":9.755862068965518,"d":"10"}]
[267,"13.1.2.9","СК00.01.1.01.1","ЖК \"Салават Купере\" Квартал №1 ж/д 1-1",null,"Плиты теплоизоляционные пенополистирольные экструдированные 50мм",null,"м3",{"$f":"3.939/580*L116","v":{"v":2.716551724137931,"d":"3 "}},{"$f":"K116+L116","v":{"v":8817.92,"d":"8,818 "}},{"v":8417.92,"d":"8,418 "},{"v":400,"d":"400 "},null,{"v":160,"d":"160 "},null,null,1,"КПД, 1 Каркас","Новое ",{"v":5471.648,"d":"5,472 "},{"$f":"T116*0.786","v":{"v":4300.715328,"d":"4,301 "}},{"v":292,"d":"292 "},{"$f":"SUM(IG116,#REF!,#REF!,#REF!,#REF!,#REF!,#REF!,#REF!)","v":{"$error":"#REF!"}},{"$error":"#REF!"},{"$nulls":150},"2023-05-01",{"$f":"FS116+14","v":"2023-05-15"},"2024-12-21","2023-04-01","2022-10-30","2024-08-30","2023-04-01","2022-10-30","2024-08-30","2023-04-01","2022-10-30","2024-08-30","2023-04-01","2022-10-30","2024-08-30","2023-04-01","2022-10-30","2024-08-30","2023-04-01","2022-10-30","2024-08-30","2023-04-01","2022-10-01","2024-07-30","2023-04-01","2022-10-01","2024-07-30","2023-04-01","2022-10-01","2024-07-30","2023-04-01","2024-01-10","2025-09-01","2023-04-01","2024-01-10","2025-09-01","2023-04-01","2023-04-01","2024-12-01","2023-04-01","2023-04-01","2024-12-01","2023-04-01","2023-04-01","2024-12-01","2023-04-01","2023-04-01","2024-12-01",null,"АБ-1","АБ-1","АБСт",null,"-",{"$nulls":12},{"$f":"SUM(HU116:IF116)","v":0},{"$f":"IF(YEAR(#REF!)=HU$8,$J116,0)","v":{"$error":"#REF!"}},{"$f":"IF(AND(YEAR(#REF!)<=HU$8,YEAR(#REF!)>HU$8),$J116,0)","v":{"$error":"#REF!"}},{"$nulls":11},{"v":2.716551724137931,"d":"3"}]
[267,"13.1.2.9","СК00.01.1.01.1","ЖК \"Салават Купере\" Квартал №1 ж/д 1-1",null,"Материал рулонный кровельный гидроизоляционный верхний слой","основа: полиэстeр;температура гибкости на брусе R=25мм не менее -20; толщина 1м² не менее 3,8мм","м2",{"$f":"1730.022/580*L117","v":{"v":1193.1186206896552,"d":"1,193 "}},{"$f":"K117+L117","v":{"v":8817.92,"d":"8,818 "}},{"v":8417.92,"d":"8,418 "},{"v":400,"d":"400 "},null,{"v":160,"d":"160 "},null,null,1,"КПД, 1 Каркас","Новое ",{"v":5471.648,"d":"5,472 "},{"$f":"T117*0.786","v":{"v":4300.715328,"d":"4,301 "}},{"v":292,"d":"292 "},{"$f":"SUM(IG117,#REF!,#REF!,#REF!,#REF!,#REF!,#REF!,#REF!)","v":{"$error":"#REF!"}},{"$error":"#REF!"},{"$nulls":150},"2023-05-01",{"$f":"FS117+14","v":"2023-05-15"},"2024-12-21","2023-04-01","2022-10-30","2024-08-30","2023-04-01","2022-10-30","2024-08-30","2023-04-01","2022-10-30","2024-08-30","2023-04-01","2022-10-30","2024-08-30","2023-04-01","2022-10-30","2024-08-30","2023-04-01","2022-10-30","2024-08-30","2023-04-01","2022-10-01","2024-07-30","2023-04-01","2022-10-01","2024-07-30","2023-04-01","2022-10-01","2024-07-30","2023-04-01","2024-01-10","2025-09-01","2023-04-01","2024-01-10","2025-09-01","2023-04-01","2023-04-01","2024-12-01","2023-04-01","2023-04-01","2024-12-01","2023-04-01","2023-04-01","2024-12-01","2023-04-01","2023-04-01","2024-12-01",null,"АБ-1","АБ-1","АБСт",null,"-",{"$nulls":12},{"$f":"SUM(HU117:IF117)","v":0},{"$f":"IF(YEAR(#REF!)=HU$8,$J117,0)","v":{"$error":"#REF!"}},{"$f":"IF(AND(YEAR(#REF!)<=HU$8,YEAR(#REF!)>HU$8),$J117,0)","v":{"$error":"#REF!"}},{"$nulls":11},{"v":1193.1186206896552,"d":"1,193"}]
[267,"13.1.2.9","СК00.01.1.01.1","ЖК \"Салават Купере\" Квартал №1 ж/д 1-1",null,"Материал рулонный кровельный гидроизоляционный нижний слой","основа: полиэстeр;температура гибкости на брусе R=25мм не менее -20; толщина 1м² не менее 2,8мм","м2",{"$f":"1243.267/580*L118","v":{"v":857.4255172413795,"d":"857 "}},{"v":8817.92,"d":"8,818 "},{"v":8417.92,"d":"8,418 "},{"v":400,"d":"400 "},null,{"v":160,"d":"160 "},null,null,1,"КПД, 1 Каркас","Новое ",{"v":5471.648,"d":"5,472 "},{"v":4300.715328,"d":"4,301 "},{"v":292,"d":"292 "},{"$f":"SUM(IG118,#REF!,#REF!,#REF!,#REF!,#REF!,#REF!,#REF!)","v":{"$error":"#REF!"}},{"$error":"#REF!"},{"$nulls":150},"2023-05-01",{"$f":"FS118+14","v":"2023-05-15"},"2024-12-21","2023-04-01","2022-10-30","2024-08-30","2023-04-01","2022-10-30","2024-08-30","2023-04-01","2022-10-30","2024-08-30","2023-04-01","2022-10-30","2024-08-30","2023-04-01","2022-10-30","2024-08-30","2023-04-01","2022-10-30","2024-08-30","2023-04-01","2022-10-01","2024-07-30","2023-04-01","2022-10-01","2024-07-30","2023-04-01","2022-10-01","2024-07-30","2023-04-01","2024-01-10","2025-09-01","2023-04-01","2024-01-10","2025-09-01","2023-04-01","2023-04-01","2024-12-01","2023-04-01","2023-04-01","2024-12-01","2023-04-01","2023-04-01","2024-12-01","2023-04-01","2023-04-01","2024-12-01",null,"АБ-1","АБ-1","АБСт",null,"-",{"$nulls":12},{"$f":"SUM(HU118:IF118)","v":0},{"$f":"IF(YEAR(#REF!)=HU$8,$J118,0)","v":{"$error":"#REF!"}},{"$f":"IF(AND(YEAR(#REF!)<=HU$8,YEAR(#REF!)>HU$8),$J118,0)","v":{"$error":"#REF!"}},{"$nulls":11},{"v":857.4255172413795,"d":"857"}]
[268,"13.1.2.10","СК00.01.1.01.2","ЖК \"Салават Купере\" Квартал №1 ж/д 1-2",null,"Плиты теплоизоляционные пенополистирольные ППС-25 150мм",null,"м3",{"$f":"140.294/580*L119","v":{"v":140.294,"d":"140 "}},{"v":8789.44,"d":"8,789 "},{"v":8209.44,"d":"8,209 "},{"v":580,"d":"580 "},null,{"v":168,"d":"168 "},null,null,1,"КПД, 1 Каркас","Перепривязка",{"v":5336.136,"d":"5,336 "},{"v":4194.202896000001,"d":"4,194 "},{"v":423.4,"d":"423 "},{"$f":"SUM(IG119,#REF!,#REF!,#REF!,#REF!,#REF!,#REF!,#REF!)","v":{"$error":"#REF!"}},{"$error":"#REF!"},{"$nulls":150},"2023-02-01","2023-02-15","2024-09-23","2023-04-01","2022-10-30","2024-08-30","2023-04-01","2022-10-30","2024-08-30","2023-04-01","2022-10-30","2024-08-30","2023-04-01","2022-10-30","2024-08-30","2023-04-01","2022-10-30","2024-08-30","2023-04-01","2022-10-30","2024-08-30","2023-04-01","2022-11-01","2024-07-30","2023-04-01","2022-11-01","2024-07-30","2023-04-01","2022-11-01","2024-07-30","2023-04-01","2024-01-10","2025-09-01","2023-04-01","2024-01-10","2025-09-01","2023-04-01","2023-04-01","2024-12-01","2023-04-01","2023-04-01","2024-12-01","2023-04-01","2023-04-01","2024-12-01","2023-04-01","2023-04-01","2024-12-01",null,"АБ-1","АБ-1","АБСт",null,"-",{"$nulls":12},0,{"$f":"IF(YEAR(#REF!)=HU$8,$J119,0)","v":{"$error":"#REF!"}},{"$f":"IF(AND(YEAR(#REF!)<=HU$8,YEAR(#REF!)>HU$8),$J119,0)","v":{"$error":"#REF!"}},{"$nulls":8},{"$f":"I119/2","v":{"v":70.147,"d":"70"}},{"$f":"I119/2","v":{"v":70.147,"d":"70"}}]
[268,"13.1.2.10","СК00.01.1.01.2","ЖК \"Салават Купере\" Квартал №1 ж/д 1-2",null,"Керамзит М600",null,"м3",{"$f":"142.129/580*L120","v":{"v":142.129,"d":"142 "}},{"$f":"K120+L120","v":{"v":8789.44,"d":"8,789 "}},{"v":8209.44,"d":"8,209 "},{"v":580,"d":"580 "},null,{"v":168,"d":"168 "},null,null,1,"КПД, 1 Каркас","Перепривязка",{"v":5336.136,"d":"5,336 "},{"$f":"T120*0.786","v":{"v":4194.202896000001,"d":"4,194 "}},{"v":423.4,"d":"423 "},{"$f":"SUM(IG120,#REF!,#REF!,#REF!,#REF!,#REF!,#REF!,#REF!)","v":{"$error":"#REF!"}},{"$error":"#REF!"},{"$nulls":150},"2023-02-01",{"$f":"FS120+14","v":"2023-02-15"},"2024-09-23","2023-04-01","2022-10-30","2024-08-30","2023-04-01","2022-10-30","2024-08-30","2023-04-01","2022-10-30","2024-08-30","2023-04-01","2022-10-30","2024-08-30","2023-04-01","2022-10-30","2024-08-30","2023-04-01","2022-10-30","2024-08-30","2023-04-01","2022-11-01","2024-07-30","2023-04-01","2022-11-01","2024-07-30","2023-04-01","2022-11-01","2024-07-30","2023-04-01","2024-01-10","2025-09-01","2023-04-01","2024-01-10","2025-09-01","2023-04-01","2023-04-01","2024-12-01","2023-04-01","2023-04-01","2024-12-01","2023-04-01","2023-04-01","2024-12-01","2023-04-01","2023-04-01","2024-12-01",null,"АБ-1","АБ-1","АБСт",null,"-",{"$nulls":12},{"$f":"SUM(HU120:IF120)","v":0},{"$f":"IF(YEAR(#REF!)=HU$8,$J120,0)","v":{"$error":"#REF!"}},{"$f":"IF(AND(YEAR(#REF!)<=HU$8,YEAR(#REF!)>HU$8),$J120,0)","v":{"$error":"#REF!"}},{"$nulls":8},{"$f":"I120/2","v":{"v":71.0645,"d":"71"}},{"$f":"I120/2","v":{"v":71.0645,"d":"71"}}]
[268,"13.1.2.10","СК00.01.1.01.2","ЖК \"Салават Купере\" Квартал №1 ж/д 1-2",null,"Плиты теплоизоляционные пенополистирольные экструдированные 100мм",null,"м3",{"$f":"14.146/580*L121","v":{"v":14.146,"d":"14 "}},{"v":8789.44,"d":"8,789 "},{"v":8209.44,"d":"8,209 "},{"v":580,"d":"580 "},null,{"v":168,"d":"168 "},null,null,1,"КПД, 1 Каркас","Перепривязка",{"v":5336.136,"d":"5,336 "},{"v":4194.202896000001,"d":"4,194 "},{"v":423.4,"d":"423 "},{"$f":"SUM(IG121,#REF!,#REF!,#REF!,#REF!,#REF!,#REF!,#REF!)","v":{"$error":"#REF!"}},{"$error":"#REF!"},{"$nulls":150},"2023-02-01","2023-02-15","2024-09-23","2023-04-01","2022-10-30","2024-08-30","2023-04-01","2022-10-30","2024-08-30","2023-04-01","2022-10-30","2024-08-30","2023-04-01","2022-10-30","2024-08-30","2023-04-01","2022-10-30","2024-08-30","2023-04-01","2022-10-30","2024-08-30","2023-04-01","2022-11-01","2024-07-30","2023-04-01","2022-11-01","2024-07-30","2023-04-01","2022-11-01","2024-07-30","2023-04-01","2024-01-10","2025-09-01","2023-04-01","2024-01-10","2025-09-01","2023-04-01","2023-04-01","2024-12-01","2023-04-01","2023-04-01","2024-12-01","2023-04-01","2023-04-01","2024-12-01","2023-04-01","2023-04-01","2024-12-01",null,"АБ-1","АБ-1","АБСт",null,"-",{"$nulls":12},0,{"$f":"IF(YEAR(#REF!)=HU$8,$J121,0)","v":{"$error":"#REF!"}},{"$f":"IF(AND(YEAR(#REF!)<=HU$8,YEAR(#REF!)>HU$8),$J121,0)","v":{"$error":"#REF!"}},{"$nulls":8},{"v":7.073,"d":"7"},{"v":7.073,"d":"7"}]
[268,"13.1.2.10","СК00.01.1.01.2","ЖК \"Салават Купере\" Квартал №1 ж/д 1-2",null,"Плиты теплоизоляционные пенополистирольные экструдированные 50мм",null,"м3",{"$f":"3.939/580*L122","v":{"v":3.9389999999999996,"d":"4 "}},{"v":8789.44,"d":"8,789 "},{"v":8209.44,"d":"8,209 "},{"v":580,"d":"580 "},null,{"v":168,"d":"168 "},null,null,1,"КПД, 1 Каркас","Перепривязка",{"v":5336.136,"d":"5,336 "},{"v":4194.202896000001,"d":"4,194 "},{"v":423.4,"d":"423 "},{"$f":"SUM(IG122,#REF!,#REF!,#REF!,#REF!,#REF!,#REF!,#REF!)","v":{"$error":"#REF!"}},{"$error":"#REF!"},{"$nulls":150},"2023-02-01","2023-02-15","2024-09-23","2023-04-01","2022-10-30","2024-08-30","2023-04-01","2022-10-30","2024-08-30","2023-04-01","2022-10-30","2024-08-30","2023-04-01","2022-10-30","2024-08-30","2023-04-01","2022-10-30","2024-08-30","2023-04-01","2022-10-30","2024-08-30","2023-04-01","2022-11-01","2024-07-30","2023-04-01","2022-11-01","2024-07-30","2023-04-01","2022-11-01","2024-07-30","2023-04-01","2024-01-10","2025-09-01","2023-04-01","2024-01-10","2025-09-01","2023-04-01","2023-04-01","2024-12-01","2023-04-01","2023-04-01","2024-12-01","2023-04-01","2023-04-01","2024-12-01","2023-04-01","2023-04-01","2024-12-01",null,"АБ-1","АБ-1","АБСт",null,"-",{"$nulls":12},0,{"$f":"IF(YEAR(#REF!)=HU$8,$J122,0)","v":{"$error":"#REF!"}},{"$f":"IF(AND(YEAR(#REF!)<=HU$8,YEAR(#REF!)>HU$8),$J122,0)","v":{"$error":"#REF!"}},{"$nulls":8},{"v":1.9694999999999998,"d":"2"},{"v":1.9694999999999998,"d":"2"}]
[268,"13.1.2.10","СК00.01.1.01.2","ЖК \"Салават Купере\" Квартал №1 ж/д 1-2",null,"Материал рулонный кровельный гидроизоляционный верхний слой","основа: полиэстeр;температура гибкости на брусе R=25мм не менее -20; толщина 1м² не менее 3,8мм","м2",{"$f":"1730.022/580*L123","v":{"v":1730.022,"d":"1,730 "}},{"v":8789.44,"d":"8,789 "},{"v":8209.44,"d":"8,209 "},{"v":580,"d":"580 "},null,{"v":168,"d":"168 "},null,null,1,"КПД, 1 Каркас","Перепривязка",{"v":5336.136,"d":"5,336 "},{"v":4194.202896000001,"d":"4,194 "},{"v":423.4,"d":"423 "},{"$f":"SUM(IG123,#REF!,#REF!,#REF!,#REF!,#REF!,#REF!,#REF!)","v":{"$error":"#REF!"}},{"$error":"#REF!"},{"$nulls":150},"2023-02-01","2023-02-15","2024-09-23","2023-04-01","2022-10-30","2024-08-30","2023-04-01","2022-10-30","2024-08-30","2023-04-01","2022-10-30","2024-08-30","2023-04-01","2022-10-30","2024-08-30","2023-04-01","2022-10-30","2024-08-30","2023-04-01","2022-10-30","2024-08-30","2023-04-01","2022-11-01","2024-07-30","2023-04-01","2022-11-01","2024-07-30","2023-04-01","2022-11-01","2024-07-30","2023-04-01","2024-01-10","2025-09-01","2023-04-01","2024-01-10","2025-09-01","2023-04-01","2023-04-01","2024-12-01","2023-04-01","2023-04-01","2024-12-01","2023-04-01","2023-04-01","2024-12-01","2023-04-01","2023-04-01","2024-12-01",null,"АБ-1","АБ-1","АБСт",null,"-",{"$nulls":12},0,{"$f":"IF(YEAR(#REF!)=HU$8,$J123,0)","v":{"$error":"#REF!"}},{"$f":"IF(AND(YEAR(#REF!)<=HU$8,YEAR(#REF!)>HU$8),$J123,0)","v":{"$error":"#REF!"}},{"$nulls":8},{"v":865.011,"d":"865"},{"v":865.011,"d":"865"}]
[268,"13.1.2.10","СК00.01.1.01.2","ЖК \"Салават Купере\" Квартал №1 ж/д 1-2",null,"Материал рулонный кровельный гидроизоляционный нижний слой","основа: полиэстeр;температура гибкости на брусе R=25мм не менее -20; толщина 1м² не менее 2,8мм","м2",{"$f":"1243.267/580*L124","v":{"v":1243.2670000000003,"d":"1,243 "}},{"v":8789.44,"d":"8,789 "},{"v":8209.44,"d":"8,209 "},{"v":580,"d":"580 "},null,{"v":168,"d":"168 "},null,null,1,"КПД, 1 Каркас","Перепривязка",{"v":5336.136,"d":"5,336 "},{"v":4194.202896000001,"d":"4,194 "},{"v":423.4,"d":"423 "},{"$f":"SUM(IG124,#REF!,#REF!,#REF!,#REF!,#REF!,#REF!,#REF!)","v":{"$error":"#REF!"}},{"$error":"#REF!"},{"$nulls":150},"2023-02-01","2023-02-15","2024-09-23","2023-04-01","2022-10-30","2024-08-30","2023-04-01","2022-10-30","2024-08-30","2023-04-01","2022-10-30","2024-08-30","2023-04-01","2022-10-30","2024-08-30","2023-04-01","2022-10-30","2024-08-30","2023-04-01","2022-10-30","2024-08-30","2023-04-01","2022-11-01","2024-07-30","2023-04-01","2022-11-01","2024-07-30","2023-04-01","2022-11-01","2024-07-30","2023-04-01","2024-01-10","2025-09-01","2023-04-01","2024-01-10","2025-09-01","2023-04-01","2023-04-01","2024-12-01","2023-04-01","2023-04-01","2024-12-01","2023-04-01","2023-04-01","2024-12-01","2023-04-01","2023-04-01","2024-12-01",null,"АБ-1","АБ-1","АБСт",null,"-",{"$nulls":12},0,{"$f":"IF(YEAR(#REF!)=HU$8,$J124,0)","v":{"$error":"#REF!"}},{"$f":"IF(AND(YEAR(#REF!)<=HU$8,YEAR(#REF!)>HU$8),$J124,0)","v":{"$error":"#REF!"}},{"$nulls":8},{"v":621.6335000000001,"d":"622"},{"v":621.6335000000001,"d":"622"}]
[269,"13.1.2.11","СК00.01.1.01.3","ЖК \"Салават Купере\" Квартал №1 ж/д 1-3",null,"Плиты теплоизоляционные пенополистирольные ППС-25 150мм",null,"м3",{"$f":"140.294/580*L125","v":{"v":140.294,"d":"140 "}},{"v":6057.84,"d":"6,058 "},{"v":5477.84,"d":"5,478 "},{"v":580,"d":"580 "},null,{"v":112,"d":"112 "},null,null,1,"КПД, 1 Каркас","Перепривязка",{"v":4053.6016,"d":"4,054 "},{"v":3186.1308576,"d":"3,186 "},{"v":423.4,"d":"423 "},{"$f":"SUM(IG125,#REF!,#REF!,#REF!,#REF!,#REF!,#REF!,#REF!)","v":{"$error":"#REF!"}},{"$error":"#REF!"},{"$nulls":150},"2022-12-01","2022-12-15","2024-03-25","2023-04-01","2022-10-30","2024-08-30","2023-04-01","2022-10-30","2024-08-30","2023-04-01","2022-10-30","2024-08-30","2023-04-01","2022-10-30","2024-08-30","2023-04-01","2022-10-30","2024-08-30","2023-04-01","2022-10-30","2024-08-30","2023-04-01","2022-09-01","2024-07-30","2023-04-01","2022-09-01","2024-07-30","2023-04-01","2022-09-01","2024-07-30","2023-04-01","2024-01-10","2025-09-01","2023-04-01","2024-01-10","2025-09-01","2023-04-01","2023-04-01","2024-12-01","2023-04-01","2023-04-01","2024-12-01","2023-04-01","2023-04-01","2024-12-01","2023-04-01","2023-04-01","2024-12-01",null,"АБ-1","АБ-1","АБСт",null,"-",{"$nulls":12},0,{"$f":"IF(YEAR(#REF!)=HU$8,$J125,0)","v":{"$error":"#REF!"}},{"$f":"IF(AND(YEAR(#REF!)<=HU$8,YEAR(#REF!)>HU$8),$J125,0)","v":{"$error":"#REF!"}},{"$nulls":6},{"$f":"I125","v":{"v":140.294,"d":"140"}}]
[269,"13.1.2.11","СК00.01.1.01.3","ЖК \"Салават Купере\" Квартал №1 ж/д 1-3",null,"Керамзит М600",null,"м3",{"$f":"142.129/580*L126","v":{"v":142.129,"d":"142 "}},{"$f":"K126+L126","v":{"v":6057.84,"d":"6,058 "}},{"v":5477.84,"d":"5,478 "},{"v":580,"d":"580 "},null,{"v":112,"d":"112 "},null,null,1,"КПД, 1 Каркас","Перепривязка",{"v":4053.6016,"d":"4,054 "},{"$f":"T126*0.786","v":{"v":3186.1308576,"d":"3,186 "}},{"v":423.4,"d":"423 "},{"$f":"SUM(IG126,#REF!,#REF!,#REF!,#REF!,#REF!,#REF!,#REF!)","v":{"$error":"#REF!"}},{"$error":"#REF!"},{"$nulls":150},"2022-12-01",{"$f":"FS126+14","v":"2022-12-15"},"2024-03-25","2023-04-01","2022-10-30","2024-08-30","2023-04-01","2022-10-30","2024-08-30","2023-04-01","2022-10-30","2024-08-30","2023-04-01","2022-10-30","2024-08-30","2023-04-01","2022-10-30","2024-08-30","2023-04-01","2022-10-30","2024-08-30","2023-04-01","2022-09-01","2024-07-30","2023-04-01","2022-09-01","2024-07-30","2023-04-01","2022-09-01","2024-07-30","2023-04-01","2024-01-10","2025-09-01","2023-04-01","2024-01-10","2025-09-01","2023-04-01","2023-04-01","2024-12-01","2023-04-01","2023-04-01","2024-12-01","2023-04-01","2023-04-01","2024-12-01","2023-04-01","2023-04-01","2024-12-01",null,"АБ-1","АБ-1","АБСт",null,"-",{"$nulls":12},{"$f":"SUM(HU126:IF126)","v":0},{"$f":"IF(YEAR(#REF!)=HU$8,$J126,0)","v":{"$error":"#REF!"}},{"$f":"IF(AND(YEAR(#REF!)<=HU$8,YEAR(#REF!)>HU$8),$J126,0)","v":{"$error":"#REF!"}},{"$nulls":6},{"$f":"I126","v":{"v":142.129,"d":"142"}}]
[269,"13.1.2.11","СК00.01.1.01.3","ЖК \"Салават Купере\" Квартал №1 ж/д 1-3",null,"Плиты теплоизоляционные пенополистирольные экструдированные 100мм",null,"м3",{"$f":"14.146/580*L127","v":{"v":14.146,"d":"14 "}},{"v":6057.84,"d":"6,058 "},{"v":5477.84,"d":"5,478 "},{"v":580,"d":"580 "},null,{"v":112,"d":"112 "},null,null,1,"КПД, 1 Каркас","Перепривязка",{"v":4053.6016,"d":"4,054 "},{"v":3186.1308576,"d":"3,186 "},{"v":423.4,"d":"423 "},{"$f":"SUM(IG127,#REF!,#REF!,#REF!,#REF!,#REF!,#REF!,#REF!)","v":{"$error":"#REF!"}},{"$error":"#REF!"},{"$nulls":150},"2022-12-01","2022-12-15","2024-03-25","2023-04-01","2022-10-30","2024-08-30","2023-04-01","2022-10-30","2024-08-30","2023-04-01","2022-10-30","2024-08-30","2023-04-01","2022-10-30","2024-08-30","2023-04-01","2022-10-30","2024-08-30","2023-04-01","2022-10-30","2024-08-30","2023-04-01","2022-09-01","2024-07-30","2023-04-01","2022-09-01","2024-07-30","2023-04-01","2022-09-01","2024-07-30","2023-04-01","2024-01-10","2025-09-01","2023-04-01","2024-01-10","2025-09-01","2023-04-01","2023-04-01","2024-12-01","2023-04-01","2023-04-01","2024-12-01","2023-04-01","2023-04-01","2024-12-01","2023-04-01","2023-04-01","2024-12-01",null,"АБ-1","АБ-1","АБСт",null,"-",{"$nulls":12},0,{"$f":"IF(YEAR(#REF!)=HU$8,$J127,0)","v":{"$error":"#REF!"}},{"$f":"IF(AND(YEAR(#REF!)<=HU$8,YEAR(#REF!)>HU$8),$J127,0)","v":{"$error":"#REF!"}},{"$nulls":6},{"v":14.146,"d":"14"}]
[269,"13.1.2.11","СК00.01.1.01.3","ЖК \"Салават Купере\" Квартал №1 ж/д 1-3",null,"Плиты теплоизоляционные пенополистирольные экструдированные 50мм",null,"м3",{"$f":"3.939/580*L128","v":{"v":3.9389999999999996,"d":"4 "}},{"v":6057.84,"d":"6,058 "},{"v":5477.84,"d":"5,478 "},{"v":580,"d":"580 "},null,{"v":112,"d":"112 "},null,null,1,"КПД, 1 Каркас","Перепривязка",{"v":4053.6016,"d":"4,054 "},{"v":3186.1308576,"d":"3,186 "},{"v":423.4,"d":"423 "},{"$f":"SUM(IG128,#REF!,#REF!,#REF!,#REF!,#REF!,#REF!,#REF!)","v":{"$error":"#REF!"}},{"$error":"#REF!"},{"$nulls":150},"2022-12-01","2022-12-15","2024-03-25","2023-04-01","2022-10-30","2024-08-30","2023-04-01","2022-10-30","2024-08-30","2023-04-01","2022-10-30","2024-08-30","2023-04-01","2022-10-30","2024-08-30","2023-04-01","2022-10-30","2024-08-30","2023-04-01","2022-10-30","2024-08-30","2023-04-01","2022-09-01","2024-07-30","2023-04-01","2022-09-01","2024-07-30","2023-04-01","2022-09-01","2024-07-30","2023-04-01","2024-01-10","2025-09-01","2023-04-01","2024-01-10","2025-09-01","2023-04-01","2023-04-01","2024-12-01","2023-04-01","2023-04-01","2024-12-01","2023-04-01","2023-04-01","2024-12-01","2023-04-01","2023-04-01","2024-12-01",null,"АБ-1","АБ-1","АБСт",null,"-",{"$nulls":12},0,{"$f":"IF(YEAR(#REF!)=HU$8,$J128,0)","v":{"$error":"#REF!"}},{"$f":"IF(AND(YEAR(#REF!)<=HU$8,YEAR(#REF!)>HU$8),$J128,0)","v":{"$error":"#REF!"}},{"$nulls":6},{"v":3.9389999999999996,"d":"4"}]
[269,"13.1.2.11","СК00.01.1.01.3","ЖК \"Салават Купере\" Квартал №1 ж/д 1-3",null,"Материал рулонный кровельный гидроизоляционный верхний слой","основа: полиэстeр;температура гибкости на брусе R=25мм не менее -20; толщина 1м² не менее 3,8мм","м2",{"$f":"1730.022/580*L129","v":{"v":1730.022,"d":"1,730 "}},{"v":6057.84,"d":"6,058 "},{"v":5477.84,"d":"5,478 "},{"v":580,"d":"580 "},null,{"v":112,"d":"112 "},null,null,1,"КПД, 1 Каркас","Перепривязка",{"v":4053.6016,"d":"4,054 "},{"v":3186.1308576,"d":"3,186 "},{"v":423.4,"d":"423 "},{"$f":"SUM(IG129,#REF!,#REF!,#REF!,#REF!,#REF!,#REF!,#REF!)","v":{"$error":"#REF!"}},{"$error":"#REF!"},{"$nulls":150},"2022-12-01","2022-12-15","2024-03-25","2023-04-01","2022-10-30","2024-08-30","2023-04-01","2022-10-30","2024-08-30","2023-04-01","2022-10-30","2024-08-30","2023-04-01","2022-10-30","2024-08-30","2023-04-01","2022-10-30","2024-08-30","2023-04-01","2022-10-30","2024-08-30","2023-04-01","2022-09-01","2024-07-30","2023-04-01","2022-09-01","2024-07-30","2023-04-01","2022-09-01","2024-07-30","2023-04-01","2024-01-10","2025-09-01","2023-04-01","2024-01-10","2025-09-01","2023-04-01","2023-04-01","2024-12-01","2023-04-01","2023-04-01","2024-12-01","2023-04-01","2023-04-01","2024-12-01","2023-04-01","2023-04-01","2024-12-01",null,"АБ-1","АБ-1","АБСт",null,"-",{"$nulls":12},0,{"$f":"IF(YEAR(#REF!)=HU$8,$J129,0)","v":{"$error":"#REF!"}},{"$f":"IF(AND(YEAR(#REF!)<=HU$8,YEAR(#REF!)>HU$8),$J129,0)","v":{"$error":"#REF!"}},{"$nulls":6},{"v":1730.022,"d":"1,730"}]
[269,"13.1.2.11","СК00.01.1.01.3","ЖК \"Салават Купере\" Квартал №1 ж/д 1-3",null,"Материал рулонный кровельный гидроизоляционный нижний слой","основа: полиэстeр;температура гибкости на брусе R=25мм не менее -20; толщина 1м² не менее 2,8мм","м2",{"$f":"1243.267/580*L130","v":{"v":1243.2670000000003,"d":"1,243 "}},{"v":6057.84,"d":"6,058 "},{"v":5477.84,"d":"5,478 "},{"v":580,"d":"580 "},null,{"v":112,"d":"112 "},null,null,1,"КПД, 1 Каркас","Перепривязка",{"v":4053.6016,"d":"4,054 "},{"v":3186.1308576,"d":"3,186 "},{"v":423.4,"d":"423 "},{"$f":"SUM(IG130,#REF!,#REF!,#REF!,#REF!,#REF!,#REF!,#REF!)","v":{"$error":"#REF!"}},{"$error":"#REF!"},{"$nulls":150},"2022-12-01","2022-12-15","2024-03-25","2023-04-01","2022-10-30","2024-08-30","2023-04-01","2022-10-30","2024-08-30","2023-04-01","2022-10-30","2024-08-30","2023-04-01","2022-10-30","2024-08-30","2023-04-01","2022-10-30","2024-08-30","2023-04-01","2022-10-30","2024-08-30","2023-04-01","2022-09-01","2024-07-30","2023-04-01","2022-09-01","2024-07-30","2023-04-01","2022-09-01","2024-07-30","2023-04-01","2024-01-10","2025-09-01","2023-04-01","2024-01-10","2025-09-01","2023-04-01","2023-04-01","2024-12-01","2023-04-01","2023-04-01","2024-12-01","2023-04-01","2023-04-01","2024-12-01","2023-04-01","2023-04-01","2024-12-01",null,"АБ-1","АБ-1","АБСт",null,"-",{"$nulls":12},0,{"$f":"IF(YEAR(#REF!)=HU$8,$J130,0)","v":{"$error":"#REF!"}},{"$f":"IF(AND(YEAR(#REF!)<=HU$8,YEAR(#REF!)>HU$8),$J130,0)","v":{"$error":"#REF!"}},{"$nulls":6},{"v":1243.2670000000003,"d":"1,243"}]
[267,"13.1.2.12","СК00.01.1.02.1","ЖК \"Салават Купере\" Квартал №1 ж/д 2-1",null,"Плиты теплоизоляционные пенополистирольные ППС-25 150мм",null,"м3",{"$f":"140.294/580*L131","v":{"v":96.7544827586207,"d":"97 "}},{"v":8817.92,"d":"8,818 "},{"v":8417.92,"d":"8,418 "},{"v":400,"d":"400 "},null,{"v":160,"d":"160 "},null,null,1,"КПД, 1 Каркас","Перепривязка",{"v":5471.648,"d":"5,472 "},{"v":4300.715328,"d":"4,301 "},{"v":292,"d":"292 "},{"$f":"SUM(IG131,#REF!,#REF!,#REF!,#REF!,#REF!,#REF!,#REF!)","v":{"$error":"#REF!"}},{"$error":"#REF!"},{"$nulls":150},"2023-06-01","2023-06-15","2025-01-21","2023-07-01","2023-02-01","2024-10-30","2023-07-01","2023-02-01","2024-10-30","2023-07-01","2023-02-01","2024-10-30","2023-07-01","2023-02-01","2024-10-30","2023-07-01","2023-02-01","2024-10-30","2023-07-01","2023-02-01","2024-10-30","2023-07-01","2022-12-01","2024-10-30","2023-07-01","2022-12-01","2024-10-30","2023-07-01","2022-12-01","2024-10-30","2023-07-01","2024-06-30","2025-11-30","2023-07-01","2024-06-30","2025-11-30","2023-07-01","2023-07-01","2024-12-30","2023-07-01","2023-07-01","2024-12-30","2023-07-01","2023-07-01","2024-12-30","2023-07-01","2023-07-01","2024-12-30",null,"АБ-1","АБ-1","АБСт",null,"-",{"$nulls":12},0,{"$f":"IF(YEAR(#REF!)=HU$8,$J131,0)","v":{"$error":"#REF!"}},{"$f":"IF(AND(YEAR(#REF!)<=HU$8,YEAR(#REF!)>HU$8),$J131,0)","v":{"$error":"#REF!"}},{"$nulls":9},{"$f":"I131","v":{"v":96.7544827586207,"d":"97"}}]
[267,"13.1.2.12","СК00.01.1.02.1","ЖК \"Салават Купере\" Квартал №1 ж/д 2-1",null,"Керамзит М600",null,"м3",{"$f":"142.129/580*L132","v":{"v":98.02,"d":"98 "}},{"$f":"K132+L132","v":{"v":8817.92,"d":"8,818 "}},{"v":8417.92,"d":"8,418 "},{"v":400,"d":"400 "},null,{"v":160,"d":"160 "},null,null,1,"КПД, 1 Каркас","Перепривязка",{"v":5471.648,"d":"5,472 "},{"$f":"T132*0.786","v":{"v":4300.715328,"d":"4,301 "}},{"v":292,"d":"292 "},{"$f":"SUM(IG132,#REF!,#REF!,#REF!,#REF!,#REF!,#REF!,#REF!)","v":{"$error":"#REF!"}},{"$error":"#REF!"},{"$nulls":150},"2023-06-01",{"$f":"FS132+14","v":"2023-06-15"},"2025-01-21","2023-07-01","2023-02-01","2024-10-30","2023-07-01","2023-02-01","2024-10-30","2023-07-01","2023-02-01","2024-10-30","2023-07-01","2023-02-01","2024-10-30","2023-07-01","2023-02-01","2024-10-30","2023-07-01","2023-02-01","2024-10-30","2023-07-01","2022-12-01","2024-10-30","2023-07-01","2022-12-01","2024-10-30","2023-07-01","2022-12-01","2024-10-30","2023-07-01","2024-06-30","2025-11-30","2023-07-01","2024-06-30","2025-11-30","2023-07-01","2023-07-01","2024-12-30","2023-07-01","2023-07-01","2024-12-30","2023-07-01","2023-07-01","2024-12-30","2023-07-01","2023-07-01","2024-12-30",null,"АБ-1","АБ-1","АБСт",null,"-",{"$nulls":12},{"$f":"SUM(HU132:IF132)","v":0},{"$f":"IF(YEAR(#REF!)=HU$8,$J132,0)","v":{"$error":"#REF!"}},{"$f":"IF(AND(YEAR(#REF!)<=HU$8,YEAR(#REF!)>HU$8),$J132,0)","v":{"$error":"#REF!"}},{"$nulls":9},{"$f":"I132","v":{"v":98.02,"d":"98"}}]
[267,"13.1.2.12","СК00.01.1.02.1","ЖК \"Салават Купере\" Квартал №1 ж/д 2-1",null,"Плиты теплоизоляционные пенополистирольные экструдированные 100мм",null,"м3",{"$f":"14.146/580*L133","v":{"v":9.755862068965518,"d":"10 "}},{"v":8817.92,"d":"8,818 "},{"v":8417.92,"d":"8,418 "},{"v":400,"d":"400 "},null,{"v":160,"d":"160 "},null,null,1,"КПД, 1 Каркас","Перепривязка",{"v":5471.648,"d":"5,472 "},{"v":4300.715328,"d":"4,301 "},{"v":292,"d":"292 "},{"$f":"SUM(IG133,#REF!,#REF!,#REF!,#REF!,#REF!,#REF!,#REF!)","v":{"$error":"#REF!"}},{"$error":"#REF!"},{"$nulls":150},"2023-06-01","2023-06-15","2025-01-21","2023-07-01","2023-02-01","2024-10-30","2023-07-01","2023-02-01","2024-10-30","2023-07-01","2023-02-01","2024-10-30","2023-07-01","2023-02-01","2024-10-30","2023-07-01","2023-02-01","2024-10-30","2023-07-01","2023-02-01","2024-10-30","2023-07-01","2022-12-01","2024-10-30","2023-07-01","2022-12-01","2024-10-30","2023-07-01","2022-12-01","2024-10-30","2023-07-01","2024-06-30","2025-11-30","2023-07-01","2024-06-30","2025-11-30","2023-07-01","2023-07-01","2024-12-30","2023-07-01","2023-07-01","2024-12-30","2023-07-01","2023-07-01","2024-12-30","2023-07-01","2023-07-01","2024-12-30",null,"АБ-1","АБ-1","АБСт",null,"-",{"$nulls":12},0,{"$f":"IF(YEAR(#REF!)=HU$8,$J133,0)","v":{"$error":"#REF!"}},{"$f":"IF(AND(YEAR(#REF!)<=HU$8,YEAR(#REF!)>HU$8),$J133,0)","v":{"$error":"#REF!"}},{"$nulls":9},{"v":9.755862068965518,"d":"10"}]
[267,"13.1.2.12","СК00.01.1.02.1","ЖК \"Салават Купере\" Квартал №1 ж/д 2-1",null,"Плиты теплоизоляционные пенополистирольные экструдированные 50мм",null,"м3",{"$f":"3.939/580*L134","v":{"v":2.716551724137931,"d":"3 "}},{"v":8817.92,"d":"8,818 "},{"v":8417.92,"d":"8,418 "},{"v":400,"d":"400 "},null,{"v":160,"d":"160 "},null,null,1,"КПД, 1 Каркас","Перепривязка",{"v":5471.648,"d":"5,472 "},{"v":4300.715328,"d":"4,301 "},{"v":292,"d":"292 "},{"$f":"SUM(IG134,#REF!,#REF!,#REF!,#REF!,#REF!,#REF!,#REF!)","v":{"$error":"#REF!"}},{"$error":"#REF!"},{"$nulls":150},"2023-06-01","2023-06-15","2025-01-21","2023-07-01","2023-02-01","2024-10-30","2023-07-01","2023-02-01","2024-10-30","2023-07-01","2023-02-01","2024-10-30","2023-07-01","2023-02-01","2024-10-30","2023-07-01","2023-02-01","2024-10-30","2023-07-01","2023-02-01","2024-10-30","2023-07-01","2022-12-01","2024-10-30","2023-07-01","2022-12-01","2024-10-30","2023-07-01","2022-12-01","2024-10-30","2023-07-01","2024-06-30","2025-11-30","2023-07-01","2024-06-30","2025-11-30","2023-07-01","2023-07-01","2024-12-30","2023-07-01","2023-07-01","2024-12-30","2023-07-01","2023-07-01","2024-12-30","2023-07-01","2023-07-01","2024-12-30",null,"АБ-1","АБ-1","АБСт",null,"-",{"$nulls":12},0,{"$f":"IF(YEAR(#REF!)=HU$8,$J134,0)","v":{"$error":"#REF!"}},{"$f":"IF(AND(YEAR(#REF!)<=HU$8,YEAR(#REF!)>HU$8),$J134,0)","v":{"$error":"#REF!"}},{"$nulls":9},{"v":2.716551724137931,"d":"3"}]
[267,"13.1.2.12","СК00.01.1.02.1","ЖК \"Салават Купере\" Квартал №1 ж/д 2-1",null,"Материал рулонный кровельный гидроизоляционный верхний слой","основа: полиэстeр;температура гибкости на брусе R=25мм не менее -20; толщина 1м² не менее 3,8мм","м2",{"$f":"1730.022/580*L135","v":{"v":1193.1186206896552,"d":"1,193 "}},{"$f":"K135+L135","v":{"v":8817.92,"d":"8,818 "}},{"v":8417.92,"d":"8,418 "},{"v":400,"d":"400 "},null,{"v":160,"d":"160 "},null,null,1,"КПД, 1 Каркас","Перепривязка",{"v":5471.648,"d":"5,472 "},{"$f":"T135*0.786","v":{"v":4300.715328,"d":"4,301 "}},{"v":292,"d":"292 "},{"$f":"SUM(IG135,#REF!,#REF!,#REF!,#REF!,#REF!,#REF!,#REF!)","v":{"$error":"#REF!"}},{"$error":"#REF!"},{"$nulls":150},"2023-06-01",{"$f":"FS135+14","v":"2023-06-15"},"2025-01-21","2023-07-01","2023-02-01","2024-10-30","2023-07-01","2023-02-01","2024-10-30","2023-07-01","2023-02-01","2024-10-30","2023-07-01","2023-02-01","2024-10-30","2023-07-01","2023-02-01","2024-10-30","2023-07-01","2023-02-01","2024-10-30","2023-07-01","2022-12-01","2024-10-30","2023-07-01","2022-12-01","2024-10-30","2023-07-01","2022-12-01","2024-10-30","2023-07-01","2024-06-30","2025-11-30","2023-07-01","2024-06-30","2025-11-30","2023-07-01","2023-07-01","2024-12-30","2023-07-01","2023-07-01","2024-12-30","2023-07-01","2023-07-01","2024-12-30","2023-07-01","2023-07-01","2024-12-30",null,"АБ-1","АБ-1","АБСт",null,"-",{"$nulls":12},{"$f":"SUM(HU135:IF135)","v":0},{"$f":"IF(YEAR(#REF!)=HU$8,$J135,0)","v":{"$error":"#REF!"}},{"$f":"IF(AND(YEAR(#REF!)<=HU$8,YEAR(#REF!)>HU$8),$J135,0)","v":{"$error":"#REF!"}},{"$nulls":9},{"v":1193.1186206896552,"d":"1,193"}]
[267,"13.1.2.12","СК00.01.1.02.1","ЖК \"Салават Купере\" Квартал №1 ж/д 2-1",null,"Материал рулонный кровельный гидроизоляционный нижний слой","основа: полиэстeр;температура гибкости на брусе R=25мм не менее -20; толщина 1м² не менее 2,8мм","м2",{"$f":"1243.267/580*L136","v":{"v":857.4255172413795,"d":"857 "}},{"v":8817.92,"d":"8,818 "},{"v":8417.92,"d":"8,418 "},{"v":400,"d":"400 "},null,{"v":160,"d":"160 "},null,null,1,"КПД, 1 Каркас","Перепривязка",{"v":5471.648,"d":"5,472 "},{"v":4300.715328,"d":"4,301 "},{"v":292,"d":"292 "},{"$f":"SUM(IG136,#REF!,#REF!,#REF!,#REF!,#REF!,#REF!,#REF!)","v":{"$error":"#REF!"}},{"$error":"#REF!"},{"$nulls":150},"2023-06-01","2023-06-15","2025-01-21","2023-07-01","2023-02-01","2024-10-30","2023-07-01","2023-02-01","2024-10-30","2023-07-01","2023-02-01","2024-10-30","2023-07-01","2023-02-01","2024-10-30","2023-07-01","2023-02-01","2024-10-30","2023-07-01","2023-02-01","2024-10-30","2023-07-01","2022-12-01","2024-10-30","2023-07-01","2022-12-01","2024-10-30","2023-07-01","2022-12-01","2024-10-30","2023-07-01","2024-06-30","2025-11-30","2023-07-01","2024-06-30","2025-11-30","2023-07-01","2023-07-01","2024-12-30","2023-07-01","2023-07-01","2024-12-30","2023-07-01","2023-07-01","2024-12-30","2023-07-01","2023-07-01","2024-12-30",null,"АБ-1","АБ-1","АБСт",null,"-",{"$nulls":12},0,{"$f":"IF(YEAR(#REF!)=HU$8,$J136,0)","v":{"$error":"#REF!"}},{"$f":"IF(AND(YEAR(#REF!)<=HU$8,YEAR(#REF!)>HU$8),$J136,0)","v":{"$error":"#REF!"}},{"$nulls":9},{"v":857.4255172413795,"d":"857"}]
[{"$nulls":5},"Плиты теплоизоляционные пенополистирольные ППС-25 150мм",null,"м3",{"$f":"SUM(IK137:IV137)","v":{"v":3990.4717409310347,"d":"3,990 "}},{"$nulls":235},{"$f":"SUMIF($F$13:$F$136,$F$14,IK13:IK136)","v":0},0,{"v":251.034,"d":"251"},{"v":319.24659786206894,"d":"319"},{"v":172.35359786206897,"d":"172"},{"v":312.647597862069,"d":"313"},{"v":96.54887948275862,"d":"97"},{"v":272.62268720689656,"d":"273"},{"v":251.99584091379313,"d":"252"},{"v":543.0865400172414,"d":"543"},{"v":708.0565614137932,"d":"708"},{"v":1062.879438310345,"d":"1063"}]
[{"$nulls":5},"Керамзит М600",null,"м3",{"v":3396.6039984999998,"d":"3,397 "},{"$nulls":235},{"$f":"SUMIF($F$13:$F$136,$F$15,IK13:IK136)","v":0},0,{"v":246.599,"d":"247"},{"v":192.651,"d":"193"},{"v":73.09349999999999,"d":"73"},{"v":215.22249999999997,"d":"215"},{"v":97.8117075,"d":"98"},{"v":276.18850349999997,"d":"276"},{"v":255.29186475,"d":"255"},{"v":550.1899357499999,"d":"550"},{"v":565.046071,"d":"565"},{"v":924.509916,"d":"925"}]
[{"$nulls":3},"Итого",null,"Плиты теплоизоляционные пенополистирольные экструдированные 100мм",null,"м3",{"v":411.7512804482759,"d":"412 "},{"$nulls":235},{"$f":"SUMIF($F$13:$F$136,$F$16,IK13:IK136)","v":0},0,{"v":28.292,"d":"28"},{"v":38.59760489655173,"d":"39"},{"v":17.378604896551725,"d":"17"},{"v":31.524604896551725,"d":"32"},{"v":9.735130862068967,"d":"10"},{"v":27.488848655172415,"d":"27"},{"v":25.409020810344828,"d":"25"},{"v":54.760019637931045,"d":"55"},{"v":71.39413031034483,"d":"71"},{"v":107.17131548275863,"d":"107"}]
[{"$nulls":5},"Плиты теплоизоляционные пенополистирольные экструдированные 50мм",null,"м3",{"v":114.65349170689655,"d":"115 "},{"$nulls":16},{"$f":"IE140+#REF!+IU140+#REF!+#REF!+#REF!+#REF!+#REF!","v":{"$error":"#REF!"}},{"$f":"J140-Z140","v":{"$error":"#REF!"}},{"$nulls":217},{"$f":"SUMIF($F$13:$F$136,$F$17,IK13:IK136)","v":0},0,{"v":7.878,"d":"8"},{"v":10.747629413793103,"d":"11"},{"v":4.839129413793103,"d":"5"},{"v":8.778129413793103,"d":"9"},{"v":2.710779051724138,"d":"3"},{"v":7.654359879310345,"d":"8"},{"v":7.07522500862069,"d":"7"},{"v":15.248106698275864,"d":"15"},{"v":19.87992925862069,"d":"20"},{"v":29.842203568965523,"d":"30"}]
[{"$nulls":5},"Материал рулонный кровельный гидроизоляционный верхний слой","основа: полиэстeр;температура гибкости на брусе R=25мм не менее -20; толщина 1м² не менее 3,8мм","м2",{"v":50356.19777348275,"d":"50,356 "},{"$nulls":235},{"$f":"SUMIF($F$13:$F$136,$F$18,IK13:IK136)","v":0},0,{"v":3460.044,"d":"3460"},{"v":4720.394854965517,"d":"4720"},{"v":2125.361854965517,"d":"2125"},{"v":3855.383854965517,"d":"3855"},{"v":1190.5832436206897,"d":"1191"},{"v":3361.820509551724,"d":"3362"},{"v":3107.4625336034483,"d":"3107"},{"v":6697.019559879311,"d":"6697"},{"v":8731.331550103447,"d":"8731"},{"v":13106.795811827586,"d":"13107"}]
[{"$nulls":5},"Материал рулонный кровельный гидроизоляционный нижний слой","основа: полиэстeр;температура гибкости на брусе R=25мм не менее -20; толщина 1м² не менее 2,8мм","м2",{"v":36188.09410356897,"d":"36,188 "},{"$nulls":235},{"$f":"SUMIF($F$13:$F$136,$F$19,IK13:IK136)","v":0},0,{"v":2486.534,"d":"2487"},{"v":3392.2754451379315,"d":"3392"},{"v":1527.3749451379313,"d":"1527"},{"v":2770.6419451379315,"d":"2771"},{"v":855.6034880172415,"d":"856"},{"v":2415.946444293104,"d":"2416"},{"v":2233.1540418362074,"d":"2233"},{"v":4812.761581732759,"d":"4813"},{"v":6274.704242086207,"d":"6275"},{"v":9419.097970189656,"d":"9419"}]
[]
[]
[{"$nulls":25},{"$f":"IE145+#REF!+IU145+#REF!+#REF!+#REF!+#REF!+#REF!","v":{"$error":"#REF!"}},{"$f":"J145-Z145","v":{"$error":"#REF!"}}]
[]
[{"$nulls":25},{"$f":"IE147+#REF!+IU147+#REF!+#REF!+#REF!+#REF!+#REF!","v":{"$error":"#REF!"}},{"$f":"J147-Z147","v":{"$error":"#REF!"}}]